{"text_format":"1","workbook":"xlsx","n_sheets":8,"sheets":["Menu","State1&State2","Max. ARC Revenue Calc","State3","State4","ExchangeLevel ARC","CAF Calc","Footnotes"],"not_rendered":{"charts":0,"images":0,"macros":1,"external_links":0,"defined_names":29,"comments":0,"pivot_tables":0},"unopened":[],"bounds":{"document_bytes":16777216,"sheet_cells":100000,"rows_first":2000,"rows_last":500,"rows_between":2000,"halvings":0,"cell_chars":16384,"cell_head_chars":4096},"cells_cut":0,"cells_raw":0,"read":"whole","date_system":"1900"}

{"sheet":"Menu","index":0,"n_rows":4,"n_cols":6,"rows_kept":4,"cut":false,"hidden":false,"merged":[[9,5,10,5],[33,5,34,5],[17,5,18,5]]}
[]
[null,null,null,null,null,"KEY (Erase text & color before filing):"]
[null,null,null,null,null,"Label / Date Change"]
[null,null,null,null,null,"Formula changes / mandated by FCC rules"]

{"sheet":"State1&State2","index":1,"n_rows":28,"n_cols":24,"rows_kept":28,"cut":false,"hidden":false,"merged":[[5,4,5,14],[5,25,6,26],[5,27,6,28],[5,29,6,30],[6,4,6,13],[6,19,6,21]]}
[null,27,"Filing Date:","2022-06-16"]
[null,null,"Holding Company:"]
[null,null,"Filing Name:"]
[]
[]
[null,null,null,null,"Rate Ceiling Component Charges Calculation ( 51.915(b)(11) )"]
[null,null,"Study Area","EXCHANGES","RESIDENCE / NP / BRI / SLB (excluding Lifeline)",null,null,null,null,null,null,null,null,null,"Total Crnt Yr","Max Total","Res / NP","SLB / BRI",null,"MULTI-LINE BUSINESS",null,null,"nonCentrex","Centrex"]
[null,null,null,null,"Res / NP","SLB / BRI",null,null,"Mandatory",null,null,null,null,null,"Rate Ceiling","Rate Ceiling","Previous","Previous",null,"nonCentrex","Centrex",null,"Previous","Previous"]
[null,null,null,null,"Tariff Period  ","Tariff Period  ","Stand-alone","Mandatory","Zone","State",null,null,"State ","Federal","Comp. Chgs","Comp. Chgs","Yr Tariffed","Yr Tariffed",null,"Tariff Period  ","Tariff Period  ","Federal","Yr Tariffed","Yr Tariffed"]
[null,null,null,null,"Projected Lines","Projected Lines","R1 rate","EAS","Charges","SLC","E911","TRS","USF","SLC","w/o ARC","Since 2012","Arc Rate","Arc Rate",null,"Projected Lines","Projected Lines","SLC-MLB","Arc Rate","Arc Rate"]
[null,null,null,"State1"]
[{"$f":"B12&\": \"&D12","v":"State1: Example 1"},"State1","S1StudyArea","Example 1",null,null,null,null,null,null,null,null,null,null,{"$f":"ROUND(SUM(G12:N12),2)","v":0}]
["State1: Example 2","State1","S1StudyArea","Example 2",null,null,null,null,null,null,null,null,null,null,0]
["State1: Example 3","State1","S1StudyArea","Example 3",null,null,null,null,null,null,null,null,null,null,0]
["State1: Example 4","State1","S1StudyArea","Example 4",null,null,null,null,null,null,null,null,null,null,0]
["State1: Example 5","State1","S1StudyArea","Example 5",null,null,null,null,null,null,null,null,null,null,0]
["State1: Example 6","State1","S1StudyArea","Example 6",null,null,null,null,null,null,null,null,null,null,0]
["State1: Example 7","State1","S1StudyArea","Example 7",null,null,null,null,null,null,null,null,null,null,0]
["State1: Example 8","State1","S1StudyArea","Example 8",null,null,null,null,null,null,null,null,null,null,0]
["State1: Example 9","State1","S1StudyArea","Example 9",null,null,null,null,null,null,null,null,null,null,0]
["State1: Example 10","State1","S1StudyArea","Example 10",null,null,null,null,null,null,null,null,null,null,0]
["State1: Example 11","State1","S1StudyArea","Example 11",null,null,null,null,null,null,null,null,null,null,0]
["State1: Example 12","State1","S1StudyArea","Example 12",null,null,null,null,null,null,null,null,null,null,0]
[]
[null,null,null,"State2"]
[{"$f":"B26&\": \"&D26","v":"State2: Example 1"},"State2","S2StudyArea","Example 1",null,null,null,null,null,null,null,null,null,null,{"$f":"ROUND(SUM(G26:N26),2)","v":0}]
[{"$f":"B27&\": \"&D27","v":"State2: Example 2"},"State2","S2StudyArea","Example 2",null,null,null,null,null,null,null,null,null,null,{"$f":"ROUND(SUM(G27:N27),2)","v":0}]
[null,"End"]

{"sheet":"Max. ARC Revenue Calc","index":2,"n_rows":24,"n_cols":13,"rows_kept":24,"cut":false,"hidden":true,"merged":[[19,0,20,0],[19,1,20,1],[19,5,19,7],[19,11,19,12],[19,2,19,4],[19,8,19,10]]}
["Filing Date:","2014-06-16"]
["Holding Company:"]
["Filing Name:"]
[]
[]
["Eligible Revenue - Current Yr Recovery",{"$f":"#REF!","v":{"$error":"#REF!"}}]
["Recovery Allocated to Res/SLB: ( 51.915(e)(4))",{"$f":"ROUND((VLOOKUP(\"Total\",A:C,3,FALSE)+VLOOKUP(\"Total\",A:F,6,FALSE))/(VLOOKUP(\"Total\",A:C,3,FALSE)+VLOOKUP(\"Total\",A:F,6,FALSE)+2*VLOOKUP(\"Total\",A:I,9,FALSE))*B6,2)","v":{"$error":"#DIV/0!"}}]
["Recovery Allocated to MLB: ( 51.915(e)(4))",{"$f":"B6-B7","v":{"$error":"#REF!"}}]
[]
["Maximum ARC opportunity Revenue",{"$f":"VLOOKUP(\"Total\",A:M,13,FALSE)","v":0}]
["Maximum CAF ICC Support",{"$f":"'CAF Calc'!J10","v":{"$error":"#REF!"}}]
[]
["Residential Rate Ceiling: ( 51.915(b)(12) )",30]
["Maximum MLB SLC+ARC ( 51.915(e)(5)(iv) )",12.2]
["Max ARC for current year:  Res/SLB",2]
["Max ARC for current year:  MLB",4]
["Max ARC increase per year:  Res/SLB",0.5]
["Max ARC increase per year:  MLB",1]
[]
["Study Area Names","Study Area","Primary/Non Primary Residential/BRI",null,null,"SLB",null,null,"MLB",null,null,"Total Eligible Lines"]
[null,null,"All Tariff Period  Projected Lines","ARC Eligible Tariff Period Projected Lines","Maximum ARC opportunity Revenue","All Tariff Period Projected Lines","ARC Eligible Tariff Period Projected Lines","Maximum ARC opportunity Revenue","All Tariff Period Projected Lines","ARC EligibleTariff Period Projected Lines","Maximum ARC opportunity Revenue","Tariff Period Projected Eligible Line Demand","Maximum ARC opportunity Revenue"]
[]
[]
["Total",null,{"$f":"SUM(C22:C23)","v":0},0,0,0,0,0,0,0,0,0,0]

{"sheet":"State3","index":3,"n_rows":251,"n_cols":24,"rows_kept":251,"cut":false,"hidden":false,"merged":[[5,4,5,14],[5,25,6,26],[5,27,6,28],[5,29,6,30],[6,4,6,13],[6,19,6,21]]}
[null,250,"Filing Date:","2022-06-16"]
[null,null,"Holding Company:"]
[null,null,"Filing Name:"]
[]
[]
[null,null,null,null,"Rate Ceiling Component Charges Calculation ( 51.915(b)(11) )"]
[null,null,"Study Area","EXCHANGES","RESIDENCE / NP / BRI / SLB (excluding Lifeline)",null,null,null,null,null,null,null,null,null,"Total Crnt Yr","Max Total","Res / NP","SLB / BRI",null,"MULTI-LINE BUSINESS",null,null,"nonCentrex","Centrex"]
[null,null,null,null,"Res / NP","SLB / BRI",null,null,"Mandatory",null,null,null,null,null,"Rate Ceiling","Rate Ceiling","Previous","Previous",null,"nonCentrex","Centrex",null,"Previous","Previous"]
[null,null,null,null,"Tariff Period  ","Tariff Period  ","Stand-alone","Mandatory","Zone","State",null,null,"State ","Federal","Comp. Chgs","Comp. Chgs","Yr Tariffed","Yr Tariffed",null,"Tariff Period  ","Tariff Period  ","Federal","Yr Tariffed","Yr Tariffed"]
[null,null,null,null,"Projected Lines","Projected Lines","R1 rate","EAS","Charges","SLC","E911","TRS","USF","SLC","w/o ARC","Since 2012","Arc Rate","Arc Rate",null,"Projected Lines","Projected Lines","SLC-MLB","Arc Rate","Arc Rate"]
[null,null,null,"State3"]
[null,null,null,"Label 1"]
[{"$f":"B13&\": \"&D13","v":"State3: Example 1"},"State3","S3StudyArea","Example 1",null,null,null,null,null,null,null,null,null,null,{"$f":"ROUND(SUM(G13:N13),2)","v":0}]
[{"$f":"B14&\": \"&D14","v":"State3: Example 2"},"State3","S3StudyArea","Example 2",null,null,null,null,null,null,null,null,null,null,{"$f":"ROUND(SUM(G14:N14),2)","v":0}]
[{"$f":"B15&\": \"&D15","v":"State3: Example 3"},"State3","S3StudyArea","Example 3",null,null,null,null,null,null,null,null,null,null,{"$f":"ROUND(SUM(G15:N15),2)","v":0}]
[]
[null,null,null,"Label 2"]
[{"$f":"B18&\": \"&D18","v":"State3: Example 4"},"State3","S3StudyArea","Example 4",null,null,null,null,null,null,null,null,null,null,{"$f":"ROUND(SUM(G18:N18),2)","v":0}]
[{"$f":"B19&\": \"&D19","v":"State3: Example 5"},"State3","S3StudyArea","Example 5",null,null,null,null,null,null,null,null,null,null,{"$f":"ROUND(SUM(G19:N19),2)","v":0}]
[{"$f":"B20&\": \"&D20","v":"State3: Example 6"},"State3","S3StudyArea","Example 6",null,null,null,null,null,null,null,null,null,null,{"$f":"ROUND(SUM(G20:N20),2)","v":0}]
[{"$f":"B21&\": \"&D21","v":"State3: Example 7"},"State3","S3StudyArea","Example 7",null,null,null,null,null,null,null,null,null,null,{"$f":"ROUND(SUM(G21:N21),2)","v":0}]
[{"$f":"B22&\": \"&D22","v":"State3: Example 8"},"State3","S3StudyArea","Example 8",null,null,null,null,null,null,null,null,null,null,{"$f":"ROUND(SUM(G22:N22),2)","v":0}]
[]
[null,null,null,"Label 3"]
[{"$f":"B25&\": \"&D25","v":"State3: Example 9"},"State3","S3StudyArea","Example 9",null,null,null,null,null,null,null,null,null,null,{"$f":"ROUND(SUM(G25:N25),2)","v":0}]
[]
[null,null,null,"Label 4"]
[{"$f":"B28&\": \"&D28","v":"State3: Example 10"},"State3","S3StudyArea","Example 10",null,null,null,null,null,null,null,null,null,null,{"$f":"ROUND(SUM(G28:N28),2)","v":0}]
["State3: Example 11","State3","S3StudyArea","Example 11",null,null,null,null,null,null,null,null,null,null,0]
["State3: Example 12","State3","S3StudyArea","Example 12",null,null,null,null,null,null,null,null,null,null,0]
["State3: Example 13","State3","S3StudyArea","Example 13",null,null,null,null,null,null,null,null,null,null,0]
["State3: Example 14","State3","S3StudyArea","Example 14",null,null,null,null,null,null,null,null,null,null,0]
["State3: Example 15","State3","S3StudyArea","Example 15",null,null,null,null,null,null,null,null,null,null,0]
["State3: Example 16","State3","S3StudyArea","Example 16",null,null,null,null,null,null,null,null,null,null,0]
["State3: Example 17","State3","S3StudyArea","Example 17",null,null,null,null,null,null,null,null,null,null,0]
["State3: Example 18","State3","S3StudyArea","Example 18",null,null,null,null,null,null,null,null,null,null,0]
["State3: Example 19","State3","S3StudyArea","Example 19",null,null,null,null,null,null,null,null,null,null,0]
["State3: Example 20","State3","S3StudyArea","Example 20",null,null,null,null,null,null,null,null,null,null,0]
["State3: Example 21","State3","S3StudyArea","Example 21",null,null,null,null,null,null,null,null,null,null,0]
["State3: Example 22","State3","S3StudyArea","Example 22",null,null,null,null,null,null,null,null,null,null,0]
["State3: Example 23","State3","S3StudyArea","Example 23",null,null,null,null,null,null,null,null,null,null,0]
["State3: Example 24","State3","S3StudyArea","Example 24",null,null,null,null,null,null,null,null,null,null,0]
["State3: Example 25","State3","S3StudyArea","Example 25",null,null,null,null,null,null,null,null,null,null,0]
["State3: Example 26","State3","S3StudyArea","Example 26",null,null,null,null,null,null,null,null,null,null,0]
["State3: Example 27","State3","S3StudyArea","Example 27",null,null,null,null,null,null,null,null,null,null,0]
["State3: Example 28","State3","S3StudyArea","Example 28",null,null,null,null,null,null,null,null,null,null,0]
["State3: Example 29","State3","S3StudyArea","Example 29",null,null,null,null,null,null,null,null,null,null,0]
["State3: Example 30","State3","S3StudyArea","Example 30",null,null,null,null,null,null,null,null,null,null,0]
["State3: Example 31","State3","S3StudyArea","Example 31",null,null,null,null,null,null,null,null,null,null,0]
["State3: Example 32","State3","S3StudyArea","Example 32",null,null,null,null,null,null,null,null,null,null,0]
["State3: Example 33","State3","S3StudyArea","Example 33",null,null,null,null,null,null,null,null,null,null,0]
["State3: Example 34","State3","S3StudyArea","Example 34",null,null,null,null,null,null,null,null,null,null,0]
["State3: Example 35","State3","S3StudyArea","Example 35",null,null,null,null,null,null,null,null,null,null,0]
["State3: Example 36","State3","S3StudyArea","Example 36",null,null,null,null,null,null,null,null,null,null,0]
["State3: Example 37","State3","S3StudyArea","Example 37",null,null,null,null,null,null,null,null,null,null,0]
["State3: Example 38","State3","S3StudyArea","Example 38",null,null,null,null,null,null,null,null,null,null,0]
["State3: Example 39","State3","S3StudyArea","Example 39",null,null,null,null,null,null,null,null,null,null,0]
["State3: Example 40","State3","S3StudyArea","Example 40",null,null,null,null,null,null,null,null,null,null,0]
["State3: Example 41","State3","S3StudyArea","Example 41",null,null,null,null,null,null,null,null,null,null,0]
["State3: Example 42","State3","S3StudyArea","Example 42",null,null,null,null,null,null,null,null,null,null,0]
["State3: Example 43","State3","S3StudyArea","Example 43",null,null,null,null,null,null,null,null,null,null,0]
["State3: Example 44","State3","S3StudyArea","Example 44",null,null,null,null,null,null,null,null,null,null,0]
[]
[null,null,null,"Label 46"]
[{"$f":"B65&\": \"&D65","v":"State3: Example 47"},"State3","S3StudyArea","Example 47",null,null,null,null,null,null,null,null,null,null,{"$f":"ROUND(SUM(G65:N65),2)","v":0}]
["State3: Example 48","State3","S3StudyArea","Example 48",null,null,null,null,null,null,null,null,null,null,0]
["State3: Example 49","State3","S3StudyArea","Example 49",null,null,null,null,null,null,null,null,null,null,0]
["State3: Example 50","State3","S3StudyArea","Example 50",null,null,null,null,null,null,null,null,null,null,0]
["State3: Example 51","State3","S3StudyArea","Example 51",null,null,null,null,null,null,null,null,null,null,0]
["State3: Example 52","State3","S3StudyArea","Example 52",null,null,null,null,null,null,null,null,null,null,0]
["State3: Example 53","State3","S3StudyArea","Example 53",null,null,null,null,null,null,null,null,null,null,0]
["State3: Example 54","State3","S3StudyArea","Example 54",null,null,null,null,null,null,null,null,null,null,0]
["State3: Example 55","State3","S3StudyArea","Example 55",null,null,null,null,null,null,null,null,null,null,0]
["State3: Example 56","State3","S3StudyArea","Example 56",null,null,null,null,null,null,null,null,null,null,0]
["State3: Example 57","State3","S3StudyArea","Example 57",null,null,null,null,null,null,null,null,null,null,0]
["State3: Example 58","State3","S3StudyArea","Example 58",null,null,null,null,null,null,null,null,null,null,0]
["State3: Example 59","State3","S3StudyArea","Example 59",null,null,null,null,null,null,null,null,null,null,0]
["State3: Example 60","State3","S3StudyArea","Example 60",null,null,null,null,null,null,null,null,null,null,0]
["State3: Example 61","State3","S3StudyArea","Example 61",null,null,null,null,null,null,null,null,null,null,0]
["State3: Example 62","State3","S3StudyArea","Example 62",null,null,null,null,null,null,null,null,null,null,0]
["State3: Example 63","State3","S3StudyArea","Example 63",null,null,null,null,null,null,null,null,null,null,0]
["State3: Example 64","State3","S3StudyArea","Example 64",null,null,null,null,null,null,null,null,null,null,0]
["State3: Example 65","State3","S3StudyArea","Example 65",null,null,null,null,null,null,null,null,null,null,0]
["State3: Example 66","State3","S3StudyArea","Example 66",null,null,null,null,null,null,null,null,null,null,0]
["State3: Example 67","State3","S3StudyArea","Example 67",null,null,null,null,null,null,null,null,null,null,0]
["State3: Example 68","State3","S3StudyArea","Example 68",null,null,null,null,null,null,null,null,null,null,0]
["State3: Example 69","State3","S3StudyArea","Example 69",null,null,null,null,null,null,null,null,null,null,0]
["State3: Example 70","State3","S3StudyArea","Example 70",null,null,null,null,null,null,null,null,null,null,0]
["State3: Example 71","State3","S3StudyArea","Example 71",null,null,null,null,null,null,null,null,null,null,0]
["State3: Example 72","State3","S3StudyArea","Example 72",null,null,null,null,null,null,null,null,null,null,0]
["State3: Example 73","State3","S3StudyArea","Example 73",null,null,null,null,null,null,null,null,null,null,0]
["State3: Example 74","State3","S3StudyArea","Example 74",null,null,null,null,null,null,null,null,null,null,0]
["State3: Example 75","State3","S3StudyArea","Example 75",null,null,null,null,null,null,null,null,null,null,0]
["State3: Example 76","State3","S3StudyArea","Example 76",null,null,null,null,null,null,null,null,null,null,0]
["State3: Example 77","State3","S3StudyArea","Example 77",null,null,null,null,null,null,null,null,null,null,0]
["State3: Example 78","State3","S3StudyArea","Example 78",null,null,null,null,null,null,null,null,null,null,0]
["State3: Example 79","State3","S3StudyArea","Example 79",null,null,null,null,null,null,null,null,null,null,0]
["State3: Example 80","State3","S3StudyArea","Example 80",null,null,null,null,null,null,null,null,null,null,0]
["State3: Example 81","State3","S3StudyArea","Example 81",null,null,null,null,null,null,null,null,null,null,0]
["State3: Example 82","State3","S3StudyArea","Example 82",null,null,null,null,null,null,null,null,null,null,0]
["State3: Example 83","State3","S3StudyArea","Example 83",null,null,null,null,null,null,null,null,null,null,0]
["State3: Example 84","State3","S3StudyArea","Example 84",null,null,null,null,null,null,null,null,null,null,0]
["State3: Example 85","State3","S3StudyArea","Example 85",null,null,null,null,null,null,null,null,null,null,0]
["State3: Example 86","State3","S3StudyArea","Example 86",null,null,null,null,null,null,null,null,null,null,0]
["State3: Example 87","State3","S3StudyArea","Example 87",null,null,null,null,null,null,null,null,null,null,0]
["State3: Example 88","State3","S3StudyArea","Example 88",null,null,null,null,null,null,null,null,null,null,0]
[]
[null,null,null,"Label 90"]
[{"$f":"B109&\": \"&D109","v":"State3: Example 91"},"State3","S3StudyArea","Example 91",null,null,null,null,null,null,null,null,null,null,{"$f":"ROUND(SUM(G109:N109),2)","v":0}]
[{"$f":"B110&\": \"&D110","v":"State3: Example 92"},"State3","S3StudyArea","Example 92",null,null,null,null,null,null,null,null,null,null,{"$f":"ROUND(SUM(G110:N110),2)","v":0}]
[{"$f":"B111&\": \"&D111","v":"State3: Example 93"},"State3","S3StudyArea","Example 93",null,null,null,null,null,null,null,null,null,null,{"$f":"ROUND(SUM(G111:N111),2)","v":0}]
[]
[null,null,null,"Label 95"]
[{"$f":"B114&\": \"&D114","v":"State3: Example 96"},"State3","S3StudyArea","Example 96",null,null,null,null,null,null,null,null,null,null,{"$f":"ROUND(SUM(G114:N114),2)","v":0}]
[{"$f":"B115&\": \"&D115","v":"State3: Example 97"},"State3","S3StudyArea","Example 97",null,null,null,null,null,null,null,null,null,null,{"$f":"ROUND(SUM(G115:N115),2)","v":0}]
[]
[null,null,null,"Label 99"]
[{"$f":"B118&\": \"&D118","v":"State3: Example 100"},"State3","S3StudyArea","Example 100",null,null,null,null,null,null,null,null,null,null,{"$f":"ROUND(SUM(G118:N118),2)","v":0}]
["State3: Example 101","State3","S3StudyArea","Example 101",null,null,null,null,null,null,null,null,null,null,0]
["State3: Example 102","State3","S3StudyArea","Example 102",null,null,null,null,null,null,null,null,null,null,0]
["State3: Example 103","State3","S3StudyArea","Example 103",null,null,null,null,null,null,null,null,null,null,0]
["State3: Example 104","State3","S3StudyArea","Example 104",null,null,null,null,null,null,null,null,null,null,0]
["State3: Example 105","State3","S3StudyArea","Example 105",null,null,null,null,null,null,null,null,null,null,0]
["State3: Example 106","State3","S3StudyArea","Example 106",null,null,null,null,null,null,null,null,null,null,0]
[]
[null,null,null,"Label 108"]
[{"$f":"B127&\": \"&D127","v":"State3: Example 109"},"State3","S3StudyArea","Example 109",null,null,null,null,null,null,null,null,null,null,{"$f":"ROUND(SUM(G127:N127),2)","v":0}]
["State3: Example 110","State3","S3StudyArea","Example 110",null,null,null,null,null,null,null,null,null,null,0]
["State3: Example 111","State3","S3StudyArea","Example 111",null,null,null,null,null,null,null,null,null,null,0]
["State3: Example 112","State3","S3StudyArea","Example 112",null,null,null,null,null,null,null,null,null,null,0]
["State3: Example 113","State3","S3StudyArea","Example 113",null,null,null,null,null,null,null,null,null,null,0]
["State3: Example 114","State3","S3StudyArea","Example 114",null,null,null,null,null,null,null,null,null,null,0]
["State3: Example 115","State3","S3StudyArea","Example 115",null,null,null,null,null,null,null,null,null,null,0]
["State3: Example 116","State3","S3StudyArea","Example 116",null,null,null,null,null,null,null,null,null,null,0]
["State3: Example 117","State3","S3StudyArea","Example 117",null,null,null,null,null,null,null,null,null,null,0]
["State3: Example 118","State3","S3StudyArea","Example 118",null,null,null,null,null,null,null,null,null,null,0]
["State3: Example 119","State3","S3StudyArea","Example 119",null,null,null,null,null,null,null,null,null,null,0]
["State3: Example 120","State3","S3StudyArea","Example 120",null,null,null,null,null,null,null,null,null,null,0]
["State3: Example 121","State3","S3StudyArea","Example 121",null,null,null,null,null,null,null,null,null,null,0]
["State3: Example 122","State3","S3StudyArea","Example 122",null,null,null,null,null,null,null,null,null,null,0]
["State3: Example 123","State3","S3StudyArea","Example 123",null,null,null,null,null,null,null,null,null,null,0]
["State3: Example 124","State3","S3StudyArea","Example 124",null,null,null,null,null,null,null,null,null,null,0]
["State3: Example 125","State3","S3StudyArea","Example 125",null,null,null,null,null,null,null,null,null,null,0]
[]
[null,null,null,"Label 127"]
[{"$f":"B146&\": \"&D146","v":"State3: Example 128"},"State3","S3StudyArea","Example 128",null,null,null,null,null,null,null,null,null,null,{"$f":"ROUND(SUM(G146:N146),2)","v":0}]
["State3: Example 129","State3","S3StudyArea","Example 129",null,null,null,null,null,null,null,null,null,null,0]
["State3: Example 130","State3","S3StudyArea","Example 130",null,null,null,null,null,null,null,null,null,null,0]
["State3: Example 131","State3","S3StudyArea","Example 131",null,null,null,null,null,null,null,null,null,null,0]
["State3: Example 132","State3","S3StudyArea","Example 132",null,null,null,null,null,null,null,null,null,null,0]
["State3: Example 133","State3","S3StudyArea","Example 133",null,null,null,null,null,null,null,null,null,null,0]
["State3: Example 134","State3","S3StudyArea","Example 134",null,null,null,null,null,null,null,null,null,null,0]
["State3: Example 135","State3","S3StudyArea","Example 135",null,null,null,null,null,null,null,null,null,null,0]
["State3: Example 136","State3","S3StudyArea","Example 136",null,null,null,null,null,null,null,null,null,null,0]
["State3: Example 137","State3","S3StudyArea","Example 137",null,null,null,null,null,null,null,null,null,null,0]
["State3: Example 138","State3","S3StudyArea","Example 138",null,null,null,null,null,null,null,null,null,null,0]
["State3: Example 139","State3","S3StudyArea","Example 139",null,null,null,null,null,null,null,null,null,null,0]
["State3: Example 140","State3","S3StudyArea","Example 140",null,null,null,null,null,null,null,null,null,null,0]
["State3: Example 141","State3","S3StudyArea","Example 141",null,null,null,null,null,null,null,null,null,null,0]
["State3: Example 142","State3","S3StudyArea","Example 142",null,null,null,null,null,null,null,null,null,null,0]
["State3: Example 143","State3","S3StudyArea","Example 143",null,null,null,null,null,null,null,null,null,null,0]
["State3: Example 144","State3","S3StudyArea","Example 144",null,null,null,null,null,null,null,null,null,null,0]
[]
[null,null,null,"Label 146"]
[{"$f":"B165&\": \"&D165","v":"State3: Example 147"},"State3","S3StudyArea","Example 147",null,null,null,null,null,null,null,null,null,null,{"$f":"ROUND(SUM(G165:N165),2)","v":0}]
["State3: Example 148","State3","S3StudyArea","Example 148",null,null,null,null,null,null,null,null,null,null,0]
["State3: Example 149","State3","S3StudyArea","Example 149",null,null,null,null,null,null,null,null,null,null,0]
["State3: Example 150","State3","S3StudyArea","Example 150",null,null,null,null,null,null,null,null,null,null,0]
["State3: Example 151","State3","S3StudyArea","Example 151",null,null,null,null,null,null,null,null,null,null,0]
["State3: Example 152","State3","S3StudyArea","Example 152",null,null,null,null,null,null,null,null,null,null,0]
["State3: Example 153","State3","S3StudyArea","Example 153",null,null,null,null,null,null,null,null,null,null,0]
["State3: Example 154","State3","S3StudyArea","Example 154",null,null,null,null,null,null,null,null,null,null,0]
["State3: Example 155","State3","S3StudyArea","Example 155",null,null,null,null,null,null,null,null,null,null,0]
["State3: Example 156","State3","S3StudyArea","Example 156",null,null,null,null,null,null,null,null,null,null,0]
["State3: Example 157","State3","S3StudyArea","Example 157",null,null,null,null,null,null,null,null,null,null,0]
["State3: Example 158","State3","S3StudyArea","Example 158",null,null,null,null,null,null,null,null,null,null,0]
["State3: Example 159","State3","S3StudyArea","Example 159",null,null,null,null,null,null,null,null,null,null,0]
["State3: Example 160","State3","S3StudyArea","Example 160",null,null,null,null,null,null,null,null,null,null,0]
["State3: Example 161","State3","S3StudyArea","Example 161",null,null,null,null,null,null,null,null,null,null,0]
["State3: Example 162","State3","S3StudyArea","Example 162",null,null,null,null,null,null,null,null,null,null,0]
["State3: Example 163","State3","S3StudyArea","Example 163",null,null,null,null,null,null,null,null,null,null,0]
["State3: Example 164","State3","S3StudyArea","Example 164",null,null,null,null,null,null,null,null,null,null,0]
["State3: Example 165","State3","S3StudyArea","Example 165",null,null,null,null,null,null,null,null,null,null,0]
["State3: Example 166","State3","S3StudyArea","Example 166",null,null,null,null,null,null,null,null,null,null,0]
["State3: Example 167","State3","S3StudyArea","Example 167",null,null,null,null,null,null,null,null,null,null,0]
["State3: Example 168","State3","S3StudyArea","Example 168",null,null,null,null,null,null,null,null,null,null,0]
["State3: Example 169","State3","S3StudyArea","Example 169",null,null,null,null,null,null,null,null,null,null,0]
["State3: Example 170","State3","S3StudyArea","Example 170",null,null,null,null,null,null,null,null,null,null,0]
["State3: Example 171","State3","S3StudyArea","Example 171",null,null,null,null,null,null,null,null,null,null,0]
["State3: Example 172","State3","S3StudyArea","Example 172",null,null,null,null,null,null,null,null,null,null,0]
["State3: Example 173","State3","S3StudyArea","Example 173",null,null,null,null,null,null,null,null,null,null,0]
[]
[null,null,null,"Label 175"]
[{"$f":"B194&\": \"&D194","v":"State3: Example 176"},"State3","S3StudyArea","Example 176",null,null,null,null,null,null,null,null,null,null,{"$f":"ROUND(SUM(G194:N194),2)","v":0}]
["State3: Example 177","State3","S3StudyArea","Example 177",null,null,null,null,null,null,null,null,null,null,0]
["State3: Example 178","State3","S3StudyArea","Example 178",null,null,null,null,null,null,null,null,null,null,0]
["State3: Example 179","State3","S3StudyArea","Example 179",null,null,null,null,null,null,null,null,null,null,0]
["State3: Example 180","State3","S3StudyArea","Example 180",null,null,null,null,null,null,null,null,null,null,0]
["State3: Example 181","State3","S3StudyArea","Example 181",null,null,null,null,null,null,null,null,null,null,0]
["State3: Example 182","State3","S3StudyArea","Example 182",null,null,null,null,null,null,null,null,null,null,0]
["State3: Example 183","State3","S3StudyArea","Example 183",null,null,null,null,null,null,null,null,null,null,0]
["State3: Example 184","State3","S3StudyArea","Example 184",null,null,null,null,null,null,null,null,null,null,0]
["State3: Example 185","State3","S3StudyArea","Example 185",null,null,null,null,null,null,null,null,null,null,0]
["State3: Example 186","State3","S3StudyArea","Example 186",null,null,null,null,null,null,null,null,null,null,0]
["State3: Example 187","State3","S3StudyArea","Example 187",null,null,null,null,null,null,null,null,null,null,0]
["State3: Example 188","State3","S3StudyArea","Example 188",null,null,null,null,null,null,null,null,null,null,0]
["State3: Example 189","State3","S3StudyArea","Example 189",null,null,null,null,null,null,null,null,null,null,0]
[]
[null,null,null,"Label 191"]
[{"$f":"B210&\": \"&D210","v":"State3: Example 192"},"State3","S3StudyArea","Example 192",null,null,null,null,null,null,null,null,null,null,{"$f":"ROUND(SUM(G210:N210),2)","v":0}]
[{"$f":"B211&\": \"&D211","v":"State3: Example 193"},"State3","S3StudyArea","Example 193",null,null,null,null,null,null,null,null,null,null,{"$f":"ROUND(SUM(G211:N211),2)","v":0}]
[]
[null,null,null,"Label 195"]
[{"$f":"B214&\": \"&D214","v":"State3: Example 196"},"State3","S3StudyArea","Example 196",null,null,null,null,null,null,null,null,null,null,{"$f":"ROUND(SUM(G214:N214),2)","v":0}]
[]
[null,null,null,"Label 198"]
[{"$f":"B217&\": \"&D217","v":"State3: Example 199"},"State3","S3StudyArea","Example 199",null,null,null,null,null,null,null,null,null,null,{"$f":"ROUND(SUM(G217:N217),2)","v":0}]
[]
[null,null,null,"Label 201"]
[{"$f":"B220&\": \"&D220","v":"State3: Example 202"},"State3","S3StudyArea","Example 202",null,null,null,null,null,null,null,null,null,null,{"$f":"ROUND(SUM(G220:N220),2)","v":0}]
[{"$f":"B221&\": \"&D221","v":"State3: Example 203"},"State3","S3StudyArea","Example 203",null,null,null,null,null,null,null,null,null,null,{"$f":"ROUND(SUM(G221:N221),2)","v":0}]
[{"$f":"B222&\": \"&D222","v":"State3: Example 204"},"State3","S3StudyArea","Example 204",null,null,null,null,null,null,null,null,null,null,{"$f":"ROUND(SUM(G222:N222),2)","v":0}]
[{"$f":"B223&\": \"&D223","v":"State3: Example 205"},"State3","S3StudyArea","Example 205",null,null,null,null,null,null,null,null,null,null,{"$f":"ROUND(SUM(G223:N223),2)","v":0}]
[{"$f":"B224&\": \"&D224","v":"State3: Example 206"},"State3","S3StudyArea","Example 206",null,null,null,null,null,null,null,null,null,null,{"$f":"ROUND(SUM(G224:N224),2)","v":0}]
[]
[null,null,null,"Label 208"]
[{"$f":"B227&\": \"&D227","v":"State3: Example 209"},"State3","S3StudyArea","Example 209",null,null,null,null,null,null,null,null,null,null,{"$f":"ROUND(SUM(G227:N227),2)","v":0}]
["State3: Example 210","State3","S3StudyArea","Example 210",null,null,null,null,null,null,null,null,null,null,0]
["State3: Example 211","State3","S3StudyArea","Example 211",null,null,null,null,null,null,null,null,null,null,0]
["State3: Example 212","State3","S3StudyArea","Example 212",null,null,null,null,null,null,null,null,null,null,0]
["State3: Example 213","State3","S3StudyArea","Example 213",null,null,null,null,null,null,null,null,null,null,0]
["State3: Example 214","State3","S3StudyArea","Example 214",null,null,null,null,null,null,null,null,null,null,0]
["State3: Example 215","State3","S3StudyArea","Example 215",null,null,null,null,null,null,null,null,null,null,0]
["State3: Example 216","State3","S3StudyArea","Example 216",null,null,null,null,null,null,null,null,null,null,0]
["State3: Example 217","State3","S3StudyArea","Example 217",null,null,null,null,null,null,null,null,null,null,0]
["State3: Example 218","State3","S3StudyArea","Example 218",null,null,null,null,null,null,null,null,null,null,0]
["State3: Example 219","State3","S3StudyArea","Example 219",null,null,null,null,null,null,null,null,null,null,0]
["State3: Example 220","State3","S3StudyArea","Example 220",null,null,null,null,null,null,null,null,null,null,0]
["State3: Example 221","State3","S3StudyArea","Example 221",null,null,null,null,null,null,null,null,null,null,0]
["State3: Example 222","State3","S3StudyArea","Example 222",null,null,null,null,null,null,null,null,null,null,0]
["State3: Example 223","State3","S3StudyArea","Example 223",null,null,null,null,null,null,null,null,null,null,0]
["State3: Example 224","State3","S3StudyArea","Example 224",null,null,null,null,null,null,null,null,null,null,0]
["State3: Example 225","State3","S3StudyArea","Example 225",null,null,null,null,null,null,null,null,null,null,0]
["State3: Example 226","State3","S3StudyArea","Example 226",null,null,null,null,null,null,null,null,null,null,0]
["State3: Example 227","State3","S3StudyArea","Example 227",null,null,null,null,null,null,null,null,null,null,0]
["State3: Example 228","State3","S3StudyArea","Example 228",null,null,null,null,null,null,null,null,null,null,0]
["State3: Example 229","State3","S3StudyArea","Example 229",null,null,null,null,null,null,null,null,null,null,0]
["State3: Example 230","State3","S3StudyArea","Example 230",null,null,null,null,null,null,null,null,null,null,0]
["State3: Example 231","State3","S3StudyArea","Example 231",null,null,null,null,null,null,null,null,null,null,0]
["State3: Example 232","State3","S3StudyArea","Example 232",null,null,null,null,null,null,null,null,null,null,0]
[null,"End"]

{"sheet":"State4","index":4,"n_rows":15,"n_cols":24,"rows_kept":15,"cut":false,"hidden":false,"merged":[[5,4,5,14],[5,25,6,26],[5,27,6,28],[5,29,6,30],[6,4,6,13],[6,19,6,21]]}
[null,14,"Filing Date:","2022-06-16"]
[null,null,"Holding Company:"]
[null,null,"Filing Name:"]
[]
[]
[null,null,null,null,"Rate Ceiling Component Charges Calculation ( 51.915(b)(11) )"]
[null,null,"Study Area","EXCHANGES","RESIDENCE / NP / BRI / SLB (excluding Lifeline)",null,null,null,null,null,null,null,null,null,"Total Crnt Yr","Max Total","Res / NP","SLB / BRI",null,"MULTI-LINE BUSINESS",null,null,"nonCentrex","Centrex"]
[null,null,null,null,"Res / NP","SLB / BRI",null,null,"Mandatory",null,null,null,null,null,"Rate Ceiling","Rate Ceiling","Previous","Previous",null,"nonCentrex","Centrex",null,"Previous","Previous"]
[null,null,null,null,"Tariff Period  ","Tariff Period  ","Stand-alone","Mandatory","Zone","State",null,null,"State ","Federal","Comp. Chgs","Comp. Chgs","Yr Tariffed","Yr Tariffed",null,"Tariff Period  ","Tariff Period  ","Federal","Yr Tariffed","Yr Tariffed"]
[null,null,null,null,"Projected Lines","Projected Lines","R1 rate","EAS","Charges","SLC","E911","TRS","USF","SLC","w/o ARC","Since 2012","Arc Rate","Arc Rate",null,"Projected Lines","Projected Lines","SLC-MLB","Arc Rate","Arc Rate"]
[null,null,null,"State4"]
[{"$f":"B12&\": \"&D12","v":"State4: Exchange 1"},"State4","S4StudyArea","Exchange 1",null,null,null,null,null,null,null,null,null,null,{"$f":"ROUND(SUM(G12:N12),2)","v":0}]
[{"$f":"B13&\": \"&D13","v":"State4: Exchange 2"},"State4","S4StudyArea","Exchange 2",null,null,null,null,null,null,null,null,null,null,{"$f":"ROUND(SUM(G13:N13),2)","v":0}]
[{"$f":"B14&\": \"&D14","v":"State4: Exchange 3"},"State4","S4StudyArea","Exchange 3",null,null,null,null,null,null,null,null,null,null,{"$f":"ROUND(SUM(G14:N14),2)","v":0}]
[null,"End"]

{"sheet":"ExchangeLevel ARC","index":5,"n_rows":260,"n_cols":28,"rows_kept":260,"cut":false,"hidden":false,"merged":[[22,2,22,13],[22,15,22,27],[23,6,23,7],[23,9,23,10]]}
["Filing Date:",null,"2022-06-16"]
["Holding Company:"]
["Filing Name:"]
[]
[null,null,null,null,null,null,null,null,null,"Res/SLB","MLB","Total"]
["Eligible Revenue - Current Yr Recovery",null,null,0,null,null,null,null,null,"ARC Rev","ARC Rev","ARC Rev"]
[null,null,null,null,null,null,{"$f":"A6","v":"Eligible Revenue - Current Yr Recovery"},null,null,{"$f":"D11","v":0},{"$f":"D12","v":0},{"$f":"D6","v":0}]
[null,null,null,null,null,null,"Tariffed ARC Revenue",null,null,{"$f":"N21","v":0},{"$f":"AB21","v":0},{"$f":"J8+K8","v":0}]
[]
[]
["Recovery Allocated to Res/SLB",null,null,0]
["Recovery Allocated to MLB",null,null,0]
["Residential Rate Ceiling: ( 51.915(b)(12) )",null,null,30]
["Maximum MLB SLC+ARC ( 51.915(e)(5)(iv) )",null,null,12.2]
["Max ARC for current year:  Res/SLB",null,null,2.5]
["Max ARC for current year:  MLB",null,null,5]
["Max ARC increase per year:  Res/SLB",null,null,0.5]
["Max ARC increase per year:  MLB",null,null,1]
[]
[]
["Totals",null,{"$f":"SUM(C23:C263)/2","v":0},{"$f":"SUM(D23:D263)/2","v":0},null,null,null,null,null,null,null,null,null,{"$f":"SUM(N23:N263)/2","v":0},null,{"$f":"SUM(P23:P263)/2","v":0},{"$f":"SUM(Q23:Q263)/2","v":0},null,null,null,null,null,null,null,null,null,null,{"$f":"SUM(AB23:AB263)/2","v":0}]
[]
["State","Exchange/RG","RESIDENCE / NP / BRI / SLB (excluding Lifeline)",null,null,null,null,null,null,null,null,null,null,null,null,"MULTI-LINE BUSINESS"]
[null,null,"Res / NP","SLB / BRI","Maximum","RES / NP","RES / NP Current Year",null,"SLB / BRI","SLB / BRI Current Year",null,"Total","Total RES / NP","ARC Revenue",null,"NonCentrex ","Centrex ","MLB","NonCentrex","NonCentrex","NonCentrex","Centrex","Centrex","Centrex","Total","Total","MLB","ARC Revenue"]
[null,null,"Tariff Period  ","Tariff Period  ","Total Rate ","Previous Yr","Maximum ","Tariffed ","Previous Yr","Maximum ","Tariffed","RES / NP","below Res Rate","at Tariffed",null,"Tariff Period","Tariff Period","Federal","Previous Yr","Crnt Yr Max","Tariffed","Previous Yr","Crnt Yr Max","Tariffed","NonCentrex","Centrex ","Rates below MLB","at Tariffed"]
[null,null,"Projected Lines","Projected Lines","Chgs w/o ARC","Arc Rate","ARC Rate","ARC Rate","Arc Rate","ARC Rate","ARC Rate","Rate","Ceiling ($30)","Rate",null,"Projected Lines","Projected Lines","SLC","Arc Rate","ARC Rate","ARC Rate","Arc Rate","ARC Rate","ARC Rate"," Rate","Rate","Rate Ceiling ($12.2)","Rate"]
["State1"]
[null,"State1: Example 1",{"$f":"VLOOKUP($B28,'State1&State2'!$A$10:E$27,5,FALSE)","v":0},{"$f":"VLOOKUP($B28,'State1&State2'!$A$10:F$27,6,FALSE)","v":0},{"$f":"MAX(VLOOKUP($B28,'State1&State2'!$A$10:O$27,15,FALSE),VLOOKUP($B28,'State1&State2'!$A$10:P$27,16,FALSE))","v":0},{"$f":"VLOOKUP($B28,'State1&State2'!$A$10:Q$27,17,FALSE)","v":0},{"$f":"IF(($D$13-$E28)<0,0,MIN($D$13-$E28,F28+$D$17,$D$15))","v":0.5},0,{"$f":"VLOOKUP($B28,'State1&State2'!$A$10:R$27,18,FALSE)","v":0},{"$f":"MIN(I28+$D$17,$D$15)","v":0.5},0,{"$f":"IF(C28>0,E28+H28,0)","v":0},{"$f":"IF(C28>0,IF(L28<=$D$13,\"YES\",\"NO\"),\"\")","v":""},{"$f":"C28*H28+D28*K28","v":0},null,{"$f":"VLOOKUP($B28,'State1&State2'!$A$10:T$27,20,FALSE)","v":0},{"$f":"VLOOKUP($B28,'State1&State2'!$A$10:U$24,21,FALSE)","v":0},{"$f":"VLOOKUP($B28,'State1&State2'!$A$10:V$27,22,FALSE)","v":0},{"$f":"VLOOKUP($B28,'State1&State2'!$A$10:W$27,23,FALSE)","v":0},{"$f":"MIN($D$14-$R28,S28+$D$18,$D$16)","v":1},0,{"$f":"VLOOKUP($B28,'State1&State2'!$A$10:X$27,24,FALSE)","v":0},{"$f":"MIN($D$14-$R28,V28+$D$18,$D$16)","v":1},0,{"$f":"IF(P28>0,R28+U28,0)","v":0},{"$f":"IF(Q28>0,R28+X28,0)","v":0},{"$f":"IF(OR(U28>0,X28>0),IF(AND(Y28<=$D$14,Z28<=$D$14),\"YES\",\"NO\"),\"\")","v":""},{"$f":"P28*U28+Q28*X28","v":0}]
[null,"State1: Example 2",{"$f":"VLOOKUP($B29,'State1&State2'!$A$10:E$27,5,FALSE)","v":0},{"$f":"VLOOKUP($B29,'State1&State2'!$A$10:F$27,6,FALSE)","v":0},{"$f":"MAX(VLOOKUP($B29,'State1&State2'!$A$10:O$27,15,FALSE),VLOOKUP($B29,'State1&State2'!$A$10:P$27,16,FALSE))","v":0},{"$f":"VLOOKUP($B29,'State1&State2'!$A$10:Q$27,17,FALSE)","v":0},0.5,0,{"$f":"VLOOKUP($B29,'State1&State2'!$A$10:R$27,18,FALSE)","v":0},0.5,0,0,"",0,null,{"$f":"VLOOKUP($B29,'State1&State2'!$A$10:T$27,20,FALSE)","v":0},{"$f":"VLOOKUP($B29,'State1&State2'!$A$10:U$27,21,FALSE)","v":0},{"$f":"VLOOKUP($B29,'State1&State2'!$A$10:V$27,22,FALSE)","v":0},{"$f":"VLOOKUP($B29,'State1&State2'!$A$10:W$27,23,FALSE)","v":0},1,0,{"$f":"VLOOKUP($B29,'State1&State2'!$A$10:X$27,24,FALSE)","v":0},1,0,0,0,"",0]
[null,"State1: Example 3",{"$f":"VLOOKUP($B30,'State1&State2'!$A$10:E$27,5,FALSE)","v":0},{"$f":"VLOOKUP($B30,'State1&State2'!$A$10:F$27,6,FALSE)","v":0},{"$f":"MAX(VLOOKUP($B30,'State1&State2'!$A$10:O$27,15,FALSE),VLOOKUP($B30,'State1&State2'!$A$10:P$27,16,FALSE))","v":0},{"$f":"VLOOKUP($B30,'State1&State2'!$A$10:Q$27,17,FALSE)","v":0},0.5,0,{"$f":"VLOOKUP($B30,'State1&State2'!$A$10:R$27,18,FALSE)","v":0},0.5,0,0,"",0,null,{"$f":"VLOOKUP($B30,'State1&State2'!$A$10:T$27,20,FALSE)","v":0},{"$f":"VLOOKUP($B30,'State1&State2'!$A$10:U$27,21,FALSE)","v":0},{"$f":"VLOOKUP($B30,'State1&State2'!$A$10:V$27,22,FALSE)","v":0},{"$f":"VLOOKUP($B30,'State1&State2'!$A$10:W$27,23,FALSE)","v":0},1,0,{"$f":"VLOOKUP($B30,'State1&State2'!$A$10:X$27,24,FALSE)","v":0},1,0,0,0,"",0]
[null,"State1: Example 4",{"$f":"VLOOKUP($B31,'State1&State2'!$A$10:E$27,5,FALSE)","v":0},{"$f":"VLOOKUP($B31,'State1&State2'!$A$10:F$27,6,FALSE)","v":0},{"$f":"MAX(VLOOKUP($B31,'State1&State2'!$A$10:O$27,15,FALSE),VLOOKUP($B31,'State1&State2'!$A$10:P$27,16,FALSE))","v":0},{"$f":"VLOOKUP($B31,'State1&State2'!$A$10:Q$27,17,FALSE)","v":0},0.5,0,{"$f":"VLOOKUP($B31,'State1&State2'!$A$10:R$27,18,FALSE)","v":0},0.5,0,0,"",0,null,{"$f":"VLOOKUP($B31,'State1&State2'!$A$10:T$27,20,FALSE)","v":0},{"$f":"VLOOKUP($B31,'State1&State2'!$A$10:U$27,21,FALSE)","v":0},{"$f":"VLOOKUP($B31,'State1&State2'!$A$10:V$27,22,FALSE)","v":0},{"$f":"VLOOKUP($B31,'State1&State2'!$A$10:W$27,23,FALSE)","v":0},1,0,{"$f":"VLOOKUP($B31,'State1&State2'!$A$10:X$27,24,FALSE)","v":0},1,0,0,0,"",0]
[null,"State1: Example 5",{"$f":"VLOOKUP($B32,'State1&State2'!$A$10:E$27,5,FALSE)","v":0},{"$f":"VLOOKUP($B32,'State1&State2'!$A$10:F$27,6,FALSE)","v":0},{"$f":"MAX(VLOOKUP($B32,'State1&State2'!$A$10:O$27,15,FALSE),VLOOKUP($B32,'State1&State2'!$A$10:P$27,16,FALSE))","v":0},{"$f":"VLOOKUP($B32,'State1&State2'!$A$10:Q$27,17,FALSE)","v":0},0.5,0,{"$f":"VLOOKUP($B32,'State1&State2'!$A$10:R$27,18,FALSE)","v":0},0.5,0,0,"",0,null,{"$f":"VLOOKUP($B32,'State1&State2'!$A$10:T$27,20,FALSE)","v":0},{"$f":"VLOOKUP($B32,'State1&State2'!$A$10:U$27,21,FALSE)","v":0},{"$f":"VLOOKUP($B32,'State1&State2'!$A$10:V$27,22,FALSE)","v":0},{"$f":"VLOOKUP($B32,'State1&State2'!$A$10:W$27,23,FALSE)","v":0},1,0,{"$f":"VLOOKUP($B32,'State1&State2'!$A$10:X$27,24,FALSE)","v":0},1,0,0,0,"",0]
[null,"State1: Example 6",{"$f":"VLOOKUP($B33,'State1&State2'!$A$10:E$27,5,FALSE)","v":0},{"$f":"VLOOKUP($B33,'State1&State2'!$A$10:F$27,6,FALSE)","v":0},{"$f":"MAX(VLOOKUP($B33,'State1&State2'!$A$10:O$27,15,FALSE),VLOOKUP($B33,'State1&State2'!$A$10:P$27,16,FALSE))","v":0},{"$f":"VLOOKUP($B33,'State1&State2'!$A$10:Q$27,17,FALSE)","v":0},0.5,0,{"$f":"VLOOKUP($B33,'State1&State2'!$A$10:R$27,18,FALSE)","v":0},0.5,0,0,"",0,null,{"$f":"VLOOKUP($B33,'State1&State2'!$A$10:T$27,20,FALSE)","v":0},{"$f":"VLOOKUP($B33,'State1&State2'!$A$10:U$27,21,FALSE)","v":0},{"$f":"VLOOKUP($B33,'State1&State2'!$A$10:V$27,22,FALSE)","v":0},{"$f":"VLOOKUP($B33,'State1&State2'!$A$10:W$27,23,FALSE)","v":0},1,0,{"$f":"VLOOKUP($B33,'State1&State2'!$A$10:X$27,24,FALSE)","v":0},1,0,0,0,"",0]
[null,"State1: Example 7",{"$f":"VLOOKUP($B34,'State1&State2'!$A$10:E$27,5,FALSE)","v":0},{"$f":"VLOOKUP($B34,'State1&State2'!$A$10:F$27,6,FALSE)","v":0},{"$f":"MAX(VLOOKUP($B34,'State1&State2'!$A$10:O$27,15,FALSE),VLOOKUP($B34,'State1&State2'!$A$10:P$27,16,FALSE))","v":0},{"$f":"VLOOKUP($B34,'State1&State2'!$A$10:Q$27,17,FALSE)","v":0},0.5,0,{"$f":"VLOOKUP($B34,'State1&State2'!$A$10:R$27,18,FALSE)","v":0},0.5,0,0,"",0,null,{"$f":"VLOOKUP($B34,'State1&State2'!$A$10:T$27,20,FALSE)","v":0},{"$f":"VLOOKUP($B34,'State1&State2'!$A$10:U$27,21,FALSE)","v":0},{"$f":"VLOOKUP($B34,'State1&State2'!$A$10:V$27,22,FALSE)","v":0},{"$f":"VLOOKUP($B34,'State1&State2'!$A$10:W$27,23,FALSE)","v":0},1,0,{"$f":"VLOOKUP($B34,'State1&State2'!$A$10:X$27,24,FALSE)","v":0},1,0,0,0,"",0]
[null,"State1: Example 8",{"$f":"VLOOKUP($B35,'State1&State2'!$A$10:E$27,5,FALSE)","v":0},{"$f":"VLOOKUP($B35,'State1&State2'!$A$10:F$27,6,FALSE)","v":0},{"$f":"MAX(VLOOKUP($B35,'State1&State2'!$A$10:O$27,15,FALSE),VLOOKUP($B35,'State1&State2'!$A$10:P$27,16,FALSE))","v":0},{"$f":"VLOOKUP($B35,'State1&State2'!$A$10:Q$27,17,FALSE)","v":0},0.5,0,{"$f":"VLOOKUP($B35,'State1&State2'!$A$10:R$27,18,FALSE)","v":0},0.5,0,0,"",0,null,{"$f":"VLOOKUP($B35,'State1&State2'!$A$10:T$27,20,FALSE)","v":0},{"$f":"VLOOKUP($B35,'State1&State2'!$A$10:U$27,21,FALSE)","v":0},{"$f":"VLOOKUP($B35,'State1&State2'!$A$10:V$27,22,FALSE)","v":0},{"$f":"VLOOKUP($B35,'State1&State2'!$A$10:W$27,23,FALSE)","v":0},1,0,{"$f":"VLOOKUP($B35,'State1&State2'!$A$10:X$27,24,FALSE)","v":0},1,0,0,0,"",0]
[null,"State1: Example 9",{"$f":"VLOOKUP($B36,'State1&State2'!$A$10:E$27,5,FALSE)","v":0},{"$f":"VLOOKUP($B36,'State1&State2'!$A$10:F$27,6,FALSE)","v":0},{"$f":"MAX(VLOOKUP($B36,'State1&State2'!$A$10:O$27,15,FALSE),VLOOKUP($B36,'State1&State2'!$A$10:P$27,16,FALSE))","v":0},{"$f":"VLOOKUP($B36,'State1&State2'!$A$10:Q$27,17,FALSE)","v":0},0.5,0,{"$f":"VLOOKUP($B36,'State1&State2'!$A$10:R$27,18,FALSE)","v":0},0.5,0,0,"",0,null,{"$f":"VLOOKUP($B36,'State1&State2'!$A$10:T$27,20,FALSE)","v":0},{"$f":"VLOOKUP($B36,'State1&State2'!$A$10:U$27,21,FALSE)","v":0},{"$f":"VLOOKUP($B36,'State1&State2'!$A$10:V$27,22,FALSE)","v":0},{"$f":"VLOOKUP($B36,'State1&State2'!$A$10:W$27,23,FALSE)","v":0},1,0,{"$f":"VLOOKUP($B36,'State1&State2'!$A$10:X$27,24,FALSE)","v":0},1,0,0,0,"",0]
[null,"State1: Example 10",{"$f":"VLOOKUP($B37,'State1&State2'!$A$10:E$27,5,FALSE)","v":0},{"$f":"VLOOKUP($B37,'State1&State2'!$A$10:F$27,6,FALSE)","v":0},{"$f":"MAX(VLOOKUP($B37,'State1&State2'!$A$10:O$27,15,FALSE),VLOOKUP($B37,'State1&State2'!$A$10:P$27,16,FALSE))","v":0},{"$f":"VLOOKUP($B37,'State1&State2'!$A$10:Q$27,17,FALSE)","v":0},0.5,0,{"$f":"VLOOKUP($B37,'State1&State2'!$A$10:R$27,18,FALSE)","v":0},0.5,0,0,"",0,null,{"$f":"VLOOKUP($B37,'State1&State2'!$A$10:T$27,20,FALSE)","v":0},{"$f":"VLOOKUP($B37,'State1&State2'!$A$10:U$27,21,FALSE)","v":0},{"$f":"VLOOKUP($B37,'State1&State2'!$A$10:V$27,22,FALSE)","v":0},{"$f":"VLOOKUP($B37,'State1&State2'!$A$10:W$27,23,FALSE)","v":0},1,0,{"$f":"VLOOKUP($B37,'State1&State2'!$A$10:X$27,24,FALSE)","v":0},1,0,0,0,"",0]
[null,"State1: Example 11",{"$f":"VLOOKUP($B38,'State1&State2'!$A$10:E$27,5,FALSE)","v":0},{"$f":"VLOOKUP($B38,'State1&State2'!$A$10:F$27,6,FALSE)","v":0},{"$f":"MAX(VLOOKUP($B38,'State1&State2'!$A$10:O$27,15,FALSE),VLOOKUP($B38,'State1&State2'!$A$10:P$27,16,FALSE))","v":0},{"$f":"VLOOKUP($B38,'State1&State2'!$A$10:Q$27,17,FALSE)","v":0},0.5,0,{"$f":"VLOOKUP($B38,'State1&State2'!$A$10:R$27,18,FALSE)","v":0},0.5,0,0,"",0,null,{"$f":"VLOOKUP($B38,'State1&State2'!$A$10:T$27,20,FALSE)","v":0},{"$f":"VLOOKUP($B38,'State1&State2'!$A$10:U$27,21,FALSE)","v":0},{"$f":"VLOOKUP($B38,'State1&State2'!$A$10:V$27,22,FALSE)","v":0},{"$f":"VLOOKUP($B38,'State1&State2'!$A$10:W$27,23,FALSE)","v":0},1,0,{"$f":"VLOOKUP($B38,'State1&State2'!$A$10:X$27,24,FALSE)","v":0},1,0,0,0,"",0]
[null,"State1: Example 12",{"$f":"VLOOKUP($B39,'State1&State2'!$A$10:E$27,5,FALSE)","v":0},{"$f":"VLOOKUP($B39,'State1&State2'!$A$10:F$27,6,FALSE)","v":0},{"$f":"MAX(VLOOKUP($B39,'State1&State2'!$A$10:O$27,15,FALSE),VLOOKUP($B39,'State1&State2'!$A$10:P$27,16,FALSE))","v":0},{"$f":"VLOOKUP($B39,'State1&State2'!$A$10:Q$27,17,FALSE)","v":0},0.5,0,{"$f":"VLOOKUP($B39,'State1&State2'!$A$10:R$27,18,FALSE)","v":0},0.5,0,0,"",0,null,{"$f":"VLOOKUP($B39,'State1&State2'!$A$10:T$27,20,FALSE)","v":0},{"$f":"VLOOKUP($B39,'State1&State2'!$A$10:U$27,21,FALSE)","v":0},{"$f":"VLOOKUP($B39,'State1&State2'!$A$10:V$27,22,FALSE)","v":0},{"$f":"VLOOKUP($B39,'State1&State2'!$A$10:W$27,23,FALSE)","v":0},1,0,{"$f":"VLOOKUP($B39,'State1&State2'!$A$10:X$27,24,FALSE)","v":0},1,0,0,0,"",0]
[null,"State1: Totals",{"$f":"SUM(C27:C39)","v":0},{"$f":"SUM(D27:D39)","v":0},null,null,null,null,null,null,null,null,null,{"$f":"SUM(N27:N39)","v":0},null,{"$f":"SUM(P27:P39)","v":0},{"$f":"SUM(Q27:Q39)","v":0},null,null,null,null,null,null,null,null,null,null,{"$f":"SUM(AB27:AB39)","v":0}]
[]
["State2"]
[null,"State2: Example 1",{"$f":"VLOOKUP($B43,'State1&State2'!$A$10:E$27,5,FALSE)","v":0},{"$f":"VLOOKUP($B43,'State1&State2'!$A$10:F$27,6,FALSE)","v":0},{"$f":"MAX(VLOOKUP($B43,'State1&State2'!$A$10:O$27,15,FALSE),VLOOKUP($B43,'State1&State2'!$A$10:P$27,16,FALSE))","v":0},{"$f":"VLOOKUP($B43,'State1&State2'!$A$10:Q$27,17,FALSE)","v":0},{"$f":"IF(($D$13-$E43)<0,0,MIN($D$13-$E43,F43+$D$17,$D$15))","v":0.5},0,{"$f":"VLOOKUP($B43,'State1&State2'!$A$10:R$27,18,FALSE)","v":0},{"$f":"MIN(I43+$D$17,$D$15)","v":0.5},0,{"$f":"IF(C43>0,E43+H43,0)","v":0},{"$f":"IF(C43>0,IF(L43<=$D$13,\"YES\",\"NO\"),\"\")","v":""},{"$f":"C43*H43+D43*K43","v":0},null,{"$f":"VLOOKUP($B43,'State1&State2'!$A$10:T$27,20,FALSE)","v":0},{"$f":"VLOOKUP($B43,'State1&State2'!$A$10:U$27,21,FALSE)","v":0},{"$f":"VLOOKUP($B43,'State1&State2'!$A$10:V$27,22,FALSE)","v":0},{"$f":"VLOOKUP($B43,'State1&State2'!$A$10:W$27,23,FALSE)","v":0},{"$f":"MIN($D$14-$R43,S43+$D$18,$D$16)","v":1},0,{"$f":"VLOOKUP($B43,'State1&State2'!$A$10:X$27,24,FALSE)","v":0},{"$f":"MIN($D$14-$R43,V43+$D$18,$D$16)","v":1},0,{"$f":"IF(P43>0,R43+U43,0)","v":0},{"$f":"IF(Q43>0,R43+X43,0)","v":0},{"$f":"IF(OR(U43>0,X43>0),IF(AND(Y43<=$D$14,Z43<=$D$14),\"YES\",\"NO\"),\"\")","v":""},{"$f":"P43*U43+Q43*X43","v":0}]
[null,"State2: Example 2",{"$f":"VLOOKUP($B44,'State1&State2'!$A$10:E$27,5,FALSE)","v":0},{"$f":"VLOOKUP($B44,'State1&State2'!$A$10:F$27,6,FALSE)","v":0},{"$f":"MAX(VLOOKUP($B44,'State1&State2'!$A$10:O$27,15,FALSE),VLOOKUP($B44,'State1&State2'!$A$10:P$27,16,FALSE))","v":0},{"$f":"VLOOKUP($B44,'State1&State2'!$A$10:Q$27,17,FALSE)","v":0},{"$f":"IF(($D$13-$E44)<0,0,MIN($D$13-$E44,F44+$D$17,$D$15))","v":0.5},0,{"$f":"VLOOKUP($B44,'State1&State2'!$A$10:R$27,18,FALSE)","v":0},{"$f":"MIN(I44+$D$17,$D$15)","v":0.5},0,{"$f":"IF(C44>0,E44+H44,0)","v":0},{"$f":"IF(C44>0,IF(L44<=$D$13,\"YES\",\"NO\"),\"\")","v":""},{"$f":"C44*H44+D44*K44","v":0},null,{"$f":"VLOOKUP($B44,'State1&State2'!$A$10:T$27,20,FALSE)","v":0},{"$f":"VLOOKUP($B44,'State1&State2'!$A$10:U$27,21,FALSE)","v":0},{"$f":"VLOOKUP($B44,'State1&State2'!$A$10:V$27,22,FALSE)","v":0},{"$f":"VLOOKUP($B44,'State1&State2'!$A$10:W$27,23,FALSE)","v":0},{"$f":"MIN($D$14-$R44,S44+$D$18,$D$16)","v":1},0,{"$f":"VLOOKUP($B44,'State1&State2'!$A$10:X$27,24,FALSE)","v":0},{"$f":"MIN($D$14-$R44,V44+$D$18,$D$16)","v":1},0,{"$f":"IF(P44>0,R44+U44,0)","v":0},{"$f":"IF(Q44>0,R44+X44,0)","v":0},{"$f":"IF(OR(U44>0,X44>0),IF(AND(Y44<=$D$14,Z44<=$D$14),\"YES\",\"NO\"),\"\")","v":""},{"$f":"P44*U44+Q44*X44","v":0}]
[null,"State2: Totals",{"$f":"SUM(C42:C44)","v":0},{"$f":"SUM(D42:D44)","v":0},null,null,null,null,null,null,null,null,null,{"$f":"SUM(N42:N44)","v":0},null,{"$f":"SUM(P42:P44)","v":0},{"$f":"SUM(Q42:Q44)","v":0},null,null,null,null,null,null,null,null,null,null,{"$f":"SUM(AB42:AB44)","v":0}]
[]
["State3"]
[null,"State3: Example 1",{"$f":"VLOOKUP($B48,State3!$A$10:E$250,5,FALSE)","v":0},{"$f":"VLOOKUP($B48,State3!$A$10:F$250,6,FALSE)","v":0},{"$f":"MAX(VLOOKUP($B48,State3!$A$10:O$250,15,FALSE),VLOOKUP($B48,State3!$A$10:P$250,16,FALSE))","v":0},{"$f":"VLOOKUP($B48,State3!$A$10:Q$250,17,FALSE)","v":0},{"$f":"IF(($D$13-$E48)<0,0,MIN($D$13-$E48,F48+$D$17,$D$15))","v":0.5},0,{"$f":"VLOOKUP($B48,State3!$A$10:R$250,18,FALSE)","v":0},{"$f":"MIN(I48+$D$17,$D$15)","v":0.5},0,{"$f":"IF(C48>0,E48+H48,0)","v":0},{"$f":"IF(C48>0,IF(L48<=$D$13,\"YES\",\"NO\"),\"\")","v":""},{"$f":"C48*H48+D48*K48","v":0},null,{"$f":"VLOOKUP($B48,State3!$A$10:T$250,20,FALSE)","v":0},{"$f":"VLOOKUP($B48,State3!$A$10:U$250,21,FALSE)","v":0},{"$f":"VLOOKUP($B48,State3!$A$10:V$250,22,FALSE)","v":0},{"$f":"VLOOKUP($B48,State3!$A$10:W$250,23,FALSE)","v":0},{"$f":"MIN($D$14-$R48,S48+$D$18,$D$16)","v":1},0,{"$f":"VLOOKUP($B48,State3!$A$10:X$250,24,FALSE)","v":0},{"$f":"MIN($D$14-$R48,V48+$D$18,$D$16)","v":1},0,{"$f":"IF(P48>0,R48+U48,0)","v":0},{"$f":"IF(Q48>0,R48+X48,0)","v":0},{"$f":"IF(OR(U48>0,X48>0),IF(AND(Y48<=$D$14,Z48<=$D$14),\"YES\",\"NO\"),\"\")","v":""},{"$f":"P48*U48+Q48*X48","v":0}]
[null,"State3: Example 2",{"$f":"VLOOKUP($B49,State3!$A$10:E$250,5,FALSE)","v":0},{"$f":"VLOOKUP($B49,State3!$A$10:F$250,6,FALSE)","v":0},{"$f":"MAX(VLOOKUP($B49,State3!$A$10:O$250,15,FALSE),VLOOKUP($B49,State3!$A$10:P$250,16,FALSE))","v":0},{"$f":"VLOOKUP($B49,State3!$A$10:Q$250,17,FALSE)","v":0},0.5,0,{"$f":"VLOOKUP($B49,State3!$A$10:R$250,18,FALSE)","v":0},0.5,0,0,"",0,null,{"$f":"VLOOKUP($B49,State3!$A$10:T$250,20,FALSE)","v":0},{"$f":"VLOOKUP($B49,State3!$A$10:U$250,21,FALSE)","v":0},{"$f":"VLOOKUP($B49,State3!$A$10:V$250,22,FALSE)","v":0},{"$f":"VLOOKUP($B49,State3!$A$10:W$250,23,FALSE)","v":0},1,0,{"$f":"VLOOKUP($B49,State3!$A$10:X$250,24,FALSE)","v":0},1,0,0,0,"",0]
[null,"State3: Example 3",{"$f":"VLOOKUP($B50,State3!$A$10:E$250,5,FALSE)","v":0},{"$f":"VLOOKUP($B50,State3!$A$10:F$250,6,FALSE)","v":0},{"$f":"MAX(VLOOKUP($B50,State3!$A$10:O$250,15,FALSE),VLOOKUP($B50,State3!$A$10:P$250,16,FALSE))","v":0},{"$f":"VLOOKUP($B50,State3!$A$10:Q$250,17,FALSE)","v":0},0.5,0,{"$f":"VLOOKUP($B50,State3!$A$10:R$250,18,FALSE)","v":0},0.5,0,0,"",0,null,{"$f":"VLOOKUP($B50,State3!$A$10:T$250,20,FALSE)","v":0},{"$f":"VLOOKUP($B50,State3!$A$10:U$250,21,FALSE)","v":0},{"$f":"VLOOKUP($B50,State3!$A$10:V$250,22,FALSE)","v":0},{"$f":"VLOOKUP($B50,State3!$A$10:W$250,23,FALSE)","v":0},1,0,{"$f":"VLOOKUP($B50,State3!$A$10:X$250,24,FALSE)","v":0},1,0,0,0,"",0]
[null,"State3: Example 4",{"$f":"VLOOKUP($B51,State3!$A$10:E$250,5,FALSE)","v":0},{"$f":"VLOOKUP($B51,State3!$A$10:F$250,6,FALSE)","v":0},{"$f":"MAX(VLOOKUP($B51,State3!$A$10:O$250,15,FALSE),VLOOKUP($B51,State3!$A$10:P$250,16,FALSE))","v":0},{"$f":"VLOOKUP($B51,State3!$A$10:Q$250,17,FALSE)","v":0},0.5,0,{"$f":"VLOOKUP($B51,State3!$A$10:R$250,18,FALSE)","v":0},0.5,0,0,"",0,null,{"$f":"VLOOKUP($B51,State3!$A$10:T$250,20,FALSE)","v":0},{"$f":"VLOOKUP($B51,State3!$A$10:U$250,21,FALSE)","v":0},{"$f":"VLOOKUP($B51,State3!$A$10:V$250,22,FALSE)","v":0},{"$f":"VLOOKUP($B51,State3!$A$10:W$250,23,FALSE)","v":0},1,0,{"$f":"VLOOKUP($B51,State3!$A$10:X$250,24,FALSE)","v":0},1,0,0,0,"",0]
[null,"State3: Example 5",{"$f":"VLOOKUP($B52,State3!$A$10:E$250,5,FALSE)","v":0},{"$f":"VLOOKUP($B52,State3!$A$10:F$250,6,FALSE)","v":0},{"$f":"MAX(VLOOKUP($B52,State3!$A$10:O$250,15,FALSE),VLOOKUP($B52,State3!$A$10:P$250,16,FALSE))","v":0},{"$f":"VLOOKUP($B52,State3!$A$10:Q$250,17,FALSE)","v":0},0.5,0,{"$f":"VLOOKUP($B52,State3!$A$10:R$250,18,FALSE)","v":0},0.5,0,0,"",0,null,{"$f":"VLOOKUP($B52,State3!$A$10:T$250,20,FALSE)","v":0},{"$f":"VLOOKUP($B52,State3!$A$10:U$250,21,FALSE)","v":0},{"$f":"VLOOKUP($B52,State3!$A$10:V$250,22,FALSE)","v":0},{"$f":"VLOOKUP($B52,State3!$A$10:W$250,23,FALSE)","v":0},1,0,{"$f":"VLOOKUP($B52,State3!$A$10:X$250,24,FALSE)","v":0},1,0,0,0,"",0]
[null,"State3: Example 6",{"$f":"VLOOKUP($B53,State3!$A$10:E$250,5,FALSE)","v":0},{"$f":"VLOOKUP($B53,State3!$A$10:F$250,6,FALSE)","v":0},{"$f":"MAX(VLOOKUP($B53,State3!$A$10:O$250,15,FALSE),VLOOKUP($B53,State3!$A$10:P$250,16,FALSE))","v":0},{"$f":"VLOOKUP($B53,State3!$A$10:Q$250,17,FALSE)","v":0},0.5,0,{"$f":"VLOOKUP($B53,State3!$A$10:R$250,18,FALSE)","v":0},0.5,0,0,"",0,null,{"$f":"VLOOKUP($B53,State3!$A$10:T$250,20,FALSE)","v":0},{"$f":"VLOOKUP($B53,State3!$A$10:U$250,21,FALSE)","v":0},{"$f":"VLOOKUP($B53,State3!$A$10:V$250,22,FALSE)","v":0},{"$f":"VLOOKUP($B53,State3!$A$10:W$250,23,FALSE)","v":0},1,0,{"$f":"VLOOKUP($B53,State3!$A$10:X$250,24,FALSE)","v":0},1,0,0,0,"",0]
[null,"State3: Example 7",{"$f":"VLOOKUP($B54,State3!$A$10:E$250,5,FALSE)","v":0},{"$f":"VLOOKUP($B54,State3!$A$10:F$250,6,FALSE)","v":0},{"$f":"MAX(VLOOKUP($B54,State3!$A$10:O$250,15,FALSE),VLOOKUP($B54,State3!$A$10:P$250,16,FALSE))","v":0},{"$f":"VLOOKUP($B54,State3!$A$10:Q$250,17,FALSE)","v":0},0.5,0,{"$f":"VLOOKUP($B54,State3!$A$10:R$250,18,FALSE)","v":0},0.5,0,0,"",0,null,{"$f":"VLOOKUP($B54,State3!$A$10:T$250,20,FALSE)","v":0},{"$f":"VLOOKUP($B54,State3!$A$10:U$250,21,FALSE)","v":0},{"$f":"VLOOKUP($B54,State3!$A$10:V$250,22,FALSE)","v":0},{"$f":"VLOOKUP($B54,State3!$A$10:W$250,23,FALSE)","v":0},1,0,{"$f":"VLOOKUP($B54,State3!$A$10:X$250,24,FALSE)","v":0},1,0,0,0,"",0]
[null,"State3: Example 8",{"$f":"VLOOKUP($B55,State3!$A$10:E$250,5,FALSE)","v":0},{"$f":"VLOOKUP($B55,State3!$A$10:F$250,6,FALSE)","v":0},{"$f":"MAX(VLOOKUP($B55,State3!$A$10:O$250,15,FALSE),VLOOKUP($B55,State3!$A$10:P$250,16,FALSE))","v":0},{"$f":"VLOOKUP($B55,State3!$A$10:Q$250,17,FALSE)","v":0},0.5,0,{"$f":"VLOOKUP($B55,State3!$A$10:R$250,18,FALSE)","v":0},0.5,0,0,"",0,null,{"$f":"VLOOKUP($B55,State3!$A$10:T$250,20,FALSE)","v":0},{"$f":"VLOOKUP($B55,State3!$A$10:U$250,21,FALSE)","v":0},{"$f":"VLOOKUP($B55,State3!$A$10:V$250,22,FALSE)","v":0},{"$f":"VLOOKUP($B55,State3!$A$10:W$250,23,FALSE)","v":0},1,0,{"$f":"VLOOKUP($B55,State3!$A$10:X$250,24,FALSE)","v":0},1,0,0,0,"",0]
[null,"State3: Example 9",{"$f":"VLOOKUP($B56,State3!$A$10:E$250,5,FALSE)","v":0},{"$f":"VLOOKUP($B56,State3!$A$10:F$250,6,FALSE)","v":0},{"$f":"MAX(VLOOKUP($B56,State3!$A$10:O$250,15,FALSE),VLOOKUP($B56,State3!$A$10:P$250,16,FALSE))","v":0},{"$f":"VLOOKUP($B56,State3!$A$10:Q$250,17,FALSE)","v":0},0.5,0,{"$f":"VLOOKUP($B56,State3!$A$10:R$250,18,FALSE)","v":0},0.5,0,0,"",0,null,{"$f":"VLOOKUP($B56,State3!$A$10:T$250,20,FALSE)","v":0},{"$f":"VLOOKUP($B56,State3!$A$10:U$250,21,FALSE)","v":0},{"$f":"VLOOKUP($B56,State3!$A$10:V$250,22,FALSE)","v":0},{"$f":"VLOOKUP($B56,State3!$A$10:W$250,23,FALSE)","v":0},1,0,{"$f":"VLOOKUP($B56,State3!$A$10:X$250,24,FALSE)","v":0},1,0,0,0,"",0]
[null,"State3: Example 10",{"$f":"VLOOKUP($B57,State3!$A$10:E$250,5,FALSE)","v":0},{"$f":"VLOOKUP($B57,State3!$A$10:F$250,6,FALSE)","v":0},{"$f":"MAX(VLOOKUP($B57,State3!$A$10:O$250,15,FALSE),VLOOKUP($B57,State3!$A$10:P$250,16,FALSE))","v":0},{"$f":"VLOOKUP($B57,State3!$A$10:Q$250,17,FALSE)","v":0},0.5,0,{"$f":"VLOOKUP($B57,State3!$A$10:R$250,18,FALSE)","v":0},0.5,0,0,"",0,null,{"$f":"VLOOKUP($B57,State3!$A$10:T$250,20,FALSE)","v":0},{"$f":"VLOOKUP($B57,State3!$A$10:U$250,21,FALSE)","v":0},{"$f":"VLOOKUP($B57,State3!$A$10:V$250,22,FALSE)","v":0},{"$f":"VLOOKUP($B57,State3!$A$10:W$250,23,FALSE)","v":0},1,0,{"$f":"VLOOKUP($B57,State3!$A$10:X$250,24,FALSE)","v":0},1,0,0,0,"",0]
[null,"State3: Example 11",{"$f":"VLOOKUP($B58,State3!$A$10:E$250,5,FALSE)","v":0},{"$f":"VLOOKUP($B58,State3!$A$10:F$250,6,FALSE)","v":0},{"$f":"MAX(VLOOKUP($B58,State3!$A$10:O$250,15,FALSE),VLOOKUP($B58,State3!$A$10:P$250,16,FALSE))","v":0},{"$f":"VLOOKUP($B58,State3!$A$10:Q$250,17,FALSE)","v":0},0.5,0,{"$f":"VLOOKUP($B58,State3!$A$10:R$250,18,FALSE)","v":0},0.5,0,0,"",0,null,{"$f":"VLOOKUP($B58,State3!$A$10:T$250,20,FALSE)","v":0},{"$f":"VLOOKUP($B58,State3!$A$10:U$250,21,FALSE)","v":0},{"$f":"VLOOKUP($B58,State3!$A$10:V$250,22,FALSE)","v":0},{"$f":"VLOOKUP($B58,State3!$A$10:W$250,23,FALSE)","v":0},1,0,{"$f":"VLOOKUP($B58,State3!$A$10:X$250,24,FALSE)","v":0},1,0,0,0,"",0]
[null,"State3: Example 12",{"$f":"VLOOKUP($B59,State3!$A$10:E$250,5,FALSE)","v":0},{"$f":"VLOOKUP($B59,State3!$A$10:F$250,6,FALSE)","v":0},{"$f":"MAX(VLOOKUP($B59,State3!$A$10:O$250,15,FALSE),VLOOKUP($B59,State3!$A$10:P$250,16,FALSE))","v":0},{"$f":"VLOOKUP($B59,State3!$A$10:Q$250,17,FALSE)","v":0},0.5,0,{"$f":"VLOOKUP($B59,State3!$A$10:R$250,18,FALSE)","v":0},0.5,0,0,"",0,null,{"$f":"VLOOKUP($B59,State3!$A$10:T$250,20,FALSE)","v":0},{"$f":"VLOOKUP($B59,State3!$A$10:U$250,21,FALSE)","v":0},{"$f":"VLOOKUP($B59,State3!$A$10:V$250,22,FALSE)","v":0},{"$f":"VLOOKUP($B59,State3!$A$10:W$250,23,FALSE)","v":0},1,0,{"$f":"VLOOKUP($B59,State3!$A$10:X$250,24,FALSE)","v":0},1,0,0,0,"",0]
[null,"State3: Example 13",{"$f":"VLOOKUP($B60,State3!$A$10:E$250,5,FALSE)","v":0},{"$f":"VLOOKUP($B60,State3!$A$10:F$250,6,FALSE)","v":0},{"$f":"MAX(VLOOKUP($B60,State3!$A$10:O$250,15,FALSE),VLOOKUP($B60,State3!$A$10:P$250,16,FALSE))","v":0},{"$f":"VLOOKUP($B60,State3!$A$10:Q$250,17,FALSE)","v":0},0.5,0,{"$f":"VLOOKUP($B60,State3!$A$10:R$250,18,FALSE)","v":0},0.5,0,0,"",0,null,{"$f":"VLOOKUP($B60,State3!$A$10:T$250,20,FALSE)","v":0},{"$f":"VLOOKUP($B60,State3!$A$10:U$250,21,FALSE)","v":0},{"$f":"VLOOKUP($B60,State3!$A$10:V$250,22,FALSE)","v":0},{"$f":"VLOOKUP($B60,State3!$A$10:W$250,23,FALSE)","v":0},1,0,{"$f":"VLOOKUP($B60,State3!$A$10:X$250,24,FALSE)","v":0},1,0,0,0,"",0]
[null,"State3: Example 14",{"$f":"VLOOKUP($B61,State3!$A$10:E$250,5,FALSE)","v":0},{"$f":"VLOOKUP($B61,State3!$A$10:F$250,6,FALSE)","v":0},{"$f":"MAX(VLOOKUP($B61,State3!$A$10:O$250,15,FALSE),VLOOKUP($B61,State3!$A$10:P$250,16,FALSE))","v":0},{"$f":"VLOOKUP($B61,State3!$A$10:Q$250,17,FALSE)","v":0},0.5,0,{"$f":"VLOOKUP($B61,State3!$A$10:R$250,18,FALSE)","v":0},0.5,0,0,"",0,null,{"$f":"VLOOKUP($B61,State3!$A$10:T$250,20,FALSE)","v":0},{"$f":"VLOOKUP($B61,State3!$A$10:U$250,21,FALSE)","v":0},{"$f":"VLOOKUP($B61,State3!$A$10:V$250,22,FALSE)","v":0},{"$f":"VLOOKUP($B61,State3!$A$10:W$250,23,FALSE)","v":0},1,0,{"$f":"VLOOKUP($B61,State3!$A$10:X$250,24,FALSE)","v":0},1,0,0,0,"",0]
[null,"State3: Example 15",{"$f":"VLOOKUP($B62,State3!$A$10:E$250,5,FALSE)","v":0},{"$f":"VLOOKUP($B62,State3!$A$10:F$250,6,FALSE)","v":0},{"$f":"MAX(VLOOKUP($B62,State3!$A$10:O$250,15,FALSE),VLOOKUP($B62,State3!$A$10:P$250,16,FALSE))","v":0},{"$f":"VLOOKUP($B62,State3!$A$10:Q$250,17,FALSE)","v":0},0.5,0,{"$f":"VLOOKUP($B62,State3!$A$10:R$250,18,FALSE)","v":0},0.5,0,0,"",0,null,{"$f":"VLOOKUP($B62,State3!$A$10:T$250,20,FALSE)","v":0},{"$f":"VLOOKUP($B62,State3!$A$10:U$250,21,FALSE)","v":0},{"$f":"VLOOKUP($B62,State3!$A$10:V$250,22,FALSE)","v":0},{"$f":"VLOOKUP($B62,State3!$A$10:W$250,23,FALSE)","v":0},1,0,{"$f":"VLOOKUP($B62,State3!$A$10:X$250,24,FALSE)","v":0},1,0,0,0,"",0]
[null,"State3: Example 16",{"$f":"VLOOKUP($B63,State3!$A$10:E$250,5,FALSE)","v":0},{"$f":"VLOOKUP($B63,State3!$A$10:F$250,6,FALSE)","v":0},{"$f":"MAX(VLOOKUP($B63,State3!$A$10:O$250,15,FALSE),VLOOKUP($B63,State3!$A$10:P$250,16,FALSE))","v":0},{"$f":"VLOOKUP($B63,State3!$A$10:Q$250,17,FALSE)","v":0},0.5,0,{"$f":"VLOOKUP($B63,State3!$A$10:R$250,18,FALSE)","v":0},0.5,0,0,"",0,null,{"$f":"VLOOKUP($B63,State3!$A$10:T$250,20,FALSE)","v":0},{"$f":"VLOOKUP($B63,State3!$A$10:U$250,21,FALSE)","v":0},{"$f":"VLOOKUP($B63,State3!$A$10:V$250,22,FALSE)","v":0},{"$f":"VLOOKUP($B63,State3!$A$10:W$250,23,FALSE)","v":0},1,0,{"$f":"VLOOKUP($B63,State3!$A$10:X$250,24,FALSE)","v":0},1,0,0,0,"",0]
[null,"State3: Example 17",{"$f":"VLOOKUP($B64,State3!$A$10:E$250,5,FALSE)","v":0},{"$f":"VLOOKUP($B64,State3!$A$10:F$250,6,FALSE)","v":0},{"$f":"MAX(VLOOKUP($B64,State3!$A$10:O$250,15,FALSE),VLOOKUP($B64,State3!$A$10:P$250,16,FALSE))","v":0},{"$f":"VLOOKUP($B64,State3!$A$10:Q$250,17,FALSE)","v":0},0.5,0,{"$f":"VLOOKUP($B64,State3!$A$10:R$250,18,FALSE)","v":0},0.5,0,0,"",0,null,{"$f":"VLOOKUP($B64,State3!$A$10:T$250,20,FALSE)","v":0},{"$f":"VLOOKUP($B64,State3!$A$10:U$250,21,FALSE)","v":0},{"$f":"VLOOKUP($B64,State3!$A$10:V$250,22,FALSE)","v":0},{"$f":"VLOOKUP($B64,State3!$A$10:W$250,23,FALSE)","v":0},1,0,{"$f":"VLOOKUP($B64,State3!$A$10:X$250,24,FALSE)","v":0},1,0,0,0,"",0]
[null,"State3: Example 18",{"$f":"VLOOKUP($B65,State3!$A$10:E$250,5,FALSE)","v":0},{"$f":"VLOOKUP($B65,State3!$A$10:F$250,6,FALSE)","v":0},{"$f":"MAX(VLOOKUP($B65,State3!$A$10:O$250,15,FALSE),VLOOKUP($B65,State3!$A$10:P$250,16,FALSE))","v":0},{"$f":"VLOOKUP($B65,State3!$A$10:Q$250,17,FALSE)","v":0},0.5,0,{"$f":"VLOOKUP($B65,State3!$A$10:R$250,18,FALSE)","v":0},0.5,0,0,"",0,null,{"$f":"VLOOKUP($B65,State3!$A$10:T$250,20,FALSE)","v":0},{"$f":"VLOOKUP($B65,State3!$A$10:U$250,21,FALSE)","v":0},{"$f":"VLOOKUP($B65,State3!$A$10:V$250,22,FALSE)","v":0},{"$f":"VLOOKUP($B65,State3!$A$10:W$250,23,FALSE)","v":0},1,0,{"$f":"VLOOKUP($B65,State3!$A$10:X$250,24,FALSE)","v":0},1,0,0,0,"",0]
[null,"State3: Example 19",{"$f":"VLOOKUP($B66,State3!$A$10:E$250,5,FALSE)","v":0},{"$f":"VLOOKUP($B66,State3!$A$10:F$250,6,FALSE)","v":0},{"$f":"MAX(VLOOKUP($B66,State3!$A$10:O$250,15,FALSE),VLOOKUP($B66,State3!$A$10:P$250,16,FALSE))","v":0},{"$f":"VLOOKUP($B66,State3!$A$10:Q$250,17,FALSE)","v":0},0.5,0,{"$f":"VLOOKUP($B66,State3!$A$10:R$250,18,FALSE)","v":0},0.5,0,0,"",0,null,{"$f":"VLOOKUP($B66,State3!$A$10:T$250,20,FALSE)","v":0},{"$f":"VLOOKUP($B66,State3!$A$10:U$250,21,FALSE)","v":0},{"$f":"VLOOKUP($B66,State3!$A$10:V$250,22,FALSE)","v":0},{"$f":"VLOOKUP($B66,State3!$A$10:W$250,23,FALSE)","v":0},1,0,{"$f":"VLOOKUP($B66,State3!$A$10:X$250,24,FALSE)","v":0},1,0,0,0,"",0]
[null,"State3: Example 20",{"$f":"VLOOKUP($B67,State3!$A$10:E$250,5,FALSE)","v":0},{"$f":"VLOOKUP($B67,State3!$A$10:F$250,6,FALSE)","v":0},{"$f":"MAX(VLOOKUP($B67,State3!$A$10:O$250,15,FALSE),VLOOKUP($B67,State3!$A$10:P$250,16,FALSE))","v":0},{"$f":"VLOOKUP($B67,State3!$A$10:Q$250,17,FALSE)","v":0},0.5,0,{"$f":"VLOOKUP($B67,State3!$A$10:R$250,18,FALSE)","v":0},0.5,0,0,"",0,null,{"$f":"VLOOKUP($B67,State3!$A$10:T$250,20,FALSE)","v":0},{"$f":"VLOOKUP($B67,State3!$A$10:U$250,21,FALSE)","v":0},{"$f":"VLOOKUP($B67,State3!$A$10:V$250,22,FALSE)","v":0},{"$f":"VLOOKUP($B67,State3!$A$10:W$250,23,FALSE)","v":0},1,0,{"$f":"VLOOKUP($B67,State3!$A$10:X$250,24,FALSE)","v":0},1,0,0,0,"",0]
[null,"State3: Example 21",{"$f":"VLOOKUP($B68,State3!$A$10:E$250,5,FALSE)","v":0},{"$f":"VLOOKUP($B68,State3!$A$10:F$250,6,FALSE)","v":0},{"$f":"MAX(VLOOKUP($B68,State3!$A$10:O$250,15,FALSE),VLOOKUP($B68,State3!$A$10:P$250,16,FALSE))","v":0},{"$f":"VLOOKUP($B68,State3!$A$10:Q$250,17,FALSE)","v":0},0.5,0,{"$f":"VLOOKUP($B68,State3!$A$10:R$250,18,FALSE)","v":0},0.5,0,0,"",0,null,{"$f":"VLOOKUP($B68,State3!$A$10:T$250,20,FALSE)","v":0},{"$f":"VLOOKUP($B68,State3!$A$10:U$250,21,FALSE)","v":0},{"$f":"VLOOKUP($B68,State3!$A$10:V$250,22,FALSE)","v":0},{"$f":"VLOOKUP($B68,State3!$A$10:W$250,23,FALSE)","v":0},1,0,{"$f":"VLOOKUP($B68,State3!$A$10:X$250,24,FALSE)","v":0},1,0,0,0,"",0]
[null,"State3: Example 22",{"$f":"VLOOKUP($B69,State3!$A$10:E$250,5,FALSE)","v":0},{"$f":"VLOOKUP($B69,State3!$A$10:F$250,6,FALSE)","v":0},{"$f":"MAX(VLOOKUP($B69,State3!$A$10:O$250,15,FALSE),VLOOKUP($B69,State3!$A$10:P$250,16,FALSE))","v":0},{"$f":"VLOOKUP($B69,State3!$A$10:Q$250,17,FALSE)","v":0},0.5,0,{"$f":"VLOOKUP($B69,State3!$A$10:R$250,18,FALSE)","v":0},0.5,0,0,"",0,null,{"$f":"VLOOKUP($B69,State3!$A$10:T$250,20,FALSE)","v":0},{"$f":"VLOOKUP($B69,State3!$A$10:U$250,21,FALSE)","v":0},{"$f":"VLOOKUP($B69,State3!$A$10:V$250,22,FALSE)","v":0},{"$f":"VLOOKUP($B69,State3!$A$10:W$250,23,FALSE)","v":0},1,0,{"$f":"VLOOKUP($B69,State3!$A$10:X$250,24,FALSE)","v":0},1,0,0,0,"",0]
[null,"State3: Example 23",{"$f":"VLOOKUP($B70,State3!$A$10:E$250,5,FALSE)","v":0},{"$f":"VLOOKUP($B70,State3!$A$10:F$250,6,FALSE)","v":0},{"$f":"MAX(VLOOKUP($B70,State3!$A$10:O$250,15,FALSE),VLOOKUP($B70,State3!$A$10:P$250,16,FALSE))","v":0},{"$f":"VLOOKUP($B70,State3!$A$10:Q$250,17,FALSE)","v":0},0.5,0,{"$f":"VLOOKUP($B70,State3!$A$10:R$250,18,FALSE)","v":0},0.5,0,0,"",0,null,{"$f":"VLOOKUP($B70,State3!$A$10:T$250,20,FALSE)","v":0},{"$f":"VLOOKUP($B70,State3!$A$10:U$250,21,FALSE)","v":0},{"$f":"VLOOKUP($B70,State3!$A$10:V$250,22,FALSE)","v":0},{"$f":"VLOOKUP($B70,State3!$A$10:W$250,23,FALSE)","v":0},1,0,{"$f":"VLOOKUP($B70,State3!$A$10:X$250,24,FALSE)","v":0},1,0,0,0,"",0]
[null,"State3: Example 24",{"$f":"VLOOKUP($B71,State3!$A$10:E$250,5,FALSE)","v":0},{"$f":"VLOOKUP($B71,State3!$A$10:F$250,6,FALSE)","v":0},{"$f":"MAX(VLOOKUP($B71,State3!$A$10:O$250,15,FALSE),VLOOKUP($B71,State3!$A$10:P$250,16,FALSE))","v":0},{"$f":"VLOOKUP($B71,State3!$A$10:Q$250,17,FALSE)","v":0},0.5,0,{"$f":"VLOOKUP($B71,State3!$A$10:R$250,18,FALSE)","v":0},0.5,0,0,"",0,null,{"$f":"VLOOKUP($B71,State3!$A$10:T$250,20,FALSE)","v":0},{"$f":"VLOOKUP($B71,State3!$A$10:U$250,21,FALSE)","v":0},{"$f":"VLOOKUP($B71,State3!$A$10:V$250,22,FALSE)","v":0},{"$f":"VLOOKUP($B71,State3!$A$10:W$250,23,FALSE)","v":0},1,0,{"$f":"VLOOKUP($B71,State3!$A$10:X$250,24,FALSE)","v":0},1,0,0,0,"",0]
[null,"State3: Example 25",{"$f":"VLOOKUP($B72,State3!$A$10:E$250,5,FALSE)","v":0},{"$f":"VLOOKUP($B72,State3!$A$10:F$250,6,FALSE)","v":0},{"$f":"MAX(VLOOKUP($B72,State3!$A$10:O$250,15,FALSE),VLOOKUP($B72,State3!$A$10:P$250,16,FALSE))","v":0},{"$f":"VLOOKUP($B72,State3!$A$10:Q$250,17,FALSE)","v":0},0.5,0,{"$f":"VLOOKUP($B72,State3!$A$10:R$250,18,FALSE)","v":0},0.5,0,0,"",0,null,{"$f":"VLOOKUP($B72,State3!$A$10:T$250,20,FALSE)","v":0},{"$f":"VLOOKUP($B72,State3!$A$10:U$250,21,FALSE)","v":0},{"$f":"VLOOKUP($B72,State3!$A$10:V$250,22,FALSE)","v":0},{"$f":"VLOOKUP($B72,State3!$A$10:W$250,23,FALSE)","v":0},1,0,{"$f":"VLOOKUP($B72,State3!$A$10:X$250,24,FALSE)","v":0},1,0,0,0,"",0]
[null,"State3: Example 26",{"$f":"VLOOKUP($B73,State3!$A$10:E$250,5,FALSE)","v":0},{"$f":"VLOOKUP($B73,State3!$A$10:F$250,6,FALSE)","v":0},{"$f":"MAX(VLOOKUP($B73,State3!$A$10:O$250,15,FALSE),VLOOKUP($B73,State3!$A$10:P$250,16,FALSE))","v":0},{"$f":"VLOOKUP($B73,State3!$A$10:Q$250,17,FALSE)","v":0},0.5,0,{"$f":"VLOOKUP($B73,State3!$A$10:R$250,18,FALSE)","v":0},0.5,0,0,"",0,null,{"$f":"VLOOKUP($B73,State3!$A$10:T$250,20,FALSE)","v":0},{"$f":"VLOOKUP($B73,State3!$A$10:U$250,21,FALSE)","v":0},{"$f":"VLOOKUP($B73,State3!$A$10:V$250,22,FALSE)","v":0},{"$f":"VLOOKUP($B73,State3!$A$10:W$250,23,FALSE)","v":0},1,0,{"$f":"VLOOKUP($B73,State3!$A$10:X$250,24,FALSE)","v":0},1,0,0,0,"",0]
[null,"State3: Example 27",{"$f":"VLOOKUP($B74,State3!$A$10:E$250,5,FALSE)","v":0},{"$f":"VLOOKUP($B74,State3!$A$10:F$250,6,FALSE)","v":0},{"$f":"MAX(VLOOKUP($B74,State3!$A$10:O$250,15,FALSE),VLOOKUP($B74,State3!$A$10:P$250,16,FALSE))","v":0},{"$f":"VLOOKUP($B74,State3!$A$10:Q$250,17,FALSE)","v":0},0.5,0,{"$f":"VLOOKUP($B74,State3!$A$10:R$250,18,FALSE)","v":0},0.5,0,0,"",0,null,{"$f":"VLOOKUP($B74,State3!$A$10:T$250,20,FALSE)","v":0},{"$f":"VLOOKUP($B74,State3!$A$10:U$250,21,FALSE)","v":0},{"$f":"VLOOKUP($B74,State3!$A$10:V$250,22,FALSE)","v":0},{"$f":"VLOOKUP($B74,State3!$A$10:W$250,23,FALSE)","v":0},1,0,{"$f":"VLOOKUP($B74,State3!$A$10:X$250,24,FALSE)","v":0},1,0,0,0,"",0]
[null,"State3: Example 28",{"$f":"VLOOKUP($B75,State3!$A$10:E$250,5,FALSE)","v":0},{"$f":"VLOOKUP($B75,State3!$A$10:F$250,6,FALSE)","v":0},{"$f":"MAX(VLOOKUP($B75,State3!$A$10:O$250,15,FALSE),VLOOKUP($B75,State3!$A$10:P$250,16,FALSE))","v":0},{"$f":"VLOOKUP($B75,State3!$A$10:Q$250,17,FALSE)","v":0},0.5,0,{"$f":"VLOOKUP($B75,State3!$A$10:R$250,18,FALSE)","v":0},0.5,0,0,"",0,null,{"$f":"VLOOKUP($B75,State3!$A$10:T$250,20,FALSE)","v":0},{"$f":"VLOOKUP($B75,State3!$A$10:U$250,21,FALSE)","v":0},{"$f":"VLOOKUP($B75,State3!$A$10:V$250,22,FALSE)","v":0},{"$f":"VLOOKUP($B75,State3!$A$10:W$250,23,FALSE)","v":0},1,0,{"$f":"VLOOKUP($B75,State3!$A$10:X$250,24,FALSE)","v":0},1,0,0,0,"",0]
[null,"State3: Example 29",{"$f":"VLOOKUP($B76,State3!$A$10:E$250,5,FALSE)","v":0},{"$f":"VLOOKUP($B76,State3!$A$10:F$250,6,FALSE)","v":0},{"$f":"MAX(VLOOKUP($B76,State3!$A$10:O$250,15,FALSE),VLOOKUP($B76,State3!$A$10:P$250,16,FALSE))","v":0},{"$f":"VLOOKUP($B76,State3!$A$10:Q$250,17,FALSE)","v":0},0.5,0,{"$f":"VLOOKUP($B76,State3!$A$10:R$250,18,FALSE)","v":0},0.5,0,0,"",0,null,{"$f":"VLOOKUP($B76,State3!$A$10:T$250,20,FALSE)","v":0},{"$f":"VLOOKUP($B76,State3!$A$10:U$250,21,FALSE)","v":0},{"$f":"VLOOKUP($B76,State3!$A$10:V$250,22,FALSE)","v":0},{"$f":"VLOOKUP($B76,State3!$A$10:W$250,23,FALSE)","v":0},1,0,{"$f":"VLOOKUP($B76,State3!$A$10:X$250,24,FALSE)","v":0},1,0,0,0,"",0]
[null,"State3: Example 30",{"$f":"VLOOKUP($B77,State3!$A$10:E$250,5,FALSE)","v":0},{"$f":"VLOOKUP($B77,State3!$A$10:F$250,6,FALSE)","v":0},{"$f":"MAX(VLOOKUP($B77,State3!$A$10:O$250,15,FALSE),VLOOKUP($B77,State3!$A$10:P$250,16,FALSE))","v":0},{"$f":"VLOOKUP($B77,State3!$A$10:Q$250,17,FALSE)","v":0},0.5,0,{"$f":"VLOOKUP($B77,State3!$A$10:R$250,18,FALSE)","v":0},0.5,0,0,"",0,null,{"$f":"VLOOKUP($B77,State3!$A$10:T$250,20,FALSE)","v":0},{"$f":"VLOOKUP($B77,State3!$A$10:U$250,21,FALSE)","v":0},{"$f":"VLOOKUP($B77,State3!$A$10:V$250,22,FALSE)","v":0},{"$f":"VLOOKUP($B77,State3!$A$10:W$250,23,FALSE)","v":0},1,0,{"$f":"VLOOKUP($B77,State3!$A$10:X$250,24,FALSE)","v":0},1,0,0,0,"",0]
[null,"State3: Example 31",{"$f":"VLOOKUP($B78,State3!$A$10:E$250,5,FALSE)","v":0},{"$f":"VLOOKUP($B78,State3!$A$10:F$250,6,FALSE)","v":0},{"$f":"MAX(VLOOKUP($B78,State3!$A$10:O$250,15,FALSE),VLOOKUP($B78,State3!$A$10:P$250,16,FALSE))","v":0},{"$f":"VLOOKUP($B78,State3!$A$10:Q$250,17,FALSE)","v":0},0.5,0,{"$f":"VLOOKUP($B78,State3!$A$10:R$250,18,FALSE)","v":0},0.5,0,0,"",0,null,{"$f":"VLOOKUP($B78,State3!$A$10:T$250,20,FALSE)","v":0},{"$f":"VLOOKUP($B78,State3!$A$10:U$250,21,FALSE)","v":0},{"$f":"VLOOKUP($B78,State3!$A$10:V$250,22,FALSE)","v":0},{"$f":"VLOOKUP($B78,State3!$A$10:W$250,23,FALSE)","v":0},1,0,{"$f":"VLOOKUP($B78,State3!$A$10:X$250,24,FALSE)","v":0},1,0,0,0,"",0]
[null,"State3: Example 32",{"$f":"VLOOKUP($B79,State3!$A$10:E$250,5,FALSE)","v":0},{"$f":"VLOOKUP($B79,State3!$A$10:F$250,6,FALSE)","v":0},{"$f":"MAX(VLOOKUP($B79,State3!$A$10:O$250,15,FALSE),VLOOKUP($B79,State3!$A$10:P$250,16,FALSE))","v":0},{"$f":"VLOOKUP($B79,State3!$A$10:Q$250,17,FALSE)","v":0},0.5,0,{"$f":"VLOOKUP($B79,State3!$A$10:R$250,18,FALSE)","v":0},0.5,0,0,"",0,null,{"$f":"VLOOKUP($B79,State3!$A$10:T$250,20,FALSE)","v":0},{"$f":"VLOOKUP($B79,State3!$A$10:U$250,21,FALSE)","v":0},{"$f":"VLOOKUP($B79,State3!$A$10:V$250,22,FALSE)","v":0},{"$f":"VLOOKUP($B79,State3!$A$10:W$250,23,FALSE)","v":0},1,0,{"$f":"VLOOKUP($B79,State3!$A$10:X$250,24,FALSE)","v":0},1,0,0,0,"",0]
[null,"State3: Example 33",{"$f":"VLOOKUP($B80,State3!$A$10:E$250,5,FALSE)","v":0},{"$f":"VLOOKUP($B80,State3!$A$10:F$250,6,FALSE)","v":0},{"$f":"MAX(VLOOKUP($B80,State3!$A$10:O$250,15,FALSE),VLOOKUP($B80,State3!$A$10:P$250,16,FALSE))","v":0},{"$f":"VLOOKUP($B80,State3!$A$10:Q$250,17,FALSE)","v":0},0.5,0,{"$f":"VLOOKUP($B80,State3!$A$10:R$250,18,FALSE)","v":0},0.5,0,0,"",0,null,{"$f":"VLOOKUP($B80,State3!$A$10:T$250,20,FALSE)","v":0},{"$f":"VLOOKUP($B80,State3!$A$10:U$250,21,FALSE)","v":0},{"$f":"VLOOKUP($B80,State3!$A$10:V$250,22,FALSE)","v":0},{"$f":"VLOOKUP($B80,State3!$A$10:W$250,23,FALSE)","v":0},1,0,{"$f":"VLOOKUP($B80,State3!$A$10:X$250,24,FALSE)","v":0},1,0,0,0,"",0]
[null,"State3: Example 34",{"$f":"VLOOKUP($B81,State3!$A$10:E$250,5,FALSE)","v":0},{"$f":"VLOOKUP($B81,State3!$A$10:F$250,6,FALSE)","v":0},{"$f":"MAX(VLOOKUP($B81,State3!$A$10:O$250,15,FALSE),VLOOKUP($B81,State3!$A$10:P$250,16,FALSE))","v":0},{"$f":"VLOOKUP($B81,State3!$A$10:Q$250,17,FALSE)","v":0},0.5,0,{"$f":"VLOOKUP($B81,State3!$A$10:R$250,18,FALSE)","v":0},0.5,0,0,"",0,null,{"$f":"VLOOKUP($B81,State3!$A$10:T$250,20,FALSE)","v":0},{"$f":"VLOOKUP($B81,State3!$A$10:U$250,21,FALSE)","v":0},{"$f":"VLOOKUP($B81,State3!$A$10:V$250,22,FALSE)","v":0},{"$f":"VLOOKUP($B81,State3!$A$10:W$250,23,FALSE)","v":0},1,0,{"$f":"VLOOKUP($B81,State3!$A$10:X$250,24,FALSE)","v":0},1,0,0,0,"",0]
[null,"State3: Example 35",{"$f":"VLOOKUP($B82,State3!$A$10:E$250,5,FALSE)","v":0},{"$f":"VLOOKUP($B82,State3!$A$10:F$250,6,FALSE)","v":0},{"$f":"MAX(VLOOKUP($B82,State3!$A$10:O$250,15,FALSE),VLOOKUP($B82,State3!$A$10:P$250,16,FALSE))","v":0},{"$f":"VLOOKUP($B82,State3!$A$10:Q$250,17,FALSE)","v":0},0.5,0,{"$f":"VLOOKUP($B82,State3!$A$10:R$250,18,FALSE)","v":0},0.5,0,0,"",0,null,{"$f":"VLOOKUP($B82,State3!$A$10:T$250,20,FALSE)","v":0},{"$f":"VLOOKUP($B82,State3!$A$10:U$250,21,FALSE)","v":0},{"$f":"VLOOKUP($B82,State3!$A$10:V$250,22,FALSE)","v":0},{"$f":"VLOOKUP($B82,State3!$A$10:W$250,23,FALSE)","v":0},1,0,{"$f":"VLOOKUP($B82,State3!$A$10:X$250,24,FALSE)","v":0},1,0,0,0,"",0]
[null,"State3: Example 36",{"$f":"VLOOKUP($B83,State3!$A$10:E$250,5,FALSE)","v":0},{"$f":"VLOOKUP($B83,State3!$A$10:F$250,6,FALSE)","v":0},{"$f":"MAX(VLOOKUP($B83,State3!$A$10:O$250,15,FALSE),VLOOKUP($B83,State3!$A$10:P$250,16,FALSE))","v":0},{"$f":"VLOOKUP($B83,State3!$A$10:Q$250,17,FALSE)","v":0},0.5,0,{"$f":"VLOOKUP($B83,State3!$A$10:R$250,18,FALSE)","v":0},0.5,0,0,"",0,null,{"$f":"VLOOKUP($B83,State3!$A$10:T$250,20,FALSE)","v":0},{"$f":"VLOOKUP($B83,State3!$A$10:U$250,21,FALSE)","v":0},{"$f":"VLOOKUP($B83,State3!$A$10:V$250,22,FALSE)","v":0},{"$f":"VLOOKUP($B83,State3!$A$10:W$250,23,FALSE)","v":0},1,0,{"$f":"VLOOKUP($B83,State3!$A$10:X$250,24,FALSE)","v":0},1,0,0,0,"",0]
[null,"State3: Example 37",{"$f":"VLOOKUP($B84,State3!$A$10:E$250,5,FALSE)","v":0},{"$f":"VLOOKUP($B84,State3!$A$10:F$250,6,FALSE)","v":0},{"$f":"MAX(VLOOKUP($B84,State3!$A$10:O$250,15,FALSE),VLOOKUP($B84,State3!$A$10:P$250,16,FALSE))","v":0},{"$f":"VLOOKUP($B84,State3!$A$10:Q$250,17,FALSE)","v":0},0.5,0,{"$f":"VLOOKUP($B84,State3!$A$10:R$250,18,FALSE)","v":0},0.5,0,0,"",0,null,{"$f":"VLOOKUP($B84,State3!$A$10:T$250,20,FALSE)","v":0},{"$f":"VLOOKUP($B84,State3!$A$10:U$250,21,FALSE)","v":0},{"$f":"VLOOKUP($B84,State3!$A$10:V$250,22,FALSE)","v":0},{"$f":"VLOOKUP($B84,State3!$A$10:W$250,23,FALSE)","v":0},1,0,{"$f":"VLOOKUP($B84,State3!$A$10:X$250,24,FALSE)","v":0},1,0,0,0,"",0]
[null,"State3: Example 38",{"$f":"VLOOKUP($B85,State3!$A$10:E$250,5,FALSE)","v":0},{"$f":"VLOOKUP($B85,State3!$A$10:F$250,6,FALSE)","v":0},{"$f":"MAX(VLOOKUP($B85,State3!$A$10:O$250,15,FALSE),VLOOKUP($B85,State3!$A$10:P$250,16,FALSE))","v":0},{"$f":"VLOOKUP($B85,State3!$A$10:Q$250,17,FALSE)","v":0},0.5,0,{"$f":"VLOOKUP($B85,State3!$A$10:R$250,18,FALSE)","v":0},0.5,0,0,"",0,null,{"$f":"VLOOKUP($B85,State3!$A$10:T$250,20,FALSE)","v":0},{"$f":"VLOOKUP($B85,State3!$A$10:U$250,21,FALSE)","v":0},{"$f":"VLOOKUP($B85,State3!$A$10:V$250,22,FALSE)","v":0},{"$f":"VLOOKUP($B85,State3!$A$10:W$250,23,FALSE)","v":0},1,0,{"$f":"VLOOKUP($B85,State3!$A$10:X$250,24,FALSE)","v":0},1,0,0,0,"",0]
[null,"State3: Example 39",{"$f":"VLOOKUP($B86,State3!$A$10:E$250,5,FALSE)","v":0},{"$f":"VLOOKUP($B86,State3!$A$10:F$250,6,FALSE)","v":0},{"$f":"MAX(VLOOKUP($B86,State3!$A$10:O$250,15,FALSE),VLOOKUP($B86,State3!$A$10:P$250,16,FALSE))","v":0},{"$f":"VLOOKUP($B86,State3!$A$10:Q$250,17,FALSE)","v":0},0.5,0,{"$f":"VLOOKUP($B86,State3!$A$10:R$250,18,FALSE)","v":0},0.5,0,0,"",0,null,{"$f":"VLOOKUP($B86,State3!$A$10:T$250,20,FALSE)","v":0},{"$f":"VLOOKUP($B86,State3!$A$10:U$250,21,FALSE)","v":0},{"$f":"VLOOKUP($B86,State3!$A$10:V$250,22,FALSE)","v":0},{"$f":"VLOOKUP($B86,State3!$A$10:W$250,23,FALSE)","v":0},1,0,{"$f":"VLOOKUP($B86,State3!$A$10:X$250,24,FALSE)","v":0},1,0,0,0,"",0]
[null,"State3: Example 40",{"$f":"VLOOKUP($B87,State3!$A$10:E$250,5,FALSE)","v":0},{"$f":"VLOOKUP($B87,State3!$A$10:F$250,6,FALSE)","v":0},{"$f":"MAX(VLOOKUP($B87,State3!$A$10:O$250,15,FALSE),VLOOKUP($B87,State3!$A$10:P$250,16,FALSE))","v":0},{"$f":"VLOOKUP($B87,State3!$A$10:Q$250,17,FALSE)","v":0},0.5,0,{"$f":"VLOOKUP($B87,State3!$A$10:R$250,18,FALSE)","v":0},0.5,0,0,"",0,null,{"$f":"VLOOKUP($B87,State3!$A$10:T$250,20,FALSE)","v":0},{"$f":"VLOOKUP($B87,State3!$A$10:U$250,21,FALSE)","v":0},{"$f":"VLOOKUP($B87,State3!$A$10:V$250,22,FALSE)","v":0},{"$f":"VLOOKUP($B87,State3!$A$10:W$250,23,FALSE)","v":0},1,0,{"$f":"VLOOKUP($B87,State3!$A$10:X$250,24,FALSE)","v":0},1,0,0,0,"",0]
[null,"State3: Example 41",{"$f":"VLOOKUP($B88,State3!$A$10:E$250,5,FALSE)","v":0},{"$f":"VLOOKUP($B88,State3!$A$10:F$250,6,FALSE)","v":0},{"$f":"MAX(VLOOKUP($B88,State3!$A$10:O$250,15,FALSE),VLOOKUP($B88,State3!$A$10:P$250,16,FALSE))","v":0},{"$f":"VLOOKUP($B88,State3!$A$10:Q$250,17,FALSE)","v":0},0.5,0,{"$f":"VLOOKUP($B88,State3!$A$10:R$250,18,FALSE)","v":0},0.5,0,0,"",0,null,{"$f":"VLOOKUP($B88,State3!$A$10:T$250,20,FALSE)","v":0},{"$f":"VLOOKUP($B88,State3!$A$10:U$250,21,FALSE)","v":0},{"$f":"VLOOKUP($B88,State3!$A$10:V$250,22,FALSE)","v":0},{"$f":"VLOOKUP($B88,State3!$A$10:W$250,23,FALSE)","v":0},1,0,{"$f":"VLOOKUP($B88,State3!$A$10:X$250,24,FALSE)","v":0},1,0,0,0,"",0]
[null,"State3: Example 42",{"$f":"VLOOKUP($B89,State3!$A$10:E$250,5,FALSE)","v":0},{"$f":"VLOOKUP($B89,State3!$A$10:F$250,6,FALSE)","v":0},{"$f":"MAX(VLOOKUP($B89,State3!$A$10:O$250,15,FALSE),VLOOKUP($B89,State3!$A$10:P$250,16,FALSE))","v":0},{"$f":"VLOOKUP($B89,State3!$A$10:Q$250,17,FALSE)","v":0},0.5,0,{"$f":"VLOOKUP($B89,State3!$A$10:R$250,18,FALSE)","v":0},0.5,0,0,"",0,null,{"$f":"VLOOKUP($B89,State3!$A$10:T$250,20,FALSE)","v":0},{"$f":"VLOOKUP($B89,State3!$A$10:U$250,21,FALSE)","v":0},{"$f":"VLOOKUP($B89,State3!$A$10:V$250,22,FALSE)","v":0},{"$f":"VLOOKUP($B89,State3!$A$10:W$250,23,FALSE)","v":0},1,0,{"$f":"VLOOKUP($B89,State3!$A$10:X$250,24,FALSE)","v":0},1,0,0,0,"",0]
[null,"State3: Example 43",{"$f":"VLOOKUP($B90,State3!$A$10:E$250,5,FALSE)","v":0},{"$f":"VLOOKUP($B90,State3!$A$10:F$250,6,FALSE)","v":0},{"$f":"MAX(VLOOKUP($B90,State3!$A$10:O$250,15,FALSE),VLOOKUP($B90,State3!$A$10:P$250,16,FALSE))","v":0},{"$f":"VLOOKUP($B90,State3!$A$10:Q$250,17,FALSE)","v":0},0.5,0,{"$f":"VLOOKUP($B90,State3!$A$10:R$250,18,FALSE)","v":0},0.5,0,0,"",0,null,{"$f":"VLOOKUP($B90,State3!$A$10:T$250,20,FALSE)","v":0},{"$f":"VLOOKUP($B90,State3!$A$10:U$250,21,FALSE)","v":0},{"$f":"VLOOKUP($B90,State3!$A$10:V$250,22,FALSE)","v":0},{"$f":"VLOOKUP($B90,State3!$A$10:W$250,23,FALSE)","v":0},1,0,{"$f":"VLOOKUP($B90,State3!$A$10:X$250,24,FALSE)","v":0},1,0,0,0,"",0]
[null,"State3: Example 44",{"$f":"VLOOKUP($B91,State3!$A$10:E$250,5,FALSE)","v":0},{"$f":"VLOOKUP($B91,State3!$A$10:F$250,6,FALSE)","v":0},{"$f":"MAX(VLOOKUP($B91,State3!$A$10:O$250,15,FALSE),VLOOKUP($B91,State3!$A$10:P$250,16,FALSE))","v":0},{"$f":"VLOOKUP($B91,State3!$A$10:Q$250,17,FALSE)","v":0},0.5,0,{"$f":"VLOOKUP($B91,State3!$A$10:R$250,18,FALSE)","v":0},0.5,0,0,"",0,null,{"$f":"VLOOKUP($B91,State3!$A$10:T$250,20,FALSE)","v":0},{"$f":"VLOOKUP($B91,State3!$A$10:U$250,21,FALSE)","v":0},{"$f":"VLOOKUP($B91,State3!$A$10:V$250,22,FALSE)","v":0},{"$f":"VLOOKUP($B91,State3!$A$10:W$250,23,FALSE)","v":0},1,0,{"$f":"VLOOKUP($B91,State3!$A$10:X$250,24,FALSE)","v":0},1,0,0,0,"",0]
[null,"State3: Example 47",{"$f":"VLOOKUP($B92,State3!$A$10:E$250,5,FALSE)","v":0},{"$f":"VLOOKUP($B92,State3!$A$10:F$250,6,FALSE)","v":0},{"$f":"MAX(VLOOKUP($B92,State3!$A$10:O$250,15,FALSE),VLOOKUP($B92,State3!$A$10:P$250,16,FALSE))","v":0},{"$f":"VLOOKUP($B92,State3!$A$10:Q$250,17,FALSE)","v":0},0.5,0,{"$f":"VLOOKUP($B92,State3!$A$10:R$250,18,FALSE)","v":0},0.5,0,0,"",0,null,{"$f":"VLOOKUP($B92,State3!$A$10:T$250,20,FALSE)","v":0},{"$f":"VLOOKUP($B92,State3!$A$10:U$250,21,FALSE)","v":0},{"$f":"VLOOKUP($B92,State3!$A$10:V$250,22,FALSE)","v":0},{"$f":"VLOOKUP($B92,State3!$A$10:W$250,23,FALSE)","v":0},1,0,{"$f":"VLOOKUP($B92,State3!$A$10:X$250,24,FALSE)","v":0},1,0,0,0,"",0]
[null,"State3: Example 48",{"$f":"VLOOKUP($B93,State3!$A$10:E$250,5,FALSE)","v":0},{"$f":"VLOOKUP($B93,State3!$A$10:F$250,6,FALSE)","v":0},{"$f":"MAX(VLOOKUP($B93,State3!$A$10:O$250,15,FALSE),VLOOKUP($B93,State3!$A$10:P$250,16,FALSE))","v":0},{"$f":"VLOOKUP($B93,State3!$A$10:Q$250,17,FALSE)","v":0},0.5,0,{"$f":"VLOOKUP($B93,State3!$A$10:R$250,18,FALSE)","v":0},0.5,0,0,"",0,null,{"$f":"VLOOKUP($B93,State3!$A$10:T$250,20,FALSE)","v":0},{"$f":"VLOOKUP($B93,State3!$A$10:U$250,21,FALSE)","v":0},{"$f":"VLOOKUP($B93,State3!$A$10:V$250,22,FALSE)","v":0},{"$f":"VLOOKUP($B93,State3!$A$10:W$250,23,FALSE)","v":0},1,0,{"$f":"VLOOKUP($B93,State3!$A$10:X$250,24,FALSE)","v":0},1,0,0,0,"",0]
[null,"State3: Example 49",{"$f":"VLOOKUP($B94,State3!$A$10:E$250,5,FALSE)","v":0},{"$f":"VLOOKUP($B94,State3!$A$10:F$250,6,FALSE)","v":0},{"$f":"MAX(VLOOKUP($B94,State3!$A$10:O$250,15,FALSE),VLOOKUP($B94,State3!$A$10:P$250,16,FALSE))","v":0},{"$f":"VLOOKUP($B94,State3!$A$10:Q$250,17,FALSE)","v":0},0.5,0,{"$f":"VLOOKUP($B94,State3!$A$10:R$250,18,FALSE)","v":0},0.5,0,0,"",0,null,{"$f":"VLOOKUP($B94,State3!$A$10:T$250,20,FALSE)","v":0},{"$f":"VLOOKUP($B94,State3!$A$10:U$250,21,FALSE)","v":0},{"$f":"VLOOKUP($B94,State3!$A$10:V$250,22,FALSE)","v":0},{"$f":"VLOOKUP($B94,State3!$A$10:W$250,23,FALSE)","v":0},1,0,{"$f":"VLOOKUP($B94,State3!$A$10:X$250,24,FALSE)","v":0},1,0,0,0,"",0]
[null,"State3: Example 50",{"$f":"VLOOKUP($B95,State3!$A$10:E$250,5,FALSE)","v":0},{"$f":"VLOOKUP($B95,State3!$A$10:F$250,6,FALSE)","v":0},{"$f":"MAX(VLOOKUP($B95,State3!$A$10:O$250,15,FALSE),VLOOKUP($B95,State3!$A$10:P$250,16,FALSE))","v":0},{"$f":"VLOOKUP($B95,State3!$A$10:Q$250,17,FALSE)","v":0},0.5,0,{"$f":"VLOOKUP($B95,State3!$A$10:R$250,18,FALSE)","v":0},0.5,0,0,"",0,null,{"$f":"VLOOKUP($B95,State3!$A$10:T$250,20,FALSE)","v":0},{"$f":"VLOOKUP($B95,State3!$A$10:U$250,21,FALSE)","v":0},{"$f":"VLOOKUP($B95,State3!$A$10:V$250,22,FALSE)","v":0},{"$f":"VLOOKUP($B95,State3!$A$10:W$250,23,FALSE)","v":0},1,0,{"$f":"VLOOKUP($B95,State3!$A$10:X$250,24,FALSE)","v":0},1,0,0,0,"",0]
[null,"State3: Example 51",{"$f":"VLOOKUP($B96,State3!$A$10:E$250,5,FALSE)","v":0},{"$f":"VLOOKUP($B96,State3!$A$10:F$250,6,FALSE)","v":0},{"$f":"MAX(VLOOKUP($B96,State3!$A$10:O$250,15,FALSE),VLOOKUP($B96,State3!$A$10:P$250,16,FALSE))","v":0},{"$f":"VLOOKUP($B96,State3!$A$10:Q$250,17,FALSE)","v":0},0.5,0,{"$f":"VLOOKUP($B96,State3!$A$10:R$250,18,FALSE)","v":0},0.5,0,0,"",0,null,{"$f":"VLOOKUP($B96,State3!$A$10:T$250,20,FALSE)","v":0},{"$f":"VLOOKUP($B96,State3!$A$10:U$250,21,FALSE)","v":0},{"$f":"VLOOKUP($B96,State3!$A$10:V$250,22,FALSE)","v":0},{"$f":"VLOOKUP($B96,State3!$A$10:W$250,23,FALSE)","v":0},1,0,{"$f":"VLOOKUP($B96,State3!$A$10:X$250,24,FALSE)","v":0},1,0,0,0,"",0]
[null,"State3: Example 52",{"$f":"VLOOKUP($B97,State3!$A$10:E$250,5,FALSE)","v":0},{"$f":"VLOOKUP($B97,State3!$A$10:F$250,6,FALSE)","v":0},{"$f":"MAX(VLOOKUP($B97,State3!$A$10:O$250,15,FALSE),VLOOKUP($B97,State3!$A$10:P$250,16,FALSE))","v":0},{"$f":"VLOOKUP($B97,State3!$A$10:Q$250,17,FALSE)","v":0},0.5,0,{"$f":"VLOOKUP($B97,State3!$A$10:R$250,18,FALSE)","v":0},0.5,0,0,"",0,null,{"$f":"VLOOKUP($B97,State3!$A$10:T$250,20,FALSE)","v":0},{"$f":"VLOOKUP($B97,State3!$A$10:U$250,21,FALSE)","v":0},{"$f":"VLOOKUP($B97,State3!$A$10:V$250,22,FALSE)","v":0},{"$f":"VLOOKUP($B97,State3!$A$10:W$250,23,FALSE)","v":0},1,0,{"$f":"VLOOKUP($B97,State3!$A$10:X$250,24,FALSE)","v":0},1,0,0,0,"",0]
[null,"State3: Example 53",{"$f":"VLOOKUP($B98,State3!$A$10:E$250,5,FALSE)","v":0},{"$f":"VLOOKUP($B98,State3!$A$10:F$250,6,FALSE)","v":0},{"$f":"MAX(VLOOKUP($B98,State3!$A$10:O$250,15,FALSE),VLOOKUP($B98,State3!$A$10:P$250,16,FALSE))","v":0},{"$f":"VLOOKUP($B98,State3!$A$10:Q$250,17,FALSE)","v":0},0.5,0,{"$f":"VLOOKUP($B98,State3!$A$10:R$250,18,FALSE)","v":0},0.5,0,0,"",0,null,{"$f":"VLOOKUP($B98,State3!$A$10:T$250,20,FALSE)","v":0},{"$f":"VLOOKUP($B98,State3!$A$10:U$250,21,FALSE)","v":0},{"$f":"VLOOKUP($B98,State3!$A$10:V$250,22,FALSE)","v":0},{"$f":"VLOOKUP($B98,State3!$A$10:W$250,23,FALSE)","v":0},1,0,{"$f":"VLOOKUP($B98,State3!$A$10:X$250,24,FALSE)","v":0},1,0,0,0,"",0]
[null,"State3: Example 54",{"$f":"VLOOKUP($B99,State3!$A$10:E$250,5,FALSE)","v":0},{"$f":"VLOOKUP($B99,State3!$A$10:F$250,6,FALSE)","v":0},{"$f":"MAX(VLOOKUP($B99,State3!$A$10:O$250,15,FALSE),VLOOKUP($B99,State3!$A$10:P$250,16,FALSE))","v":0},{"$f":"VLOOKUP($B99,State3!$A$10:Q$250,17,FALSE)","v":0},0.5,0,{"$f":"VLOOKUP($B99,State3!$A$10:R$250,18,FALSE)","v":0},0.5,0,0,"",0,null,{"$f":"VLOOKUP($B99,State3!$A$10:T$250,20,FALSE)","v":0},{"$f":"VLOOKUP($B99,State3!$A$10:U$250,21,FALSE)","v":0},{"$f":"VLOOKUP($B99,State3!$A$10:V$250,22,FALSE)","v":0},{"$f":"VLOOKUP($B99,State3!$A$10:W$250,23,FALSE)","v":0},1,0,{"$f":"VLOOKUP($B99,State3!$A$10:X$250,24,FALSE)","v":0},1,0,0,0,"",0]
[null,"State3: Example 55",{"$f":"VLOOKUP($B100,State3!$A$10:E$250,5,FALSE)","v":0},{"$f":"VLOOKUP($B100,State3!$A$10:F$250,6,FALSE)","v":0},{"$f":"MAX(VLOOKUP($B100,State3!$A$10:O$250,15,FALSE),VLOOKUP($B100,State3!$A$10:P$250,16,FALSE))","v":0},{"$f":"VLOOKUP($B100,State3!$A$10:Q$250,17,FALSE)","v":0},0.5,0,{"$f":"VLOOKUP($B100,State3!$A$10:R$250,18,FALSE)","v":0},0.5,0,0,"",0,null,{"$f":"VLOOKUP($B100,State3!$A$10:T$250,20,FALSE)","v":0},{"$f":"VLOOKUP($B100,State3!$A$10:U$250,21,FALSE)","v":0},{"$f":"VLOOKUP($B100,State3!$A$10:V$250,22,FALSE)","v":0},{"$f":"VLOOKUP($B100,State3!$A$10:W$250,23,FALSE)","v":0},1,0,{"$f":"VLOOKUP($B100,State3!$A$10:X$250,24,FALSE)","v":0},1,0,0,0,"",0]
[null,"State3: Example 56",{"$f":"VLOOKUP($B101,State3!$A$10:E$250,5,FALSE)","v":0},{"$f":"VLOOKUP($B101,State3!$A$10:F$250,6,FALSE)","v":0},{"$f":"MAX(VLOOKUP($B101,State3!$A$10:O$250,15,FALSE),VLOOKUP($B101,State3!$A$10:P$250,16,FALSE))","v":0},{"$f":"VLOOKUP($B101,State3!$A$10:Q$250,17,FALSE)","v":0},0.5,0,{"$f":"VLOOKUP($B101,State3!$A$10:R$250,18,FALSE)","v":0},0.5,0,0,"",0,null,{"$f":"VLOOKUP($B101,State3!$A$10:T$250,20,FALSE)","v":0},{"$f":"VLOOKUP($B101,State3!$A$10:U$250,21,FALSE)","v":0},{"$f":"VLOOKUP($B101,State3!$A$10:V$250,22,FALSE)","v":0},{"$f":"VLOOKUP($B101,State3!$A$10:W$250,23,FALSE)","v":0},1,0,{"$f":"VLOOKUP($B101,State3!$A$10:X$250,24,FALSE)","v":0},1,0,0,0,"",0]
[null,"State3: Example 57",{"$f":"VLOOKUP($B102,State3!$A$10:E$250,5,FALSE)","v":0},{"$f":"VLOOKUP($B102,State3!$A$10:F$250,6,FALSE)","v":0},{"$f":"MAX(VLOOKUP($B102,State3!$A$10:O$250,15,FALSE),VLOOKUP($B102,State3!$A$10:P$250,16,FALSE))","v":0},{"$f":"VLOOKUP($B102,State3!$A$10:Q$250,17,FALSE)","v":0},0.5,0,{"$f":"VLOOKUP($B102,State3!$A$10:R$250,18,FALSE)","v":0},0.5,0,0,"",0,null,{"$f":"VLOOKUP($B102,State3!$A$10:T$250,20,FALSE)","v":0},{"$f":"VLOOKUP($B102,State3!$A$10:U$250,21,FALSE)","v":0},{"$f":"VLOOKUP($B102,State3!$A$10:V$250,22,FALSE)","v":0},{"$f":"VLOOKUP($B102,State3!$A$10:W$250,23,FALSE)","v":0},1,0,{"$f":"VLOOKUP($B102,State3!$A$10:X$250,24,FALSE)","v":0},1,0,0,0,"",0]
[null,"State3: Example 58",{"$f":"VLOOKUP($B103,State3!$A$10:E$250,5,FALSE)","v":0},{"$f":"VLOOKUP($B103,State3!$A$10:F$250,6,FALSE)","v":0},{"$f":"MAX(VLOOKUP($B103,State3!$A$10:O$250,15,FALSE),VLOOKUP($B103,State3!$A$10:P$250,16,FALSE))","v":0},{"$f":"VLOOKUP($B103,State3!$A$10:Q$250,17,FALSE)","v":0},0.5,0,{"$f":"VLOOKUP($B103,State3!$A$10:R$250,18,FALSE)","v":0},0.5,0,0,"",0,null,{"$f":"VLOOKUP($B103,State3!$A$10:T$250,20,FALSE)","v":0},{"$f":"VLOOKUP($B103,State3!$A$10:U$250,21,FALSE)","v":0},{"$f":"VLOOKUP($B103,State3!$A$10:V$250,22,FALSE)","v":0},{"$f":"VLOOKUP($B103,State3!$A$10:W$250,23,FALSE)","v":0},1,0,{"$f":"VLOOKUP($B103,State3!$A$10:X$250,24,FALSE)","v":0},1,0,0,0,"",0]
[null,"State3: Example 59",{"$f":"VLOOKUP($B104,State3!$A$10:E$250,5,FALSE)","v":0},{"$f":"VLOOKUP($B104,State3!$A$10:F$250,6,FALSE)","v":0},{"$f":"MAX(VLOOKUP($B104,State3!$A$10:O$250,15,FALSE),VLOOKUP($B104,State3!$A$10:P$250,16,FALSE))","v":0},{"$f":"VLOOKUP($B104,State3!$A$10:Q$250,17,FALSE)","v":0},0.5,0,{"$f":"VLOOKUP($B104,State3!$A$10:R$250,18,FALSE)","v":0},0.5,0,0,"",0,null,{"$f":"VLOOKUP($B104,State3!$A$10:T$250,20,FALSE)","v":0},{"$f":"VLOOKUP($B104,State3!$A$10:U$250,21,FALSE)","v":0},{"$f":"VLOOKUP($B104,State3!$A$10:V$250,22,FALSE)","v":0},{"$f":"VLOOKUP($B104,State3!$A$10:W$250,23,FALSE)","v":0},1,0,{"$f":"VLOOKUP($B104,State3!$A$10:X$250,24,FALSE)","v":0},1,0,0,0,"",0]
[null,"State3: Example 60",{"$f":"VLOOKUP($B105,State3!$A$10:E$250,5,FALSE)","v":0},{"$f":"VLOOKUP($B105,State3!$A$10:F$250,6,FALSE)","v":0},{"$f":"MAX(VLOOKUP($B105,State3!$A$10:O$250,15,FALSE),VLOOKUP($B105,State3!$A$10:P$250,16,FALSE))","v":0},{"$f":"VLOOKUP($B105,State3!$A$10:Q$250,17,FALSE)","v":0},0.5,0,{"$f":"VLOOKUP($B105,State3!$A$10:R$250,18,FALSE)","v":0},0.5,0,0,"",0,null,{"$f":"VLOOKUP($B105,State3!$A$10:T$250,20,FALSE)","v":0},{"$f":"VLOOKUP($B105,State3!$A$10:U$250,21,FALSE)","v":0},{"$f":"VLOOKUP($B105,State3!$A$10:V$250,22,FALSE)","v":0},{"$f":"VLOOKUP($B105,State3!$A$10:W$250,23,FALSE)","v":0},1,0,{"$f":"VLOOKUP($B105,State3!$A$10:X$250,24,FALSE)","v":0},1,0,0,0,"",0]
[null,"State3: Example 61",{"$f":"VLOOKUP($B106,State3!$A$10:E$250,5,FALSE)","v":0},{"$f":"VLOOKUP($B106,State3!$A$10:F$250,6,FALSE)","v":0},{"$f":"MAX(VLOOKUP($B106,State3!$A$10:O$250,15,FALSE),VLOOKUP($B106,State3!$A$10:P$250,16,FALSE))","v":0},{"$f":"VLOOKUP($B106,State3!$A$10:Q$250,17,FALSE)","v":0},0.5,0,{"$f":"VLOOKUP($B106,State3!$A$10:R$250,18,FALSE)","v":0},0.5,0,0,"",0,null,{"$f":"VLOOKUP($B106,State3!$A$10:T$250,20,FALSE)","v":0},{"$f":"VLOOKUP($B106,State3!$A$10:U$250,21,FALSE)","v":0},{"$f":"VLOOKUP($B106,State3!$A$10:V$250,22,FALSE)","v":0},{"$f":"VLOOKUP($B106,State3!$A$10:W$250,23,FALSE)","v":0},1,0,{"$f":"VLOOKUP($B106,State3!$A$10:X$250,24,FALSE)","v":0},1,0,0,0,"",0]
[null,"State3: Example 62",{"$f":"VLOOKUP($B107,State3!$A$10:E$250,5,FALSE)","v":0},{"$f":"VLOOKUP($B107,State3!$A$10:F$250,6,FALSE)","v":0},{"$f":"MAX(VLOOKUP($B107,State3!$A$10:O$250,15,FALSE),VLOOKUP($B107,State3!$A$10:P$250,16,FALSE))","v":0},{"$f":"VLOOKUP($B107,State3!$A$10:Q$250,17,FALSE)","v":0},0.5,0,{"$f":"VLOOKUP($B107,State3!$A$10:R$250,18,FALSE)","v":0},0.5,0,0,"",0,null,{"$f":"VLOOKUP($B107,State3!$A$10:T$250,20,FALSE)","v":0},{"$f":"VLOOKUP($B107,State3!$A$10:U$250,21,FALSE)","v":0},{"$f":"VLOOKUP($B107,State3!$A$10:V$250,22,FALSE)","v":0},{"$f":"VLOOKUP($B107,State3!$A$10:W$250,23,FALSE)","v":0},1,0,{"$f":"VLOOKUP($B107,State3!$A$10:X$250,24,FALSE)","v":0},1,0,0,0,"",0]
[null,"State3: Example 63",{"$f":"VLOOKUP($B108,State3!$A$10:E$250,5,FALSE)","v":0},{"$f":"VLOOKUP($B108,State3!$A$10:F$250,6,FALSE)","v":0},{"$f":"MAX(VLOOKUP($B108,State3!$A$10:O$250,15,FALSE),VLOOKUP($B108,State3!$A$10:P$250,16,FALSE))","v":0},{"$f":"VLOOKUP($B108,State3!$A$10:Q$250,17,FALSE)","v":0},0.5,0,{"$f":"VLOOKUP($B108,State3!$A$10:R$250,18,FALSE)","v":0},0.5,0,0,"",0,null,{"$f":"VLOOKUP($B108,State3!$A$10:T$250,20,FALSE)","v":0},{"$f":"VLOOKUP($B108,State3!$A$10:U$250,21,FALSE)","v":0},{"$f":"VLOOKUP($B108,State3!$A$10:V$250,22,FALSE)","v":0},{"$f":"VLOOKUP($B108,State3!$A$10:W$250,23,FALSE)","v":0},1,0,{"$f":"VLOOKUP($B108,State3!$A$10:X$250,24,FALSE)","v":0},1,0,0,0,"",0]
[null,"State3: Example 64",{"$f":"VLOOKUP($B109,State3!$A$10:E$250,5,FALSE)","v":0},{"$f":"VLOOKUP($B109,State3!$A$10:F$250,6,FALSE)","v":0},{"$f":"MAX(VLOOKUP($B109,State3!$A$10:O$250,15,FALSE),VLOOKUP($B109,State3!$A$10:P$250,16,FALSE))","v":0},{"$f":"VLOOKUP($B109,State3!$A$10:Q$250,17,FALSE)","v":0},0.5,0,{"$f":"VLOOKUP($B109,State3!$A$10:R$250,18,FALSE)","v":0},0.5,0,0,"",0,null,{"$f":"VLOOKUP($B109,State3!$A$10:T$250,20,FALSE)","v":0},{"$f":"VLOOKUP($B109,State3!$A$10:U$250,21,FALSE)","v":0},{"$f":"VLOOKUP($B109,State3!$A$10:V$250,22,FALSE)","v":0},{"$f":"VLOOKUP($B109,State3!$A$10:W$250,23,FALSE)","v":0},1,0,{"$f":"VLOOKUP($B109,State3!$A$10:X$250,24,FALSE)","v":0},1,0,0,0,"",0]
[null,"State3: Example 65",{"$f":"VLOOKUP($B110,State3!$A$10:E$250,5,FALSE)","v":0},{"$f":"VLOOKUP($B110,State3!$A$10:F$250,6,FALSE)","v":0},{"$f":"MAX(VLOOKUP($B110,State3!$A$10:O$250,15,FALSE),VLOOKUP($B110,State3!$A$10:P$250,16,FALSE))","v":0},{"$f":"VLOOKUP($B110,State3!$A$10:Q$250,17,FALSE)","v":0},0.5,0,{"$f":"VLOOKUP($B110,State3!$A$10:R$250,18,FALSE)","v":0},0.5,0,0,"",0,null,{"$f":"VLOOKUP($B110,State3!$A$10:T$250,20,FALSE)","v":0},{"$f":"VLOOKUP($B110,State3!$A$10:U$250,21,FALSE)","v":0},{"$f":"VLOOKUP($B110,State3!$A$10:V$250,22,FALSE)","v":0},{"$f":"VLOOKUP($B110,State3!$A$10:W$250,23,FALSE)","v":0},1,0,{"$f":"VLOOKUP($B110,State3!$A$10:X$250,24,FALSE)","v":0},1,0,0,0,"",0]
[null,"State3: Example 66",{"$f":"VLOOKUP($B111,State3!$A$10:E$250,5,FALSE)","v":0},{"$f":"VLOOKUP($B111,State3!$A$10:F$250,6,FALSE)","v":0},{"$f":"MAX(VLOOKUP($B111,State3!$A$10:O$250,15,FALSE),VLOOKUP($B111,State3!$A$10:P$250,16,FALSE))","v":0},{"$f":"VLOOKUP($B111,State3!$A$10:Q$250,17,FALSE)","v":0},0.5,0,{"$f":"VLOOKUP($B111,State3!$A$10:R$250,18,FALSE)","v":0},0.5,0,0,"",0,null,{"$f":"VLOOKUP($B111,State3!$A$10:T$250,20,FALSE)","v":0},{"$f":"VLOOKUP($B111,State3!$A$10:U$250,21,FALSE)","v":0},{"$f":"VLOOKUP($B111,State3!$A$10:V$250,22,FALSE)","v":0},{"$f":"VLOOKUP($B111,State3!$A$10:W$250,23,FALSE)","v":0},1,0,{"$f":"VLOOKUP($B111,State3!$A$10:X$250,24,FALSE)","v":0},1,0,0,0,"",0]
[null,"State3: Example 67",{"$f":"VLOOKUP($B112,State3!$A$10:E$250,5,FALSE)","v":0},{"$f":"VLOOKUP($B112,State3!$A$10:F$250,6,FALSE)","v":0},{"$f":"MAX(VLOOKUP($B112,State3!$A$10:O$250,15,FALSE),VLOOKUP($B112,State3!$A$10:P$250,16,FALSE))","v":0},{"$f":"VLOOKUP($B112,State3!$A$10:Q$250,17,FALSE)","v":0},{"$f":"IF(($D$13-$E112)<0,0,MIN($D$13-$E112,F112+$D$17,$D$15))","v":0.5},0,{"$f":"VLOOKUP($B112,State3!$A$10:R$250,18,FALSE)","v":0},{"$f":"MIN(I112+$D$17,$D$15)","v":0.5},0,{"$f":"IF(C112>0,E112+H112,0)","v":0},{"$f":"IF(C112>0,IF(L112<=$D$13,\"YES\",\"NO\"),\"\")","v":""},{"$f":"C112*H112+D112*K112","v":0},null,{"$f":"VLOOKUP($B112,State3!$A$10:T$250,20,FALSE)","v":0},{"$f":"VLOOKUP($B112,State3!$A$10:U$250,21,FALSE)","v":0},{"$f":"VLOOKUP($B112,State3!$A$10:V$250,22,FALSE)","v":0},{"$f":"VLOOKUP($B112,State3!$A$10:W$250,23,FALSE)","v":0},{"$f":"MIN($D$14-$R112,S112+$D$18,$D$16)","v":1},0,{"$f":"VLOOKUP($B112,State3!$A$10:X$250,24,FALSE)","v":0},{"$f":"MIN($D$14-$R112,V112+$D$18,$D$16)","v":1},0,{"$f":"IF(P112>0,R112+U112,0)","v":0},{"$f":"IF(Q112>0,R112+X112,0)","v":0},{"$f":"IF(OR(U112>0,X112>0),IF(AND(Y112<=$D$14,Z112<=$D$14),\"YES\",\"NO\"),\"\")","v":""},{"$f":"P112*U112+Q112*X112","v":0}]
[null,"State3: Example 68",{"$f":"VLOOKUP($B113,State3!$A$10:E$250,5,FALSE)","v":0},{"$f":"VLOOKUP($B113,State3!$A$10:F$250,6,FALSE)","v":0},{"$f":"MAX(VLOOKUP($B113,State3!$A$10:O$250,15,FALSE),VLOOKUP($B113,State3!$A$10:P$250,16,FALSE))","v":0},{"$f":"VLOOKUP($B113,State3!$A$10:Q$250,17,FALSE)","v":0},0.5,0,{"$f":"VLOOKUP($B113,State3!$A$10:R$250,18,FALSE)","v":0},0.5,0,0,"",0,null,{"$f":"VLOOKUP($B113,State3!$A$10:T$250,20,FALSE)","v":0},{"$f":"VLOOKUP($B113,State3!$A$10:U$250,21,FALSE)","v":0},{"$f":"VLOOKUP($B113,State3!$A$10:V$250,22,FALSE)","v":0},{"$f":"VLOOKUP($B113,State3!$A$10:W$250,23,FALSE)","v":0},1,0,{"$f":"VLOOKUP($B113,State3!$A$10:X$250,24,FALSE)","v":0},1,0,0,0,"",0]
[null,"State3: Example 69",{"$f":"VLOOKUP($B114,State3!$A$10:E$250,5,FALSE)","v":0},{"$f":"VLOOKUP($B114,State3!$A$10:F$250,6,FALSE)","v":0},{"$f":"MAX(VLOOKUP($B114,State3!$A$10:O$250,15,FALSE),VLOOKUP($B114,State3!$A$10:P$250,16,FALSE))","v":0},{"$f":"VLOOKUP($B114,State3!$A$10:Q$250,17,FALSE)","v":0},0.5,0,{"$f":"VLOOKUP($B114,State3!$A$10:R$250,18,FALSE)","v":0},0.5,0,0,"",0,null,{"$f":"VLOOKUP($B114,State3!$A$10:T$250,20,FALSE)","v":0},{"$f":"VLOOKUP($B114,State3!$A$10:U$250,21,FALSE)","v":0},{"$f":"VLOOKUP($B114,State3!$A$10:V$250,22,FALSE)","v":0},{"$f":"VLOOKUP($B114,State3!$A$10:W$250,23,FALSE)","v":0},1,0,{"$f":"VLOOKUP($B114,State3!$A$10:X$250,24,FALSE)","v":0},1,0,0,0,"",0]
[null,"State3: Example 70",{"$f":"VLOOKUP($B115,State3!$A$10:E$250,5,FALSE)","v":0},{"$f":"VLOOKUP($B115,State3!$A$10:F$250,6,FALSE)","v":0},{"$f":"MAX(VLOOKUP($B115,State3!$A$10:O$250,15,FALSE),VLOOKUP($B115,State3!$A$10:P$250,16,FALSE))","v":0},{"$f":"VLOOKUP($B115,State3!$A$10:Q$250,17,FALSE)","v":0},0.5,0,{"$f":"VLOOKUP($B115,State3!$A$10:R$250,18,FALSE)","v":0},0.5,0,0,"",0,null,{"$f":"VLOOKUP($B115,State3!$A$10:T$250,20,FALSE)","v":0},{"$f":"VLOOKUP($B115,State3!$A$10:U$250,21,FALSE)","v":0},{"$f":"VLOOKUP($B115,State3!$A$10:V$250,22,FALSE)","v":0},{"$f":"VLOOKUP($B115,State3!$A$10:W$250,23,FALSE)","v":0},1,0,{"$f":"VLOOKUP($B115,State3!$A$10:X$250,24,FALSE)","v":0},1,0,0,0,"",0]
[null,"State3: Example 71",{"$f":"VLOOKUP($B116,State3!$A$10:E$250,5,FALSE)","v":0},{"$f":"VLOOKUP($B116,State3!$A$10:F$250,6,FALSE)","v":0},{"$f":"MAX(VLOOKUP($B116,State3!$A$10:O$250,15,FALSE),VLOOKUP($B116,State3!$A$10:P$250,16,FALSE))","v":0},{"$f":"VLOOKUP($B116,State3!$A$10:Q$250,17,FALSE)","v":0},0.5,0,{"$f":"VLOOKUP($B116,State3!$A$10:R$250,18,FALSE)","v":0},0.5,0,0,"",0,null,{"$f":"VLOOKUP($B116,State3!$A$10:T$250,20,FALSE)","v":0},{"$f":"VLOOKUP($B116,State3!$A$10:U$250,21,FALSE)","v":0},{"$f":"VLOOKUP($B116,State3!$A$10:V$250,22,FALSE)","v":0},{"$f":"VLOOKUP($B116,State3!$A$10:W$250,23,FALSE)","v":0},1,0,{"$f":"VLOOKUP($B116,State3!$A$10:X$250,24,FALSE)","v":0},1,0,0,0,"",0]
[null,"State3: Example 72",{"$f":"VLOOKUP($B117,State3!$A$10:E$250,5,FALSE)","v":0},{"$f":"VLOOKUP($B117,State3!$A$10:F$250,6,FALSE)","v":0},{"$f":"MAX(VLOOKUP($B117,State3!$A$10:O$250,15,FALSE),VLOOKUP($B117,State3!$A$10:P$250,16,FALSE))","v":0},{"$f":"VLOOKUP($B117,State3!$A$10:Q$250,17,FALSE)","v":0},0.5,0,{"$f":"VLOOKUP($B117,State3!$A$10:R$250,18,FALSE)","v":0},0.5,0,0,"",0,null,{"$f":"VLOOKUP($B117,State3!$A$10:T$250,20,FALSE)","v":0},{"$f":"VLOOKUP($B117,State3!$A$10:U$250,21,FALSE)","v":0},{"$f":"VLOOKUP($B117,State3!$A$10:V$250,22,FALSE)","v":0},{"$f":"VLOOKUP($B117,State3!$A$10:W$250,23,FALSE)","v":0},1,0,{"$f":"VLOOKUP($B117,State3!$A$10:X$250,24,FALSE)","v":0},1,0,0,0,"",0]
[null,"State3: Example 73",{"$f":"VLOOKUP($B118,State3!$A$10:E$250,5,FALSE)","v":0},{"$f":"VLOOKUP($B118,State3!$A$10:F$250,6,FALSE)","v":0},{"$f":"MAX(VLOOKUP($B118,State3!$A$10:O$250,15,FALSE),VLOOKUP($B118,State3!$A$10:P$250,16,FALSE))","v":0},{"$f":"VLOOKUP($B118,State3!$A$10:Q$250,17,FALSE)","v":0},0.5,0,{"$f":"VLOOKUP($B118,State3!$A$10:R$250,18,FALSE)","v":0},0.5,0,0,"",0,null,{"$f":"VLOOKUP($B118,State3!$A$10:T$250,20,FALSE)","v":0},{"$f":"VLOOKUP($B118,State3!$A$10:U$250,21,FALSE)","v":0},{"$f":"VLOOKUP($B118,State3!$A$10:V$250,22,FALSE)","v":0},{"$f":"VLOOKUP($B118,State3!$A$10:W$250,23,FALSE)","v":0},1,0,{"$f":"VLOOKUP($B118,State3!$A$10:X$250,24,FALSE)","v":0},1,0,0,0,"",0]
[null,"State3: Example 74",{"$f":"VLOOKUP($B119,State3!$A$10:E$250,5,FALSE)","v":0},{"$f":"VLOOKUP($B119,State3!$A$10:F$250,6,FALSE)","v":0},{"$f":"MAX(VLOOKUP($B119,State3!$A$10:O$250,15,FALSE),VLOOKUP($B119,State3!$A$10:P$250,16,FALSE))","v":0},{"$f":"VLOOKUP($B119,State3!$A$10:Q$250,17,FALSE)","v":0},0.5,0,{"$f":"VLOOKUP($B119,State3!$A$10:R$250,18,FALSE)","v":0},0.5,0,0,"",0,null,{"$f":"VLOOKUP($B119,State3!$A$10:T$250,20,FALSE)","v":0},{"$f":"VLOOKUP($B119,State3!$A$10:U$250,21,FALSE)","v":0},{"$f":"VLOOKUP($B119,State3!$A$10:V$250,22,FALSE)","v":0},{"$f":"VLOOKUP($B119,State3!$A$10:W$250,23,FALSE)","v":0},1,0,{"$f":"VLOOKUP($B119,State3!$A$10:X$250,24,FALSE)","v":0},1,0,0,0,"",0]
[null,"State3: Example 75",{"$f":"VLOOKUP($B120,State3!$A$10:E$250,5,FALSE)","v":0},{"$f":"VLOOKUP($B120,State3!$A$10:F$250,6,FALSE)","v":0},{"$f":"MAX(VLOOKUP($B120,State3!$A$10:O$250,15,FALSE),VLOOKUP($B120,State3!$A$10:P$250,16,FALSE))","v":0},{"$f":"VLOOKUP($B120,State3!$A$10:Q$250,17,FALSE)","v":0},0.5,0,{"$f":"VLOOKUP($B120,State3!$A$10:R$250,18,FALSE)","v":0},0.5,0,0,"",0,null,{"$f":"VLOOKUP($B120,State3!$A$10:T$250,20,FALSE)","v":0},{"$f":"VLOOKUP($B120,State3!$A$10:U$250,21,FALSE)","v":0},{"$f":"VLOOKUP($B120,State3!$A$10:V$250,22,FALSE)","v":0},{"$f":"VLOOKUP($B120,State3!$A$10:W$250,23,FALSE)","v":0},1,0,{"$f":"VLOOKUP($B120,State3!$A$10:X$250,24,FALSE)","v":0},1,0,0,0,"",0]
[null,"State3: Example 76",{"$f":"VLOOKUP($B121,State3!$A$10:E$250,5,FALSE)","v":0},{"$f":"VLOOKUP($B121,State3!$A$10:F$250,6,FALSE)","v":0},{"$f":"MAX(VLOOKUP($B121,State3!$A$10:O$250,15,FALSE),VLOOKUP($B121,State3!$A$10:P$250,16,FALSE))","v":0},{"$f":"VLOOKUP($B121,State3!$A$10:Q$250,17,FALSE)","v":0},0.5,0,{"$f":"VLOOKUP($B121,State3!$A$10:R$250,18,FALSE)","v":0},0.5,0,0,"",0,null,{"$f":"VLOOKUP($B121,State3!$A$10:T$250,20,FALSE)","v":0},{"$f":"VLOOKUP($B121,State3!$A$10:U$250,21,FALSE)","v":0},{"$f":"VLOOKUP($B121,State3!$A$10:V$250,22,FALSE)","v":0},{"$f":"VLOOKUP($B121,State3!$A$10:W$250,23,FALSE)","v":0},1,0,{"$f":"VLOOKUP($B121,State3!$A$10:X$250,24,FALSE)","v":0},1,0,0,0,"",0]
[null,"State3: Example 77",{"$f":"VLOOKUP($B122,State3!$A$10:E$250,5,FALSE)","v":0},{"$f":"VLOOKUP($B122,State3!$A$10:F$250,6,FALSE)","v":0},{"$f":"MAX(VLOOKUP($B122,State3!$A$10:O$250,15,FALSE),VLOOKUP($B122,State3!$A$10:P$250,16,FALSE))","v":0},{"$f":"VLOOKUP($B122,State3!$A$10:Q$250,17,FALSE)","v":0},0.5,0,{"$f":"VLOOKUP($B122,State3!$A$10:R$250,18,FALSE)","v":0},0.5,0,0,"",0,null,{"$f":"VLOOKUP($B122,State3!$A$10:T$250,20,FALSE)","v":0},{"$f":"VLOOKUP($B122,State3!$A$10:U$250,21,FALSE)","v":0},{"$f":"VLOOKUP($B122,State3!$A$10:V$250,22,FALSE)","v":0},{"$f":"VLOOKUP($B122,State3!$A$10:W$250,23,FALSE)","v":0},1,0,{"$f":"VLOOKUP($B122,State3!$A$10:X$250,24,FALSE)","v":0},1,0,0,0,"",0]
[null,"State3: Example 78",{"$f":"VLOOKUP($B123,State3!$A$10:E$250,5,FALSE)","v":0},{"$f":"VLOOKUP($B123,State3!$A$10:F$250,6,FALSE)","v":0},{"$f":"MAX(VLOOKUP($B123,State3!$A$10:O$250,15,FALSE),VLOOKUP($B123,State3!$A$10:P$250,16,FALSE))","v":0},{"$f":"VLOOKUP($B123,State3!$A$10:Q$250,17,FALSE)","v":0},0.5,0,{"$f":"VLOOKUP($B123,State3!$A$10:R$250,18,FALSE)","v":0},0.5,0,0,"",0,null,{"$f":"VLOOKUP($B123,State3!$A$10:T$250,20,FALSE)","v":0},{"$f":"VLOOKUP($B123,State3!$A$10:U$250,21,FALSE)","v":0},{"$f":"VLOOKUP($B123,State3!$A$10:V$250,22,FALSE)","v":0},{"$f":"VLOOKUP($B123,State3!$A$10:W$250,23,FALSE)","v":0},1,0,{"$f":"VLOOKUP($B123,State3!$A$10:X$250,24,FALSE)","v":0},1,0,0,0,"",0]
[null,"State3: Example 79",{"$f":"VLOOKUP($B124,State3!$A$10:E$250,5,FALSE)","v":0},{"$f":"VLOOKUP($B124,State3!$A$10:F$250,6,FALSE)","v":0},{"$f":"MAX(VLOOKUP($B124,State3!$A$10:O$250,15,FALSE),VLOOKUP($B124,State3!$A$10:P$250,16,FALSE))","v":0},{"$f":"VLOOKUP($B124,State3!$A$10:Q$250,17,FALSE)","v":0},0.5,0,{"$f":"VLOOKUP($B124,State3!$A$10:R$250,18,FALSE)","v":0},0.5,0,0,"",0,null,{"$f":"VLOOKUP($B124,State3!$A$10:T$250,20,FALSE)","v":0},{"$f":"VLOOKUP($B124,State3!$A$10:U$250,21,FALSE)","v":0},{"$f":"VLOOKUP($B124,State3!$A$10:V$250,22,FALSE)","v":0},{"$f":"VLOOKUP($B124,State3!$A$10:W$250,23,FALSE)","v":0},1,0,{"$f":"VLOOKUP($B124,State3!$A$10:X$250,24,FALSE)","v":0},1,0,0,0,"",0]
[null,"State3: Example 80",{"$f":"VLOOKUP($B125,State3!$A$10:E$250,5,FALSE)","v":0},{"$f":"VLOOKUP($B125,State3!$A$10:F$250,6,FALSE)","v":0},{"$f":"MAX(VLOOKUP($B125,State3!$A$10:O$250,15,FALSE),VLOOKUP($B125,State3!$A$10:P$250,16,FALSE))","v":0},{"$f":"VLOOKUP($B125,State3!$A$10:Q$250,17,FALSE)","v":0},0.5,0,{"$f":"VLOOKUP($B125,State3!$A$10:R$250,18,FALSE)","v":0},0.5,0,0,"",0,null,{"$f":"VLOOKUP($B125,State3!$A$10:T$250,20,FALSE)","v":0},{"$f":"VLOOKUP($B125,State3!$A$10:U$250,21,FALSE)","v":0},{"$f":"VLOOKUP($B125,State3!$A$10:V$250,22,FALSE)","v":0},{"$f":"VLOOKUP($B125,State3!$A$10:W$250,23,FALSE)","v":0},1,0,{"$f":"VLOOKUP($B125,State3!$A$10:X$250,24,FALSE)","v":0},1,0,0,0,"",0]
[null,"State3: Example 81",{"$f":"VLOOKUP($B126,State3!$A$10:E$250,5,FALSE)","v":0},{"$f":"VLOOKUP($B126,State3!$A$10:F$250,6,FALSE)","v":0},{"$f":"MAX(VLOOKUP($B126,State3!$A$10:O$250,15,FALSE),VLOOKUP($B126,State3!$A$10:P$250,16,FALSE))","v":0},{"$f":"VLOOKUP($B126,State3!$A$10:Q$250,17,FALSE)","v":0},0.5,0,{"$f":"VLOOKUP($B126,State3!$A$10:R$250,18,FALSE)","v":0},0.5,0,0,"",0,null,{"$f":"VLOOKUP($B126,State3!$A$10:T$250,20,FALSE)","v":0},{"$f":"VLOOKUP($B126,State3!$A$10:U$250,21,FALSE)","v":0},{"$f":"VLOOKUP($B126,State3!$A$10:V$250,22,FALSE)","v":0},{"$f":"VLOOKUP($B126,State3!$A$10:W$250,23,FALSE)","v":0},1,0,{"$f":"VLOOKUP($B126,State3!$A$10:X$250,24,FALSE)","v":0},1,0,0,0,"",0]
[null,"State3: Example 82",{"$f":"VLOOKUP($B127,State3!$A$10:E$250,5,FALSE)","v":0},{"$f":"VLOOKUP($B127,State3!$A$10:F$250,6,FALSE)","v":0},{"$f":"MAX(VLOOKUP($B127,State3!$A$10:O$250,15,FALSE),VLOOKUP($B127,State3!$A$10:P$250,16,FALSE))","v":0},{"$f":"VLOOKUP($B127,State3!$A$10:Q$250,17,FALSE)","v":0},0.5,0,{"$f":"VLOOKUP($B127,State3!$A$10:R$250,18,FALSE)","v":0},0.5,0,0,"",0,null,{"$f":"VLOOKUP($B127,State3!$A$10:T$250,20,FALSE)","v":0},{"$f":"VLOOKUP($B127,State3!$A$10:U$250,21,FALSE)","v":0},{"$f":"VLOOKUP($B127,State3!$A$10:V$250,22,FALSE)","v":0},{"$f":"VLOOKUP($B127,State3!$A$10:W$250,23,FALSE)","v":0},1,0,{"$f":"VLOOKUP($B127,State3!$A$10:X$250,24,FALSE)","v":0},1,0,0,0,"",0]
[null,"State3: Example 83",{"$f":"VLOOKUP($B128,State3!$A$10:E$250,5,FALSE)","v":0},{"$f":"VLOOKUP($B128,State3!$A$10:F$250,6,FALSE)","v":0},{"$f":"MAX(VLOOKUP($B128,State3!$A$10:O$250,15,FALSE),VLOOKUP($B128,State3!$A$10:P$250,16,FALSE))","v":0},{"$f":"VLOOKUP($B128,State3!$A$10:Q$250,17,FALSE)","v":0},0.5,0,{"$f":"VLOOKUP($B128,State3!$A$10:R$250,18,FALSE)","v":0},0.5,0,0,"",0,null,{"$f":"VLOOKUP($B128,State3!$A$10:T$250,20,FALSE)","v":0},{"$f":"VLOOKUP($B128,State3!$A$10:U$250,21,FALSE)","v":0},{"$f":"VLOOKUP($B128,State3!$A$10:V$250,22,FALSE)","v":0},{"$f":"VLOOKUP($B128,State3!$A$10:W$250,23,FALSE)","v":0},1,0,{"$f":"VLOOKUP($B128,State3!$A$10:X$250,24,FALSE)","v":0},1,0,0,0,"",0]
[null,"State3: Example 84",{"$f":"VLOOKUP($B129,State3!$A$10:E$250,5,FALSE)","v":0},{"$f":"VLOOKUP($B129,State3!$A$10:F$250,6,FALSE)","v":0},{"$f":"MAX(VLOOKUP($B129,State3!$A$10:O$250,15,FALSE),VLOOKUP($B129,State3!$A$10:P$250,16,FALSE))","v":0},{"$f":"VLOOKUP($B129,State3!$A$10:Q$250,17,FALSE)","v":0},0.5,0,{"$f":"VLOOKUP($B129,State3!$A$10:R$250,18,FALSE)","v":0},0.5,0,0,"",0,null,{"$f":"VLOOKUP($B129,State3!$A$10:T$250,20,FALSE)","v":0},{"$f":"VLOOKUP($B129,State3!$A$10:U$250,21,FALSE)","v":0},{"$f":"VLOOKUP($B129,State3!$A$10:V$250,22,FALSE)","v":0},{"$f":"VLOOKUP($B129,State3!$A$10:W$250,23,FALSE)","v":0},1,0,{"$f":"VLOOKUP($B129,State3!$A$10:X$250,24,FALSE)","v":0},1,0,0,0,"",0]
[null,"State3: Example 85",{"$f":"VLOOKUP($B130,State3!$A$10:E$250,5,FALSE)","v":0},{"$f":"VLOOKUP($B130,State3!$A$10:F$250,6,FALSE)","v":0},{"$f":"MAX(VLOOKUP($B130,State3!$A$10:O$250,15,FALSE),VLOOKUP($B130,State3!$A$10:P$250,16,FALSE))","v":0},{"$f":"VLOOKUP($B130,State3!$A$10:Q$250,17,FALSE)","v":0},0.5,0,{"$f":"VLOOKUP($B130,State3!$A$10:R$250,18,FALSE)","v":0},0.5,0,0,"",0,null,{"$f":"VLOOKUP($B130,State3!$A$10:T$250,20,FALSE)","v":0},{"$f":"VLOOKUP($B130,State3!$A$10:U$250,21,FALSE)","v":0},{"$f":"VLOOKUP($B130,State3!$A$10:V$250,22,FALSE)","v":0},{"$f":"VLOOKUP($B130,State3!$A$10:W$250,23,FALSE)","v":0},1,0,{"$f":"VLOOKUP($B130,State3!$A$10:X$250,24,FALSE)","v":0},1,0,0,0,"",0]
[null,"State3: Example 86",{"$f":"VLOOKUP($B131,State3!$A$10:E$250,5,FALSE)","v":0},{"$f":"VLOOKUP($B131,State3!$A$10:F$250,6,FALSE)","v":0},{"$f":"MAX(VLOOKUP($B131,State3!$A$10:O$250,15,FALSE),VLOOKUP($B131,State3!$A$10:P$250,16,FALSE))","v":0},{"$f":"VLOOKUP($B131,State3!$A$10:Q$250,17,FALSE)","v":0},0.5,0,{"$f":"VLOOKUP($B131,State3!$A$10:R$250,18,FALSE)","v":0},0.5,0,0,"",0,null,{"$f":"VLOOKUP($B131,State3!$A$10:T$250,20,FALSE)","v":0},{"$f":"VLOOKUP($B131,State3!$A$10:U$250,21,FALSE)","v":0},{"$f":"VLOOKUP($B131,State3!$A$10:V$250,22,FALSE)","v":0},{"$f":"VLOOKUP($B131,State3!$A$10:W$250,23,FALSE)","v":0},1,0,{"$f":"VLOOKUP($B131,State3!$A$10:X$250,24,FALSE)","v":0},1,0,0,0,"",0]
[null,"State3: Example 87",{"$f":"VLOOKUP($B132,State3!$A$10:E$250,5,FALSE)","v":0},{"$f":"VLOOKUP($B132,State3!$A$10:F$250,6,FALSE)","v":0},{"$f":"MAX(VLOOKUP($B132,State3!$A$10:O$250,15,FALSE),VLOOKUP($B132,State3!$A$10:P$250,16,FALSE))","v":0},{"$f":"VLOOKUP($B132,State3!$A$10:Q$250,17,FALSE)","v":0},0.5,0,{"$f":"VLOOKUP($B132,State3!$A$10:R$250,18,FALSE)","v":0},0.5,0,0,"",0,null,{"$f":"VLOOKUP($B132,State3!$A$10:T$250,20,FALSE)","v":0},{"$f":"VLOOKUP($B132,State3!$A$10:U$250,21,FALSE)","v":0},{"$f":"VLOOKUP($B132,State3!$A$10:V$250,22,FALSE)","v":0},{"$f":"VLOOKUP($B132,State3!$A$10:W$250,23,FALSE)","v":0},1,0,{"$f":"VLOOKUP($B132,State3!$A$10:X$250,24,FALSE)","v":0},1,0,0,0,"",0]
[null,"State3: Example 88",{"$f":"VLOOKUP($B133,State3!$A$10:E$250,5,FALSE)","v":0},{"$f":"VLOOKUP($B133,State3!$A$10:F$250,6,FALSE)","v":0},{"$f":"MAX(VLOOKUP($B133,State3!$A$10:O$250,15,FALSE),VLOOKUP($B133,State3!$A$10:P$250,16,FALSE))","v":0},{"$f":"VLOOKUP($B133,State3!$A$10:Q$250,17,FALSE)","v":0},0.5,0,{"$f":"VLOOKUP($B133,State3!$A$10:R$250,18,FALSE)","v":0},0.5,0,0,"",0,null,{"$f":"VLOOKUP($B133,State3!$A$10:T$250,20,FALSE)","v":0},{"$f":"VLOOKUP($B133,State3!$A$10:U$250,21,FALSE)","v":0},{"$f":"VLOOKUP($B133,State3!$A$10:V$250,22,FALSE)","v":0},{"$f":"VLOOKUP($B133,State3!$A$10:W$250,23,FALSE)","v":0},1,0,{"$f":"VLOOKUP($B133,State3!$A$10:X$250,24,FALSE)","v":0},1,0,0,0,"",0]
[null,"State3: Example 91",{"$f":"VLOOKUP($B134,State3!$A$10:E$250,5,FALSE)","v":0},{"$f":"VLOOKUP($B134,State3!$A$10:F$250,6,FALSE)","v":0},{"$f":"MAX(VLOOKUP($B134,State3!$A$10:O$250,15,FALSE),VLOOKUP($B134,State3!$A$10:P$250,16,FALSE))","v":0},{"$f":"VLOOKUP($B134,State3!$A$10:Q$250,17,FALSE)","v":0},0.5,0,{"$f":"VLOOKUP($B134,State3!$A$10:R$250,18,FALSE)","v":0},0.5,0,0,"",0,null,{"$f":"VLOOKUP($B134,State3!$A$10:T$250,20,FALSE)","v":0},{"$f":"VLOOKUP($B134,State3!$A$10:U$250,21,FALSE)","v":0},{"$f":"VLOOKUP($B134,State3!$A$10:V$250,22,FALSE)","v":0},{"$f":"VLOOKUP($B134,State3!$A$10:W$250,23,FALSE)","v":0},1,0,{"$f":"VLOOKUP($B134,State3!$A$10:X$250,24,FALSE)","v":0},1,0,0,0,"",0]
[null,"State3: Example 92",{"$f":"VLOOKUP($B135,State3!$A$10:E$250,5,FALSE)","v":0},{"$f":"VLOOKUP($B135,State3!$A$10:F$250,6,FALSE)","v":0},{"$f":"MAX(VLOOKUP($B135,State3!$A$10:O$250,15,FALSE),VLOOKUP($B135,State3!$A$10:P$250,16,FALSE))","v":0},{"$f":"VLOOKUP($B135,State3!$A$10:Q$250,17,FALSE)","v":0},0.5,0,{"$f":"VLOOKUP($B135,State3!$A$10:R$250,18,FALSE)","v":0},0.5,0,0,"",0,null,{"$f":"VLOOKUP($B135,State3!$A$10:T$250,20,FALSE)","v":0},{"$f":"VLOOKUP($B135,State3!$A$10:U$250,21,FALSE)","v":0},{"$f":"VLOOKUP($B135,State3!$A$10:V$250,22,FALSE)","v":0},{"$f":"VLOOKUP($B135,State3!$A$10:W$250,23,FALSE)","v":0},1,0,{"$f":"VLOOKUP($B135,State3!$A$10:X$250,24,FALSE)","v":0},1,0,0,0,"",0]
[null,"State3: Example 93",{"$f":"VLOOKUP($B136,State3!$A$10:E$250,5,FALSE)","v":0},{"$f":"VLOOKUP($B136,State3!$A$10:F$250,6,FALSE)","v":0},{"$f":"MAX(VLOOKUP($B136,State3!$A$10:O$250,15,FALSE),VLOOKUP($B136,State3!$A$10:P$250,16,FALSE))","v":0},{"$f":"VLOOKUP($B136,State3!$A$10:Q$250,17,FALSE)","v":0},0.5,0,{"$f":"VLOOKUP($B136,State3!$A$10:R$250,18,FALSE)","v":0},0.5,0,0,"",0,null,{"$f":"VLOOKUP($B136,State3!$A$10:T$250,20,FALSE)","v":0},{"$f":"VLOOKUP($B136,State3!$A$10:U$250,21,FALSE)","v":0},{"$f":"VLOOKUP($B136,State3!$A$10:V$250,22,FALSE)","v":0},{"$f":"VLOOKUP($B136,State3!$A$10:W$250,23,FALSE)","v":0},1,0,{"$f":"VLOOKUP($B136,State3!$A$10:X$250,24,FALSE)","v":0},1,0,0,0,"",0]
[null,"State3: Example 96",{"$f":"VLOOKUP($B137,State3!$A$10:E$250,5,FALSE)","v":0},{"$f":"VLOOKUP($B137,State3!$A$10:F$250,6,FALSE)","v":0},{"$f":"MAX(VLOOKUP($B137,State3!$A$10:O$250,15,FALSE),VLOOKUP($B137,State3!$A$10:P$250,16,FALSE))","v":0},{"$f":"VLOOKUP($B137,State3!$A$10:Q$250,17,FALSE)","v":0},0.5,0,{"$f":"VLOOKUP($B137,State3!$A$10:R$250,18,FALSE)","v":0},0.5,0,0,"",0,null,{"$f":"VLOOKUP($B137,State3!$A$10:T$250,20,FALSE)","v":0},{"$f":"VLOOKUP($B137,State3!$A$10:U$250,21,FALSE)","v":0},{"$f":"VLOOKUP($B137,State3!$A$10:V$250,22,FALSE)","v":0},{"$f":"VLOOKUP($B137,State3!$A$10:W$250,23,FALSE)","v":0},1,0,{"$f":"VLOOKUP($B137,State3!$A$10:X$250,24,FALSE)","v":0},1,0,0,0,"",0]
[null,"State3: Example 97",{"$f":"VLOOKUP($B138,State3!$A$10:E$250,5,FALSE)","v":0},{"$f":"VLOOKUP($B138,State3!$A$10:F$250,6,FALSE)","v":0},{"$f":"MAX(VLOOKUP($B138,State3!$A$10:O$250,15,FALSE),VLOOKUP($B138,State3!$A$10:P$250,16,FALSE))","v":0},{"$f":"VLOOKUP($B138,State3!$A$10:Q$250,17,FALSE)","v":0},0.5,0,{"$f":"VLOOKUP($B138,State3!$A$10:R$250,18,FALSE)","v":0},0.5,0,0,"",0,null,{"$f":"VLOOKUP($B138,State3!$A$10:T$250,20,FALSE)","v":0},{"$f":"VLOOKUP($B138,State3!$A$10:U$250,21,FALSE)","v":0},{"$f":"VLOOKUP($B138,State3!$A$10:V$250,22,FALSE)","v":0},{"$f":"VLOOKUP($B138,State3!$A$10:W$250,23,FALSE)","v":0},1,0,{"$f":"VLOOKUP($B138,State3!$A$10:X$250,24,FALSE)","v":0},1,0,0,0,"",0]
[null,"State3: Example 100",{"$f":"VLOOKUP($B139,State3!$A$10:E$250,5,FALSE)","v":0},{"$f":"VLOOKUP($B139,State3!$A$10:F$250,6,FALSE)","v":0},{"$f":"MAX(VLOOKUP($B139,State3!$A$10:O$250,15,FALSE),VLOOKUP($B139,State3!$A$10:P$250,16,FALSE))","v":0},{"$f":"VLOOKUP($B139,State3!$A$10:Q$250,17,FALSE)","v":0},0.5,0,{"$f":"VLOOKUP($B139,State3!$A$10:R$250,18,FALSE)","v":0},0.5,0,0,"",0,null,{"$f":"VLOOKUP($B139,State3!$A$10:T$250,20,FALSE)","v":0},{"$f":"VLOOKUP($B139,State3!$A$10:U$250,21,FALSE)","v":0},{"$f":"VLOOKUP($B139,State3!$A$10:V$250,22,FALSE)","v":0},{"$f":"VLOOKUP($B139,State3!$A$10:W$250,23,FALSE)","v":0},1,0,{"$f":"VLOOKUP($B139,State3!$A$10:X$250,24,FALSE)","v":0},1,0,0,0,"",0]
[null,"State3: Example 101",{"$f":"VLOOKUP($B140,State3!$A$10:E$250,5,FALSE)","v":0},{"$f":"VLOOKUP($B140,State3!$A$10:F$250,6,FALSE)","v":0},{"$f":"MAX(VLOOKUP($B140,State3!$A$10:O$250,15,FALSE),VLOOKUP($B140,State3!$A$10:P$250,16,FALSE))","v":0},{"$f":"VLOOKUP($B140,State3!$A$10:Q$250,17,FALSE)","v":0},0.5,0,{"$f":"VLOOKUP($B140,State3!$A$10:R$250,18,FALSE)","v":0},0.5,0,0,"",0,null,{"$f":"VLOOKUP($B140,State3!$A$10:T$250,20,FALSE)","v":0},{"$f":"VLOOKUP($B140,State3!$A$10:U$250,21,FALSE)","v":0},{"$f":"VLOOKUP($B140,State3!$A$10:V$250,22,FALSE)","v":0},{"$f":"VLOOKUP($B140,State3!$A$10:W$250,23,FALSE)","v":0},1,0,{"$f":"VLOOKUP($B140,State3!$A$10:X$250,24,FALSE)","v":0},1,0,0,0,"",0]
[null,"State3: Example 102",{"$f":"VLOOKUP($B141,State3!$A$10:E$250,5,FALSE)","v":0},{"$f":"VLOOKUP($B141,State3!$A$10:F$250,6,FALSE)","v":0},{"$f":"MAX(VLOOKUP($B141,State3!$A$10:O$250,15,FALSE),VLOOKUP($B141,State3!$A$10:P$250,16,FALSE))","v":0},{"$f":"VLOOKUP($B141,State3!$A$10:Q$250,17,FALSE)","v":0},0.5,0,{"$f":"VLOOKUP($B141,State3!$A$10:R$250,18,FALSE)","v":0},0.5,0,0,"",0,null,{"$f":"VLOOKUP($B141,State3!$A$10:T$250,20,FALSE)","v":0},{"$f":"VLOOKUP($B141,State3!$A$10:U$250,21,FALSE)","v":0},{"$f":"VLOOKUP($B141,State3!$A$10:V$250,22,FALSE)","v":0},{"$f":"VLOOKUP($B141,State3!$A$10:W$250,23,FALSE)","v":0},1,0,{"$f":"VLOOKUP($B141,State3!$A$10:X$250,24,FALSE)","v":0},1,0,0,0,"",0]
[null,"State3: Example 103",{"$f":"VLOOKUP($B142,State3!$A$10:E$250,5,FALSE)","v":0},{"$f":"VLOOKUP($B142,State3!$A$10:F$250,6,FALSE)","v":0},{"$f":"MAX(VLOOKUP($B142,State3!$A$10:O$250,15,FALSE),VLOOKUP($B142,State3!$A$10:P$250,16,FALSE))","v":0},{"$f":"VLOOKUP($B142,State3!$A$10:Q$250,17,FALSE)","v":0},0.5,0,{"$f":"VLOOKUP($B142,State3!$A$10:R$250,18,FALSE)","v":0},0.5,0,0,"",0,null,{"$f":"VLOOKUP($B142,State3!$A$10:T$250,20,FALSE)","v":0},{"$f":"VLOOKUP($B142,State3!$A$10:U$250,21,FALSE)","v":0},{"$f":"VLOOKUP($B142,State3!$A$10:V$250,22,FALSE)","v":0},{"$f":"VLOOKUP($B142,State3!$A$10:W$250,23,FALSE)","v":0},1,0,{"$f":"VLOOKUP($B142,State3!$A$10:X$250,24,FALSE)","v":0},1,0,0,0,"",0]
[null,"State3: Example 104",{"$f":"VLOOKUP($B143,State3!$A$10:E$250,5,FALSE)","v":0},{"$f":"VLOOKUP($B143,State3!$A$10:F$250,6,FALSE)","v":0},{"$f":"MAX(VLOOKUP($B143,State3!$A$10:O$250,15,FALSE),VLOOKUP($B143,State3!$A$10:P$250,16,FALSE))","v":0},{"$f":"VLOOKUP($B143,State3!$A$10:Q$250,17,FALSE)","v":0},0.5,0,{"$f":"VLOOKUP($B143,State3!$A$10:R$250,18,FALSE)","v":0},0.5,0,0,"",0,null,{"$f":"VLOOKUP($B143,State3!$A$10:T$250,20,FALSE)","v":0},{"$f":"VLOOKUP($B143,State3!$A$10:U$250,21,FALSE)","v":0},{"$f":"VLOOKUP($B143,State3!$A$10:V$250,22,FALSE)","v":0},{"$f":"VLOOKUP($B143,State3!$A$10:W$250,23,FALSE)","v":0},1,0,{"$f":"VLOOKUP($B143,State3!$A$10:X$250,24,FALSE)","v":0},1,0,0,0,"",0]
[null,"State3: Example 105",{"$f":"VLOOKUP($B144,State3!$A$10:E$250,5,FALSE)","v":0},{"$f":"VLOOKUP($B144,State3!$A$10:F$250,6,FALSE)","v":0},{"$f":"MAX(VLOOKUP($B144,State3!$A$10:O$250,15,FALSE),VLOOKUP($B144,State3!$A$10:P$250,16,FALSE))","v":0},{"$f":"VLOOKUP($B144,State3!$A$10:Q$250,17,FALSE)","v":0},0.5,0,{"$f":"VLOOKUP($B144,State3!$A$10:R$250,18,FALSE)","v":0},0.5,0,0,"",0,null,{"$f":"VLOOKUP($B144,State3!$A$10:T$250,20,FALSE)","v":0},{"$f":"VLOOKUP($B144,State3!$A$10:U$250,21,FALSE)","v":0},{"$f":"VLOOKUP($B144,State3!$A$10:V$250,22,FALSE)","v":0},{"$f":"VLOOKUP($B144,State3!$A$10:W$250,23,FALSE)","v":0},1,0,{"$f":"VLOOKUP($B144,State3!$A$10:X$250,24,FALSE)","v":0},1,0,0,0,"",0]
[null,"State3: Example 106",{"$f":"VLOOKUP($B145,State3!$A$10:E$250,5,FALSE)","v":0},{"$f":"VLOOKUP($B145,State3!$A$10:F$250,6,FALSE)","v":0},{"$f":"MAX(VLOOKUP($B145,State3!$A$10:O$250,15,FALSE),VLOOKUP($B145,State3!$A$10:P$250,16,FALSE))","v":0},{"$f":"VLOOKUP($B145,State3!$A$10:Q$250,17,FALSE)","v":0},0.5,0,{"$f":"VLOOKUP($B145,State3!$A$10:R$250,18,FALSE)","v":0},0.5,0,0,"",0,null,{"$f":"VLOOKUP($B145,State3!$A$10:T$250,20,FALSE)","v":0},{"$f":"VLOOKUP($B145,State3!$A$10:U$250,21,FALSE)","v":0},{"$f":"VLOOKUP($B145,State3!$A$10:V$250,22,FALSE)","v":0},{"$f":"VLOOKUP($B145,State3!$A$10:W$250,23,FALSE)","v":0},1,0,{"$f":"VLOOKUP($B145,State3!$A$10:X$250,24,FALSE)","v":0},1,0,0,0,"",0]
[null,"State3: Example 109",{"$f":"VLOOKUP($B146,State3!$A$10:E$250,5,FALSE)","v":0},{"$f":"VLOOKUP($B146,State3!$A$10:F$250,6,FALSE)","v":0},{"$f":"MAX(VLOOKUP($B146,State3!$A$10:O$250,15,FALSE),VLOOKUP($B146,State3!$A$10:P$250,16,FALSE))","v":0},{"$f":"VLOOKUP($B146,State3!$A$10:Q$250,17,FALSE)","v":0},0.5,0,{"$f":"VLOOKUP($B146,State3!$A$10:R$250,18,FALSE)","v":0},0.5,0,0,"",0,null,{"$f":"VLOOKUP($B146,State3!$A$10:T$250,20,FALSE)","v":0},{"$f":"VLOOKUP($B146,State3!$A$10:U$250,21,FALSE)","v":0},{"$f":"VLOOKUP($B146,State3!$A$10:V$250,22,FALSE)","v":0},{"$f":"VLOOKUP($B146,State3!$A$10:W$250,23,FALSE)","v":0},1,0,{"$f":"VLOOKUP($B146,State3!$A$10:X$250,24,FALSE)","v":0},1,0,0,0,"",0]
[null,"State3: Example 110",{"$f":"VLOOKUP($B147,State3!$A$10:E$250,5,FALSE)","v":0},{"$f":"VLOOKUP($B147,State3!$A$10:F$250,6,FALSE)","v":0},{"$f":"MAX(VLOOKUP($B147,State3!$A$10:O$250,15,FALSE),VLOOKUP($B147,State3!$A$10:P$250,16,FALSE))","v":0},{"$f":"VLOOKUP($B147,State3!$A$10:Q$250,17,FALSE)","v":0},0.5,0,{"$f":"VLOOKUP($B147,State3!$A$10:R$250,18,FALSE)","v":0},0.5,0,0,"",0,null,{"$f":"VLOOKUP($B147,State3!$A$10:T$250,20,FALSE)","v":0},{"$f":"VLOOKUP($B147,State3!$A$10:U$250,21,FALSE)","v":0},{"$f":"VLOOKUP($B147,State3!$A$10:V$250,22,FALSE)","v":0},{"$f":"VLOOKUP($B147,State3!$A$10:W$250,23,FALSE)","v":0},1,0,{"$f":"VLOOKUP($B147,State3!$A$10:X$250,24,FALSE)","v":0},1,0,0,0,"",0]
[null,"State3: Example 111",{"$f":"VLOOKUP($B148,State3!$A$10:E$250,5,FALSE)","v":0},{"$f":"VLOOKUP($B148,State3!$A$10:F$250,6,FALSE)","v":0},{"$f":"MAX(VLOOKUP($B148,State3!$A$10:O$250,15,FALSE),VLOOKUP($B148,State3!$A$10:P$250,16,FALSE))","v":0},{"$f":"VLOOKUP($B148,State3!$A$10:Q$250,17,FALSE)","v":0},0.5,0,{"$f":"VLOOKUP($B148,State3!$A$10:R$250,18,FALSE)","v":0},0.5,0,0,"",0,null,{"$f":"VLOOKUP($B148,State3!$A$10:T$250,20,FALSE)","v":0},{"$f":"VLOOKUP($B148,State3!$A$10:U$250,21,FALSE)","v":0},{"$f":"VLOOKUP($B148,State3!$A$10:V$250,22,FALSE)","v":0},{"$f":"VLOOKUP($B148,State3!$A$10:W$250,23,FALSE)","v":0},1,0,{"$f":"VLOOKUP($B148,State3!$A$10:X$250,24,FALSE)","v":0},1,0,0,0,"",0]
[null,"State3: Example 112",{"$f":"VLOOKUP($B149,State3!$A$10:E$250,5,FALSE)","v":0},{"$f":"VLOOKUP($B149,State3!$A$10:F$250,6,FALSE)","v":0},{"$f":"MAX(VLOOKUP($B149,State3!$A$10:O$250,15,FALSE),VLOOKUP($B149,State3!$A$10:P$250,16,FALSE))","v":0},{"$f":"VLOOKUP($B149,State3!$A$10:Q$250,17,FALSE)","v":0},0.5,0,{"$f":"VLOOKUP($B149,State3!$A$10:R$250,18,FALSE)","v":0},0.5,0,0,"",0,null,{"$f":"VLOOKUP($B149,State3!$A$10:T$250,20,FALSE)","v":0},{"$f":"VLOOKUP($B149,State3!$A$10:U$250,21,FALSE)","v":0},{"$f":"VLOOKUP($B149,State3!$A$10:V$250,22,FALSE)","v":0},{"$f":"VLOOKUP($B149,State3!$A$10:W$250,23,FALSE)","v":0},1,0,{"$f":"VLOOKUP($B149,State3!$A$10:X$250,24,FALSE)","v":0},1,0,0,0,"",0]
[null,"State3: Example 113",{"$f":"VLOOKUP($B150,State3!$A$10:E$250,5,FALSE)","v":0},{"$f":"VLOOKUP($B150,State3!$A$10:F$250,6,FALSE)","v":0},{"$f":"MAX(VLOOKUP($B150,State3!$A$10:O$250,15,FALSE),VLOOKUP($B150,State3!$A$10:P$250,16,FALSE))","v":0},{"$f":"VLOOKUP($B150,State3!$A$10:Q$250,17,FALSE)","v":0},0.5,0,{"$f":"VLOOKUP($B150,State3!$A$10:R$250,18,FALSE)","v":0},0.5,0,0,"",0,null,{"$f":"VLOOKUP($B150,State3!$A$10:T$250,20,FALSE)","v":0},{"$f":"VLOOKUP($B150,State3!$A$10:U$250,21,FALSE)","v":0},{"$f":"VLOOKUP($B150,State3!$A$10:V$250,22,FALSE)","v":0},{"$f":"VLOOKUP($B150,State3!$A$10:W$250,23,FALSE)","v":0},1,0,{"$f":"VLOOKUP($B150,State3!$A$10:X$250,24,FALSE)","v":0},1,0,0,0,"",0]
[null,"State3: Example 114",{"$f":"VLOOKUP($B151,State3!$A$10:E$250,5,FALSE)","v":0},{"$f":"VLOOKUP($B151,State3!$A$10:F$250,6,FALSE)","v":0},{"$f":"MAX(VLOOKUP($B151,State3!$A$10:O$250,15,FALSE),VLOOKUP($B151,State3!$A$10:P$250,16,FALSE))","v":0},{"$f":"VLOOKUP($B151,State3!$A$10:Q$250,17,FALSE)","v":0},0.5,0,{"$f":"VLOOKUP($B151,State3!$A$10:R$250,18,FALSE)","v":0},0.5,0,0,"",0,null,{"$f":"VLOOKUP($B151,State3!$A$10:T$250,20,FALSE)","v":0},{"$f":"VLOOKUP($B151,State3!$A$10:U$250,21,FALSE)","v":0},{"$f":"VLOOKUP($B151,State3!$A$10:V$250,22,FALSE)","v":0},{"$f":"VLOOKUP($B151,State3!$A$10:W$250,23,FALSE)","v":0},1,0,{"$f":"VLOOKUP($B151,State3!$A$10:X$250,24,FALSE)","v":0},1,0,0,0,"",0]
[null,"State3: Example 115",{"$f":"VLOOKUP($B152,State3!$A$10:E$250,5,FALSE)","v":0},{"$f":"VLOOKUP($B152,State3!$A$10:F$250,6,FALSE)","v":0},{"$f":"MAX(VLOOKUP($B152,State3!$A$10:O$250,15,FALSE),VLOOKUP($B152,State3!$A$10:P$250,16,FALSE))","v":0},{"$f":"VLOOKUP($B152,State3!$A$10:Q$250,17,FALSE)","v":0},0.5,0,{"$f":"VLOOKUP($B152,State3!$A$10:R$250,18,FALSE)","v":0},0.5,0,0,"",0,null,{"$f":"VLOOKUP($B152,State3!$A$10:T$250,20,FALSE)","v":0},{"$f":"VLOOKUP($B152,State3!$A$10:U$250,21,FALSE)","v":0},{"$f":"VLOOKUP($B152,State3!$A$10:V$250,22,FALSE)","v":0},{"$f":"VLOOKUP($B152,State3!$A$10:W$250,23,FALSE)","v":0},1,0,{"$f":"VLOOKUP($B152,State3!$A$10:X$250,24,FALSE)","v":0},1,0,0,0,"",0]
[null,"State3: Example 116",{"$f":"VLOOKUP($B153,State3!$A$10:E$250,5,FALSE)","v":0},{"$f":"VLOOKUP($B153,State3!$A$10:F$250,6,FALSE)","v":0},{"$f":"MAX(VLOOKUP($B153,State3!$A$10:O$250,15,FALSE),VLOOKUP($B153,State3!$A$10:P$250,16,FALSE))","v":0},{"$f":"VLOOKUP($B153,State3!$A$10:Q$250,17,FALSE)","v":0},0.5,0,{"$f":"VLOOKUP($B153,State3!$A$10:R$250,18,FALSE)","v":0},0.5,0,0,"",0,null,{"$f":"VLOOKUP($B153,State3!$A$10:T$250,20,FALSE)","v":0},{"$f":"VLOOKUP($B153,State3!$A$10:U$250,21,FALSE)","v":0},{"$f":"VLOOKUP($B153,State3!$A$10:V$250,22,FALSE)","v":0},{"$f":"VLOOKUP($B153,State3!$A$10:W$250,23,FALSE)","v":0},1,0,{"$f":"VLOOKUP($B153,State3!$A$10:X$250,24,FALSE)","v":0},1,0,0,0,"",0]
[null,"State3: Example 117",{"$f":"VLOOKUP($B154,State3!$A$10:E$250,5,FALSE)","v":0},{"$f":"VLOOKUP($B154,State3!$A$10:F$250,6,FALSE)","v":0},{"$f":"MAX(VLOOKUP($B154,State3!$A$10:O$250,15,FALSE),VLOOKUP($B154,State3!$A$10:P$250,16,FALSE))","v":0},{"$f":"VLOOKUP($B154,State3!$A$10:Q$250,17,FALSE)","v":0},0.5,0,{"$f":"VLOOKUP($B154,State3!$A$10:R$250,18,FALSE)","v":0},0.5,0,0,"",0,null,{"$f":"VLOOKUP($B154,State3!$A$10:T$250,20,FALSE)","v":0},{"$f":"VLOOKUP($B154,State3!$A$10:U$250,21,FALSE)","v":0},{"$f":"VLOOKUP($B154,State3!$A$10:V$250,22,FALSE)","v":0},{"$f":"VLOOKUP($B154,State3!$A$10:W$250,23,FALSE)","v":0},1,0,{"$f":"VLOOKUP($B154,State3!$A$10:X$250,24,FALSE)","v":0},1,0,0,0,"",0]
[null,"State3: Example 118",{"$f":"VLOOKUP($B155,State3!$A$10:E$250,5,FALSE)","v":0},{"$f":"VLOOKUP($B155,State3!$A$10:F$250,6,FALSE)","v":0},{"$f":"MAX(VLOOKUP($B155,State3!$A$10:O$250,15,FALSE),VLOOKUP($B155,State3!$A$10:P$250,16,FALSE))","v":0},{"$f":"VLOOKUP($B155,State3!$A$10:Q$250,17,FALSE)","v":0},0.5,0,{"$f":"VLOOKUP($B155,State3!$A$10:R$250,18,FALSE)","v":0},0.5,0,0,"",0,null,{"$f":"VLOOKUP($B155,State3!$A$10:T$250,20,FALSE)","v":0},{"$f":"VLOOKUP($B155,State3!$A$10:U$250,21,FALSE)","v":0},{"$f":"VLOOKUP($B155,State3!$A$10:V$250,22,FALSE)","v":0},{"$f":"VLOOKUP($B155,State3!$A$10:W$250,23,FALSE)","v":0},1,0,{"$f":"VLOOKUP($B155,State3!$A$10:X$250,24,FALSE)","v":0},1,0,0,0,"",0]
[null,"State3: Example 119",{"$f":"VLOOKUP($B156,State3!$A$10:E$250,5,FALSE)","v":0},{"$f":"VLOOKUP($B156,State3!$A$10:F$250,6,FALSE)","v":0},{"$f":"MAX(VLOOKUP($B156,State3!$A$10:O$250,15,FALSE),VLOOKUP($B156,State3!$A$10:P$250,16,FALSE))","v":0},{"$f":"VLOOKUP($B156,State3!$A$10:Q$250,17,FALSE)","v":0},0.5,0,{"$f":"VLOOKUP($B156,State3!$A$10:R$250,18,FALSE)","v":0},0.5,0,0,"",0,null,{"$f":"VLOOKUP($B156,State3!$A$10:T$250,20,FALSE)","v":0},{"$f":"VLOOKUP($B156,State3!$A$10:U$250,21,FALSE)","v":0},{"$f":"VLOOKUP($B156,State3!$A$10:V$250,22,FALSE)","v":0},{"$f":"VLOOKUP($B156,State3!$A$10:W$250,23,FALSE)","v":0},1,0,{"$f":"VLOOKUP($B156,State3!$A$10:X$250,24,FALSE)","v":0},1,0,0,0,"",0]
[null,"State3: Example 120",{"$f":"VLOOKUP($B157,State3!$A$10:E$250,5,FALSE)","v":0},{"$f":"VLOOKUP($B157,State3!$A$10:F$250,6,FALSE)","v":0},{"$f":"MAX(VLOOKUP($B157,State3!$A$10:O$250,15,FALSE),VLOOKUP($B157,State3!$A$10:P$250,16,FALSE))","v":0},{"$f":"VLOOKUP($B157,State3!$A$10:Q$250,17,FALSE)","v":0},0.5,0,{"$f":"VLOOKUP($B157,State3!$A$10:R$250,18,FALSE)","v":0},0.5,0,0,"",0,null,{"$f":"VLOOKUP($B157,State3!$A$10:T$250,20,FALSE)","v":0},{"$f":"VLOOKUP($B157,State3!$A$10:U$250,21,FALSE)","v":0},{"$f":"VLOOKUP($B157,State3!$A$10:V$250,22,FALSE)","v":0},{"$f":"VLOOKUP($B157,State3!$A$10:W$250,23,FALSE)","v":0},1,0,{"$f":"VLOOKUP($B157,State3!$A$10:X$250,24,FALSE)","v":0},1,0,0,0,"",0]
[null,"State3: Example 121",{"$f":"VLOOKUP($B158,State3!$A$10:E$250,5,FALSE)","v":0},{"$f":"VLOOKUP($B158,State3!$A$10:F$250,6,FALSE)","v":0},{"$f":"MAX(VLOOKUP($B158,State3!$A$10:O$250,15,FALSE),VLOOKUP($B158,State3!$A$10:P$250,16,FALSE))","v":0},{"$f":"VLOOKUP($B158,State3!$A$10:Q$250,17,FALSE)","v":0},0.5,0,{"$f":"VLOOKUP($B158,State3!$A$10:R$250,18,FALSE)","v":0},0.5,0,0,"",0,null,{"$f":"VLOOKUP($B158,State3!$A$10:T$250,20,FALSE)","v":0},{"$f":"VLOOKUP($B158,State3!$A$10:U$250,21,FALSE)","v":0},{"$f":"VLOOKUP($B158,State3!$A$10:V$250,22,FALSE)","v":0},{"$f":"VLOOKUP($B158,State3!$A$10:W$250,23,FALSE)","v":0},1,0,{"$f":"VLOOKUP($B158,State3!$A$10:X$250,24,FALSE)","v":0},1,0,0,0,"",0]
[null,"State3: Example 122",{"$f":"VLOOKUP($B159,State3!$A$10:E$250,5,FALSE)","v":0},{"$f":"VLOOKUP($B159,State3!$A$10:F$250,6,FALSE)","v":0},{"$f":"MAX(VLOOKUP($B159,State3!$A$10:O$250,15,FALSE),VLOOKUP($B159,State3!$A$10:P$250,16,FALSE))","v":0},{"$f":"VLOOKUP($B159,State3!$A$10:Q$250,17,FALSE)","v":0},0.5,0,{"$f":"VLOOKUP($B159,State3!$A$10:R$250,18,FALSE)","v":0},0.5,0,0,"",0,null,{"$f":"VLOOKUP($B159,State3!$A$10:T$250,20,FALSE)","v":0},{"$f":"VLOOKUP($B159,State3!$A$10:U$250,21,FALSE)","v":0},{"$f":"VLOOKUP($B159,State3!$A$10:V$250,22,FALSE)","v":0},{"$f":"VLOOKUP($B159,State3!$A$10:W$250,23,FALSE)","v":0},1,0,{"$f":"VLOOKUP($B159,State3!$A$10:X$250,24,FALSE)","v":0},1,0,0,0,"",0]
[null,"State3: Example 123",{"$f":"VLOOKUP($B160,State3!$A$10:E$250,5,FALSE)","v":0},{"$f":"VLOOKUP($B160,State3!$A$10:F$250,6,FALSE)","v":0},{"$f":"MAX(VLOOKUP($B160,State3!$A$10:O$250,15,FALSE),VLOOKUP($B160,State3!$A$10:P$250,16,FALSE))","v":0},{"$f":"VLOOKUP($B160,State3!$A$10:Q$250,17,FALSE)","v":0},0.5,0,{"$f":"VLOOKUP($B160,State3!$A$10:R$250,18,FALSE)","v":0},0.5,0,0,"",0,null,{"$f":"VLOOKUP($B160,State3!$A$10:T$250,20,FALSE)","v":0},{"$f":"VLOOKUP($B160,State3!$A$10:U$250,21,FALSE)","v":0},{"$f":"VLOOKUP($B160,State3!$A$10:V$250,22,FALSE)","v":0},{"$f":"VLOOKUP($B160,State3!$A$10:W$250,23,FALSE)","v":0},1,0,{"$f":"VLOOKUP($B160,State3!$A$10:X$250,24,FALSE)","v":0},1,0,0,0,"",0]
[null,"State3: Example 124",{"$f":"VLOOKUP($B161,State3!$A$10:E$250,5,FALSE)","v":0},{"$f":"VLOOKUP($B161,State3!$A$10:F$250,6,FALSE)","v":0},{"$f":"MAX(VLOOKUP($B161,State3!$A$10:O$250,15,FALSE),VLOOKUP($B161,State3!$A$10:P$250,16,FALSE))","v":0},{"$f":"VLOOKUP($B161,State3!$A$10:Q$250,17,FALSE)","v":0},0.5,0,{"$f":"VLOOKUP($B161,State3!$A$10:R$250,18,FALSE)","v":0},0.5,0,0,"",0,null,{"$f":"VLOOKUP($B161,State3!$A$10:T$250,20,FALSE)","v":0},{"$f":"VLOOKUP($B161,State3!$A$10:U$250,21,FALSE)","v":0},{"$f":"VLOOKUP($B161,State3!$A$10:V$250,22,FALSE)","v":0},{"$f":"VLOOKUP($B161,State3!$A$10:W$250,23,FALSE)","v":0},1,0,{"$f":"VLOOKUP($B161,State3!$A$10:X$250,24,FALSE)","v":0},1,0,0,0,"",0]
[null,"State3: Example 125",{"$f":"VLOOKUP($B162,State3!$A$10:E$250,5,FALSE)","v":0},{"$f":"VLOOKUP($B162,State3!$A$10:F$250,6,FALSE)","v":0},{"$f":"MAX(VLOOKUP($B162,State3!$A$10:O$250,15,FALSE),VLOOKUP($B162,State3!$A$10:P$250,16,FALSE))","v":0},{"$f":"VLOOKUP($B162,State3!$A$10:Q$250,17,FALSE)","v":0},0.5,0,{"$f":"VLOOKUP($B162,State3!$A$10:R$250,18,FALSE)","v":0},0.5,0,0,"",0,null,{"$f":"VLOOKUP($B162,State3!$A$10:T$250,20,FALSE)","v":0},{"$f":"VLOOKUP($B162,State3!$A$10:U$250,21,FALSE)","v":0},{"$f":"VLOOKUP($B162,State3!$A$10:V$250,22,FALSE)","v":0},{"$f":"VLOOKUP($B162,State3!$A$10:W$250,23,FALSE)","v":0},1,0,{"$f":"VLOOKUP($B162,State3!$A$10:X$250,24,FALSE)","v":0},1,0,0,0,"",0]
[null,"State3: Example 128",{"$f":"VLOOKUP($B163,State3!$A$10:E$250,5,FALSE)","v":0},{"$f":"VLOOKUP($B163,State3!$A$10:F$250,6,FALSE)","v":0},{"$f":"MAX(VLOOKUP($B163,State3!$A$10:O$250,15,FALSE),VLOOKUP($B163,State3!$A$10:P$250,16,FALSE))","v":0},{"$f":"VLOOKUP($B163,State3!$A$10:Q$250,17,FALSE)","v":0},0.5,0,{"$f":"VLOOKUP($B163,State3!$A$10:R$250,18,FALSE)","v":0},0.5,0,0,"",0,null,{"$f":"VLOOKUP($B163,State3!$A$10:T$250,20,FALSE)","v":0},{"$f":"VLOOKUP($B163,State3!$A$10:U$250,21,FALSE)","v":0},{"$f":"VLOOKUP($B163,State3!$A$10:V$250,22,FALSE)","v":0},{"$f":"VLOOKUP($B163,State3!$A$10:W$250,23,FALSE)","v":0},1,0,{"$f":"VLOOKUP($B163,State3!$A$10:X$250,24,FALSE)","v":0},1,0,0,0,"",0]
[null,"State3: Example 129",{"$f":"VLOOKUP($B164,State3!$A$10:E$250,5,FALSE)","v":0},{"$f":"VLOOKUP($B164,State3!$A$10:F$250,6,FALSE)","v":0},{"$f":"MAX(VLOOKUP($B164,State3!$A$10:O$250,15,FALSE),VLOOKUP($B164,State3!$A$10:P$250,16,FALSE))","v":0},{"$f":"VLOOKUP($B164,State3!$A$10:Q$250,17,FALSE)","v":0},0.5,0,{"$f":"VLOOKUP($B164,State3!$A$10:R$250,18,FALSE)","v":0},0.5,0,0,"",0,null,{"$f":"VLOOKUP($B164,State3!$A$10:T$250,20,FALSE)","v":0},{"$f":"VLOOKUP($B164,State3!$A$10:U$250,21,FALSE)","v":0},{"$f":"VLOOKUP($B164,State3!$A$10:V$250,22,FALSE)","v":0},{"$f":"VLOOKUP($B164,State3!$A$10:W$250,23,FALSE)","v":0},1,0,{"$f":"VLOOKUP($B164,State3!$A$10:X$250,24,FALSE)","v":0},1,0,0,0,"",0]
[null,"State3: Example 130",{"$f":"VLOOKUP($B165,State3!$A$10:E$250,5,FALSE)","v":0},{"$f":"VLOOKUP($B165,State3!$A$10:F$250,6,FALSE)","v":0},{"$f":"MAX(VLOOKUP($B165,State3!$A$10:O$250,15,FALSE),VLOOKUP($B165,State3!$A$10:P$250,16,FALSE))","v":0},{"$f":"VLOOKUP($B165,State3!$A$10:Q$250,17,FALSE)","v":0},0.5,0,{"$f":"VLOOKUP($B165,State3!$A$10:R$250,18,FALSE)","v":0},0.5,0,0,"",0,null,{"$f":"VLOOKUP($B165,State3!$A$10:T$250,20,FALSE)","v":0},{"$f":"VLOOKUP($B165,State3!$A$10:U$250,21,FALSE)","v":0},{"$f":"VLOOKUP($B165,State3!$A$10:V$250,22,FALSE)","v":0},{"$f":"VLOOKUP($B165,State3!$A$10:W$250,23,FALSE)","v":0},1,0,{"$f":"VLOOKUP($B165,State3!$A$10:X$250,24,FALSE)","v":0},1,0,0,0,"",0]
[null,"State3: Example 131",{"$f":"VLOOKUP($B166,State3!$A$10:E$250,5,FALSE)","v":0},{"$f":"VLOOKUP($B166,State3!$A$10:F$250,6,FALSE)","v":0},{"$f":"MAX(VLOOKUP($B166,State3!$A$10:O$250,15,FALSE),VLOOKUP($B166,State3!$A$10:P$250,16,FALSE))","v":0},{"$f":"VLOOKUP($B166,State3!$A$10:Q$250,17,FALSE)","v":0},0.5,0,{"$f":"VLOOKUP($B166,State3!$A$10:R$250,18,FALSE)","v":0},0.5,0,0,"",0,null,{"$f":"VLOOKUP($B166,State3!$A$10:T$250,20,FALSE)","v":0},{"$f":"VLOOKUP($B166,State3!$A$10:U$250,21,FALSE)","v":0},{"$f":"VLOOKUP($B166,State3!$A$10:V$250,22,FALSE)","v":0},{"$f":"VLOOKUP($B166,State3!$A$10:W$250,23,FALSE)","v":0},1,0,{"$f":"VLOOKUP($B166,State3!$A$10:X$250,24,FALSE)","v":0},1,0,0,0,"",0]
[null,"State3: Example 132",{"$f":"VLOOKUP($B167,State3!$A$10:E$250,5,FALSE)","v":0},{"$f":"VLOOKUP($B167,State3!$A$10:F$250,6,FALSE)","v":0},{"$f":"MAX(VLOOKUP($B167,State3!$A$10:O$250,15,FALSE),VLOOKUP($B167,State3!$A$10:P$250,16,FALSE))","v":0},{"$f":"VLOOKUP($B167,State3!$A$10:Q$250,17,FALSE)","v":0},0.5,0,{"$f":"VLOOKUP($B167,State3!$A$10:R$250,18,FALSE)","v":0},0.5,0,0,"",0,null,{"$f":"VLOOKUP($B167,State3!$A$10:T$250,20,FALSE)","v":0},{"$f":"VLOOKUP($B167,State3!$A$10:U$250,21,FALSE)","v":0},{"$f":"VLOOKUP($B167,State3!$A$10:V$250,22,FALSE)","v":0},{"$f":"VLOOKUP($B167,State3!$A$10:W$250,23,FALSE)","v":0},1,0,{"$f":"VLOOKUP($B167,State3!$A$10:X$250,24,FALSE)","v":0},1,0,0,0,"",0]
[null,"State3: Example 133",{"$f":"VLOOKUP($B168,State3!$A$10:E$250,5,FALSE)","v":0},{"$f":"VLOOKUP($B168,State3!$A$10:F$250,6,FALSE)","v":0},{"$f":"MAX(VLOOKUP($B168,State3!$A$10:O$250,15,FALSE),VLOOKUP($B168,State3!$A$10:P$250,16,FALSE))","v":0},{"$f":"VLOOKUP($B168,State3!$A$10:Q$250,17,FALSE)","v":0},0.5,0,{"$f":"VLOOKUP($B168,State3!$A$10:R$250,18,FALSE)","v":0},0.5,0,0,"",0,null,{"$f":"VLOOKUP($B168,State3!$A$10:T$250,20,FALSE)","v":0},{"$f":"VLOOKUP($B168,State3!$A$10:U$250,21,FALSE)","v":0},{"$f":"VLOOKUP($B168,State3!$A$10:V$250,22,FALSE)","v":0},{"$f":"VLOOKUP($B168,State3!$A$10:W$250,23,FALSE)","v":0},1,0,{"$f":"VLOOKUP($B168,State3!$A$10:X$250,24,FALSE)","v":0},1,0,0,0,"",0]
[null,"State3: Example 134",{"$f":"VLOOKUP($B169,State3!$A$10:E$250,5,FALSE)","v":0},{"$f":"VLOOKUP($B169,State3!$A$10:F$250,6,FALSE)","v":0},{"$f":"MAX(VLOOKUP($B169,State3!$A$10:O$250,15,FALSE),VLOOKUP($B169,State3!$A$10:P$250,16,FALSE))","v":0},{"$f":"VLOOKUP($B169,State3!$A$10:Q$250,17,FALSE)","v":0},0.5,0,{"$f":"VLOOKUP($B169,State3!$A$10:R$250,18,FALSE)","v":0},0.5,0,0,"",0,null,{"$f":"VLOOKUP($B169,State3!$A$10:T$250,20,FALSE)","v":0},{"$f":"VLOOKUP($B169,State3!$A$10:U$250,21,FALSE)","v":0},{"$f":"VLOOKUP($B169,State3!$A$10:V$250,22,FALSE)","v":0},{"$f":"VLOOKUP($B169,State3!$A$10:W$250,23,FALSE)","v":0},1,0,{"$f":"VLOOKUP($B169,State3!$A$10:X$250,24,FALSE)","v":0},1,0,0,0,"",0]
[null,"State3: Example 135",{"$f":"VLOOKUP($B170,State3!$A$10:E$250,5,FALSE)","v":0},{"$f":"VLOOKUP($B170,State3!$A$10:F$250,6,FALSE)","v":0},{"$f":"MAX(VLOOKUP($B170,State3!$A$10:O$250,15,FALSE),VLOOKUP($B170,State3!$A$10:P$250,16,FALSE))","v":0},{"$f":"VLOOKUP($B170,State3!$A$10:Q$250,17,FALSE)","v":0},0.5,0,{"$f":"VLOOKUP($B170,State3!$A$10:R$250,18,FALSE)","v":0},0.5,0,0,"",0,null,{"$f":"VLOOKUP($B170,State3!$A$10:T$250,20,FALSE)","v":0},{"$f":"VLOOKUP($B170,State3!$A$10:U$250,21,FALSE)","v":0},{"$f":"VLOOKUP($B170,State3!$A$10:V$250,22,FALSE)","v":0},{"$f":"VLOOKUP($B170,State3!$A$10:W$250,23,FALSE)","v":0},1,0,{"$f":"VLOOKUP($B170,State3!$A$10:X$250,24,FALSE)","v":0},1,0,0,0,"",0]
[null,"State3: Example 136",{"$f":"VLOOKUP($B171,State3!$A$10:E$250,5,FALSE)","v":0},{"$f":"VLOOKUP($B171,State3!$A$10:F$250,6,FALSE)","v":0},{"$f":"MAX(VLOOKUP($B171,State3!$A$10:O$250,15,FALSE),VLOOKUP($B171,State3!$A$10:P$250,16,FALSE))","v":0},{"$f":"VLOOKUP($B171,State3!$A$10:Q$250,17,FALSE)","v":0},0.5,0,{"$f":"VLOOKUP($B171,State3!$A$10:R$250,18,FALSE)","v":0},0.5,0,0,"",0,null,{"$f":"VLOOKUP($B171,State3!$A$10:T$250,20,FALSE)","v":0},{"$f":"VLOOKUP($B171,State3!$A$10:U$250,21,FALSE)","v":0},{"$f":"VLOOKUP($B171,State3!$A$10:V$250,22,FALSE)","v":0},{"$f":"VLOOKUP($B171,State3!$A$10:W$250,23,FALSE)","v":0},1,0,{"$f":"VLOOKUP($B171,State3!$A$10:X$250,24,FALSE)","v":0},1,0,0,0,"",0]
[null,"State3: Example 137",{"$f":"VLOOKUP($B172,State3!$A$10:E$250,5,FALSE)","v":0},{"$f":"VLOOKUP($B172,State3!$A$10:F$250,6,FALSE)","v":0},{"$f":"MAX(VLOOKUP($B172,State3!$A$10:O$250,15,FALSE),VLOOKUP($B172,State3!$A$10:P$250,16,FALSE))","v":0},{"$f":"VLOOKUP($B172,State3!$A$10:Q$250,17,FALSE)","v":0},0.5,0,{"$f":"VLOOKUP($B172,State3!$A$10:R$250,18,FALSE)","v":0},0.5,0,0,"",0,null,{"$f":"VLOOKUP($B172,State3!$A$10:T$250,20,FALSE)","v":0},{"$f":"VLOOKUP($B172,State3!$A$10:U$250,21,FALSE)","v":0},{"$f":"VLOOKUP($B172,State3!$A$10:V$250,22,FALSE)","v":0},{"$f":"VLOOKUP($B172,State3!$A$10:W$250,23,FALSE)","v":0},1,0,{"$f":"VLOOKUP($B172,State3!$A$10:X$250,24,FALSE)","v":0},1,0,0,0,"",0]
[null,"State3: Example 138",{"$f":"VLOOKUP($B173,State3!$A$10:E$250,5,FALSE)","v":0},{"$f":"VLOOKUP($B173,State3!$A$10:F$250,6,FALSE)","v":0},{"$f":"MAX(VLOOKUP($B173,State3!$A$10:O$250,15,FALSE),VLOOKUP($B173,State3!$A$10:P$250,16,FALSE))","v":0},{"$f":"VLOOKUP($B173,State3!$A$10:Q$250,17,FALSE)","v":0},0.5,0,{"$f":"VLOOKUP($B173,State3!$A$10:R$250,18,FALSE)","v":0},0.5,0,0,"",0,null,{"$f":"VLOOKUP($B173,State3!$A$10:T$250,20,FALSE)","v":0},{"$f":"VLOOKUP($B173,State3!$A$10:U$250,21,FALSE)","v":0},{"$f":"VLOOKUP($B173,State3!$A$10:V$250,22,FALSE)","v":0},{"$f":"VLOOKUP($B173,State3!$A$10:W$250,23,FALSE)","v":0},1,0,{"$f":"VLOOKUP($B173,State3!$A$10:X$250,24,FALSE)","v":0},1,0,0,0,"",0]
[null,"State3: Example 139",{"$f":"VLOOKUP($B174,State3!$A$10:E$250,5,FALSE)","v":0},{"$f":"VLOOKUP($B174,State3!$A$10:F$250,6,FALSE)","v":0},{"$f":"MAX(VLOOKUP($B174,State3!$A$10:O$250,15,FALSE),VLOOKUP($B174,State3!$A$10:P$250,16,FALSE))","v":0},{"$f":"VLOOKUP($B174,State3!$A$10:Q$250,17,FALSE)","v":0},0.5,0,{"$f":"VLOOKUP($B174,State3!$A$10:R$250,18,FALSE)","v":0},0.5,0,0,"",0,null,{"$f":"VLOOKUP($B174,State3!$A$10:T$250,20,FALSE)","v":0},{"$f":"VLOOKUP($B174,State3!$A$10:U$250,21,FALSE)","v":0},{"$f":"VLOOKUP($B174,State3!$A$10:V$250,22,FALSE)","v":0},{"$f":"VLOOKUP($B174,State3!$A$10:W$250,23,FALSE)","v":0},1,0,{"$f":"VLOOKUP($B174,State3!$A$10:X$250,24,FALSE)","v":0},1,0,0,0,"",0]
[null,"State3: Example 140",{"$f":"VLOOKUP($B175,State3!$A$10:E$250,5,FALSE)","v":0},{"$f":"VLOOKUP($B175,State3!$A$10:F$250,6,FALSE)","v":0},{"$f":"MAX(VLOOKUP($B175,State3!$A$10:O$250,15,FALSE),VLOOKUP($B175,State3!$A$10:P$250,16,FALSE))","v":0},{"$f":"VLOOKUP($B175,State3!$A$10:Q$250,17,FALSE)","v":0},0.5,0,{"$f":"VLOOKUP($B175,State3!$A$10:R$250,18,FALSE)","v":0},0.5,0,0,"",0,null,{"$f":"VLOOKUP($B175,State3!$A$10:T$250,20,FALSE)","v":0},{"$f":"VLOOKUP($B175,State3!$A$10:U$250,21,FALSE)","v":0},{"$f":"VLOOKUP($B175,State3!$A$10:V$250,22,FALSE)","v":0},{"$f":"VLOOKUP($B175,State3!$A$10:W$250,23,FALSE)","v":0},1,0,{"$f":"VLOOKUP($B175,State3!$A$10:X$250,24,FALSE)","v":0},1,0,0,0,"",0]
[null,"State3: Example 141",{"$f":"VLOOKUP($B176,State3!$A$10:E$250,5,FALSE)","v":0},{"$f":"VLOOKUP($B176,State3!$A$10:F$250,6,FALSE)","v":0},{"$f":"MAX(VLOOKUP($B176,State3!$A$10:O$250,15,FALSE),VLOOKUP($B176,State3!$A$10:P$250,16,FALSE))","v":0},{"$f":"VLOOKUP($B176,State3!$A$10:Q$250,17,FALSE)","v":0},{"$f":"IF(($D$13-$E176)<0,0,MIN($D$13-$E176,F176+$D$17,$D$15))","v":0.5},0,{"$f":"VLOOKUP($B176,State3!$A$10:R$250,18,FALSE)","v":0},{"$f":"MIN(I176+$D$17,$D$15)","v":0.5},0,{"$f":"IF(C176>0,E176+H176,0)","v":0},{"$f":"IF(C176>0,IF(L176<=$D$13,\"YES\",\"NO\"),\"\")","v":""},{"$f":"C176*H176+D176*K176","v":0},null,{"$f":"VLOOKUP($B176,State3!$A$10:T$250,20,FALSE)","v":0},{"$f":"VLOOKUP($B176,State3!$A$10:U$250,21,FALSE)","v":0},{"$f":"VLOOKUP($B176,State3!$A$10:V$250,22,FALSE)","v":0},{"$f":"VLOOKUP($B176,State3!$A$10:W$250,23,FALSE)","v":0},{"$f":"MIN($D$14-$R176,S176+$D$18,$D$16)","v":1},0,{"$f":"VLOOKUP($B176,State3!$A$10:X$250,24,FALSE)","v":0},{"$f":"MIN($D$14-$R176,V176+$D$18,$D$16)","v":1},0,{"$f":"IF(P176>0,R176+U176,0)","v":0},{"$f":"IF(Q176>0,R176+X176,0)","v":0},{"$f":"IF(OR(U176>0,X176>0),IF(AND(Y176<=$D$14,Z176<=$D$14),\"YES\",\"NO\"),\"\")","v":""},{"$f":"P176*U176+Q176*X176","v":0}]
[null,"State3: Example 142",{"$f":"VLOOKUP($B177,State3!$A$10:E$250,5,FALSE)","v":0},{"$f":"VLOOKUP($B177,State3!$A$10:F$250,6,FALSE)","v":0},{"$f":"MAX(VLOOKUP($B177,State3!$A$10:O$250,15,FALSE),VLOOKUP($B177,State3!$A$10:P$250,16,FALSE))","v":0},{"$f":"VLOOKUP($B177,State3!$A$10:Q$250,17,FALSE)","v":0},0.5,0,{"$f":"VLOOKUP($B177,State3!$A$10:R$250,18,FALSE)","v":0},0.5,0,0,"",0,null,{"$f":"VLOOKUP($B177,State3!$A$10:T$250,20,FALSE)","v":0},{"$f":"VLOOKUP($B177,State3!$A$10:U$250,21,FALSE)","v":0},{"$f":"VLOOKUP($B177,State3!$A$10:V$250,22,FALSE)","v":0},{"$f":"VLOOKUP($B177,State3!$A$10:W$250,23,FALSE)","v":0},1,0,{"$f":"VLOOKUP($B177,State3!$A$10:X$250,24,FALSE)","v":0},1,0,0,0,"",0]
[null,"State3: Example 143",{"$f":"VLOOKUP($B178,State3!$A$10:E$250,5,FALSE)","v":0},{"$f":"VLOOKUP($B178,State3!$A$10:F$250,6,FALSE)","v":0},{"$f":"MAX(VLOOKUP($B178,State3!$A$10:O$250,15,FALSE),VLOOKUP($B178,State3!$A$10:P$250,16,FALSE))","v":0},{"$f":"VLOOKUP($B178,State3!$A$10:Q$250,17,FALSE)","v":0},0.5,0,{"$f":"VLOOKUP($B178,State3!$A$10:R$250,18,FALSE)","v":0},0.5,0,0,"",0,null,{"$f":"VLOOKUP($B178,State3!$A$10:T$250,20,FALSE)","v":0},{"$f":"VLOOKUP($B178,State3!$A$10:U$250,21,FALSE)","v":0},{"$f":"VLOOKUP($B178,State3!$A$10:V$250,22,FALSE)","v":0},{"$f":"VLOOKUP($B178,State3!$A$10:W$250,23,FALSE)","v":0},1,0,{"$f":"VLOOKUP($B178,State3!$A$10:X$250,24,FALSE)","v":0},1,0,0,0,"",0]
[null,"State3: Example 144",{"$f":"VLOOKUP($B179,State3!$A$10:E$250,5,FALSE)","v":0},{"$f":"VLOOKUP($B179,State3!$A$10:F$250,6,FALSE)","v":0},{"$f":"MAX(VLOOKUP($B179,State3!$A$10:O$250,15,FALSE),VLOOKUP($B179,State3!$A$10:P$250,16,FALSE))","v":0},{"$f":"VLOOKUP($B179,State3!$A$10:Q$250,17,FALSE)","v":0},0.5,0,{"$f":"VLOOKUP($B179,State3!$A$10:R$250,18,FALSE)","v":0},0.5,0,0,"",0,null,{"$f":"VLOOKUP($B179,State3!$A$10:T$250,20,FALSE)","v":0},{"$f":"VLOOKUP($B179,State3!$A$10:U$250,21,FALSE)","v":0},{"$f":"VLOOKUP($B179,State3!$A$10:V$250,22,FALSE)","v":0},{"$f":"VLOOKUP($B179,State3!$A$10:W$250,23,FALSE)","v":0},1,0,{"$f":"VLOOKUP($B179,State3!$A$10:X$250,24,FALSE)","v":0},1,0,0,0,"",0]
[null,"State3: Example 147",{"$f":"VLOOKUP($B180,State3!$A$10:E$250,5,FALSE)","v":0},{"$f":"VLOOKUP($B180,State3!$A$10:F$250,6,FALSE)","v":0},{"$f":"MAX(VLOOKUP($B180,State3!$A$10:O$250,15,FALSE),VLOOKUP($B180,State3!$A$10:P$250,16,FALSE))","v":0},{"$f":"VLOOKUP($B180,State3!$A$10:Q$250,17,FALSE)","v":0},0.5,0,{"$f":"VLOOKUP($B180,State3!$A$10:R$250,18,FALSE)","v":0},0.5,0,0,"",0,null,{"$f":"VLOOKUP($B180,State3!$A$10:T$250,20,FALSE)","v":0},{"$f":"VLOOKUP($B180,State3!$A$10:U$250,21,FALSE)","v":0},{"$f":"VLOOKUP($B180,State3!$A$10:V$250,22,FALSE)","v":0},{"$f":"VLOOKUP($B180,State3!$A$10:W$250,23,FALSE)","v":0},1,0,{"$f":"VLOOKUP($B180,State3!$A$10:X$250,24,FALSE)","v":0},1,0,0,0,"",0]
[null,"State3: Example 148",{"$f":"VLOOKUP($B181,State3!$A$10:E$250,5,FALSE)","v":0},{"$f":"VLOOKUP($B181,State3!$A$10:F$250,6,FALSE)","v":0},{"$f":"MAX(VLOOKUP($B181,State3!$A$10:O$250,15,FALSE),VLOOKUP($B181,State3!$A$10:P$250,16,FALSE))","v":0},{"$f":"VLOOKUP($B181,State3!$A$10:Q$250,17,FALSE)","v":0},0.5,0,{"$f":"VLOOKUP($B181,State3!$A$10:R$250,18,FALSE)","v":0},0.5,0,0,"",0,null,{"$f":"VLOOKUP($B181,State3!$A$10:T$250,20,FALSE)","v":0},{"$f":"VLOOKUP($B181,State3!$A$10:U$250,21,FALSE)","v":0},{"$f":"VLOOKUP($B181,State3!$A$10:V$250,22,FALSE)","v":0},{"$f":"VLOOKUP($B181,State3!$A$10:W$250,23,FALSE)","v":0},1,0,{"$f":"VLOOKUP($B181,State3!$A$10:X$250,24,FALSE)","v":0},1,0,0,0,"",0]
[null,"State3: Example 149",{"$f":"VLOOKUP($B182,State3!$A$10:E$250,5,FALSE)","v":0},{"$f":"VLOOKUP($B182,State3!$A$10:F$250,6,FALSE)","v":0},{"$f":"MAX(VLOOKUP($B182,State3!$A$10:O$250,15,FALSE),VLOOKUP($B182,State3!$A$10:P$250,16,FALSE))","v":0},{"$f":"VLOOKUP($B182,State3!$A$10:Q$250,17,FALSE)","v":0},0.5,0,{"$f":"VLOOKUP($B182,State3!$A$10:R$250,18,FALSE)","v":0},0.5,0,0,"",0,null,{"$f":"VLOOKUP($B182,State3!$A$10:T$250,20,FALSE)","v":0},{"$f":"VLOOKUP($B182,State3!$A$10:U$250,21,FALSE)","v":0},{"$f":"VLOOKUP($B182,State3!$A$10:V$250,22,FALSE)","v":0},{"$f":"VLOOKUP($B182,State3!$A$10:W$250,23,FALSE)","v":0},1,0,{"$f":"VLOOKUP($B182,State3!$A$10:X$250,24,FALSE)","v":0},1,0,0,0,"",0]
[null,"State3: Example 150",{"$f":"VLOOKUP($B183,State3!$A$10:E$250,5,FALSE)","v":0},{"$f":"VLOOKUP($B183,State3!$A$10:F$250,6,FALSE)","v":0},{"$f":"MAX(VLOOKUP($B183,State3!$A$10:O$250,15,FALSE),VLOOKUP($B183,State3!$A$10:P$250,16,FALSE))","v":0},{"$f":"VLOOKUP($B183,State3!$A$10:Q$250,17,FALSE)","v":0},0.5,0,{"$f":"VLOOKUP($B183,State3!$A$10:R$250,18,FALSE)","v":0},0.5,0,0,"",0,null,{"$f":"VLOOKUP($B183,State3!$A$10:T$250,20,FALSE)","v":0},{"$f":"VLOOKUP($B183,State3!$A$10:U$250,21,FALSE)","v":0},{"$f":"VLOOKUP($B183,State3!$A$10:V$250,22,FALSE)","v":0},{"$f":"VLOOKUP($B183,State3!$A$10:W$250,23,FALSE)","v":0},1,0,{"$f":"VLOOKUP($B183,State3!$A$10:X$250,24,FALSE)","v":0},1,0,0,0,"",0]
[null,"State3: Example 151",{"$f":"VLOOKUP($B184,State3!$A$10:E$250,5,FALSE)","v":0},{"$f":"VLOOKUP($B184,State3!$A$10:F$250,6,FALSE)","v":0},{"$f":"MAX(VLOOKUP($B184,State3!$A$10:O$250,15,FALSE),VLOOKUP($B184,State3!$A$10:P$250,16,FALSE))","v":0},{"$f":"VLOOKUP($B184,State3!$A$10:Q$250,17,FALSE)","v":0},0.5,0,{"$f":"VLOOKUP($B184,State3!$A$10:R$250,18,FALSE)","v":0},0.5,0,0,"",0,null,{"$f":"VLOOKUP($B184,State3!$A$10:T$250,20,FALSE)","v":0},{"$f":"VLOOKUP($B184,State3!$A$10:U$250,21,FALSE)","v":0},{"$f":"VLOOKUP($B184,State3!$A$10:V$250,22,FALSE)","v":0},{"$f":"VLOOKUP($B184,State3!$A$10:W$250,23,FALSE)","v":0},1,0,{"$f":"VLOOKUP($B184,State3!$A$10:X$250,24,FALSE)","v":0},1,0,0,0,"",0]
[null,"State3: Example 152",{"$f":"VLOOKUP($B185,State3!$A$10:E$250,5,FALSE)","v":0},{"$f":"VLOOKUP($B185,State3!$A$10:F$250,6,FALSE)","v":0},{"$f":"MAX(VLOOKUP($B185,State3!$A$10:O$250,15,FALSE),VLOOKUP($B185,State3!$A$10:P$250,16,FALSE))","v":0},{"$f":"VLOOKUP($B185,State3!$A$10:Q$250,17,FALSE)","v":0},0.5,0,{"$f":"VLOOKUP($B185,State3!$A$10:R$250,18,FALSE)","v":0},0.5,0,0,"",0,null,{"$f":"VLOOKUP($B185,State3!$A$10:T$250,20,FALSE)","v":0},{"$f":"VLOOKUP($B185,State3!$A$10:U$250,21,FALSE)","v":0},{"$f":"VLOOKUP($B185,State3!$A$10:V$250,22,FALSE)","v":0},{"$f":"VLOOKUP($B185,State3!$A$10:W$250,23,FALSE)","v":0},1,0,{"$f":"VLOOKUP($B185,State3!$A$10:X$250,24,FALSE)","v":0},1,0,0,0,"",0]
[null,"State3: Example 153",{"$f":"VLOOKUP($B186,State3!$A$10:E$250,5,FALSE)","v":0},{"$f":"VLOOKUP($B186,State3!$A$10:F$250,6,FALSE)","v":0},{"$f":"MAX(VLOOKUP($B186,State3!$A$10:O$250,15,FALSE),VLOOKUP($B186,State3!$A$10:P$250,16,FALSE))","v":0},{"$f":"VLOOKUP($B186,State3!$A$10:Q$250,17,FALSE)","v":0},0.5,0,{"$f":"VLOOKUP($B186,State3!$A$10:R$250,18,FALSE)","v":0},0.5,0,0,"",0,null,{"$f":"VLOOKUP($B186,State3!$A$10:T$250,20,FALSE)","v":0},{"$f":"VLOOKUP($B186,State3!$A$10:U$250,21,FALSE)","v":0},{"$f":"VLOOKUP($B186,State3!$A$10:V$250,22,FALSE)","v":0},{"$f":"VLOOKUP($B186,State3!$A$10:W$250,23,FALSE)","v":0},1,0,{"$f":"VLOOKUP($B186,State3!$A$10:X$250,24,FALSE)","v":0},1,0,0,0,"",0]
[null,"State3: Example 154",{"$f":"VLOOKUP($B187,State3!$A$10:E$250,5,FALSE)","v":0},{"$f":"VLOOKUP($B187,State3!$A$10:F$250,6,FALSE)","v":0},{"$f":"MAX(VLOOKUP($B187,State3!$A$10:O$250,15,FALSE),VLOOKUP($B187,State3!$A$10:P$250,16,FALSE))","v":0},{"$f":"VLOOKUP($B187,State3!$A$10:Q$250,17,FALSE)","v":0},0.5,0,{"$f":"VLOOKUP($B187,State3!$A$10:R$250,18,FALSE)","v":0},0.5,0,0,"",0,null,{"$f":"VLOOKUP($B187,State3!$A$10:T$250,20,FALSE)","v":0},{"$f":"VLOOKUP($B187,State3!$A$10:U$250,21,FALSE)","v":0},{"$f":"VLOOKUP($B187,State3!$A$10:V$250,22,FALSE)","v":0},{"$f":"VLOOKUP($B187,State3!$A$10:W$250,23,FALSE)","v":0},1,0,{"$f":"VLOOKUP($B187,State3!$A$10:X$250,24,FALSE)","v":0},1,0,0,0,"",0]
[null,"State3: Example 155",{"$f":"VLOOKUP($B188,State3!$A$10:E$250,5,FALSE)","v":0},{"$f":"VLOOKUP($B188,State3!$A$10:F$250,6,FALSE)","v":0},{"$f":"MAX(VLOOKUP($B188,State3!$A$10:O$250,15,FALSE),VLOOKUP($B188,State3!$A$10:P$250,16,FALSE))","v":0},{"$f":"VLOOKUP($B188,State3!$A$10:Q$250,17,FALSE)","v":0},0.5,0,{"$f":"VLOOKUP($B188,State3!$A$10:R$250,18,FALSE)","v":0},0.5,0,0,"",0,null,{"$f":"VLOOKUP($B188,State3!$A$10:T$250,20,FALSE)","v":0},{"$f":"VLOOKUP($B188,State3!$A$10:U$250,21,FALSE)","v":0},{"$f":"VLOOKUP($B188,State3!$A$10:V$250,22,FALSE)","v":0},{"$f":"VLOOKUP($B188,State3!$A$10:W$250,23,FALSE)","v":0},1,0,{"$f":"VLOOKUP($B188,State3!$A$10:X$250,24,FALSE)","v":0},1,0,0,0,"",0]
[null,"State3: Example 156",{"$f":"VLOOKUP($B189,State3!$A$10:E$250,5,FALSE)","v":0},{"$f":"VLOOKUP($B189,State3!$A$10:F$250,6,FALSE)","v":0},{"$f":"MAX(VLOOKUP($B189,State3!$A$10:O$250,15,FALSE),VLOOKUP($B189,State3!$A$10:P$250,16,FALSE))","v":0},{"$f":"VLOOKUP($B189,State3!$A$10:Q$250,17,FALSE)","v":0},0.5,0,{"$f":"VLOOKUP($B189,State3!$A$10:R$250,18,FALSE)","v":0},0.5,0,0,"",0,null,{"$f":"VLOOKUP($B189,State3!$A$10:T$250,20,FALSE)","v":0},{"$f":"VLOOKUP($B189,State3!$A$10:U$250,21,FALSE)","v":0},{"$f":"VLOOKUP($B189,State3!$A$10:V$250,22,FALSE)","v":0},{"$f":"VLOOKUP($B189,State3!$A$10:W$250,23,FALSE)","v":0},1,0,{"$f":"VLOOKUP($B189,State3!$A$10:X$250,24,FALSE)","v":0},1,0,0,0,"",0]
[null,"State3: Example 157",{"$f":"VLOOKUP($B190,State3!$A$10:E$250,5,FALSE)","v":0},{"$f":"VLOOKUP($B190,State3!$A$10:F$250,6,FALSE)","v":0},{"$f":"MAX(VLOOKUP($B190,State3!$A$10:O$250,15,FALSE),VLOOKUP($B190,State3!$A$10:P$250,16,FALSE))","v":0},{"$f":"VLOOKUP($B190,State3!$A$10:Q$250,17,FALSE)","v":0},0.5,0,{"$f":"VLOOKUP($B190,State3!$A$10:R$250,18,FALSE)","v":0},0.5,0,0,"",0,null,{"$f":"VLOOKUP($B190,State3!$A$10:T$250,20,FALSE)","v":0},{"$f":"VLOOKUP($B190,State3!$A$10:U$250,21,FALSE)","v":0},{"$f":"VLOOKUP($B190,State3!$A$10:V$250,22,FALSE)","v":0},{"$f":"VLOOKUP($B190,State3!$A$10:W$250,23,FALSE)","v":0},1,0,{"$f":"VLOOKUP($B190,State3!$A$10:X$250,24,FALSE)","v":0},1,0,0,0,"",0]
[null,"State3: Example 158",{"$f":"VLOOKUP($B191,State3!$A$10:E$250,5,FALSE)","v":0},{"$f":"VLOOKUP($B191,State3!$A$10:F$250,6,FALSE)","v":0},{"$f":"MAX(VLOOKUP($B191,State3!$A$10:O$250,15,FALSE),VLOOKUP($B191,State3!$A$10:P$250,16,FALSE))","v":0},{"$f":"VLOOKUP($B191,State3!$A$10:Q$250,17,FALSE)","v":0},0.5,0,{"$f":"VLOOKUP($B191,State3!$A$10:R$250,18,FALSE)","v":0},0.5,0,0,"",0,null,{"$f":"VLOOKUP($B191,State3!$A$10:T$250,20,FALSE)","v":0},{"$f":"VLOOKUP($B191,State3!$A$10:U$250,21,FALSE)","v":0},{"$f":"VLOOKUP($B191,State3!$A$10:V$250,22,FALSE)","v":0},{"$f":"VLOOKUP($B191,State3!$A$10:W$250,23,FALSE)","v":0},1,0,{"$f":"VLOOKUP($B191,State3!$A$10:X$250,24,FALSE)","v":0},1,0,0,0,"",0]
[null,"State3: Example 159",{"$f":"VLOOKUP($B192,State3!$A$10:E$250,5,FALSE)","v":0},{"$f":"VLOOKUP($B192,State3!$A$10:F$250,6,FALSE)","v":0},{"$f":"MAX(VLOOKUP($B192,State3!$A$10:O$250,15,FALSE),VLOOKUP($B192,State3!$A$10:P$250,16,FALSE))","v":0},{"$f":"VLOOKUP($B192,State3!$A$10:Q$250,17,FALSE)","v":0},0.5,0,{"$f":"VLOOKUP($B192,State3!$A$10:R$250,18,FALSE)","v":0},0.5,0,0,"",0,null,{"$f":"VLOOKUP($B192,State3!$A$10:T$250,20,FALSE)","v":0},{"$f":"VLOOKUP($B192,State3!$A$10:U$250,21,FALSE)","v":0},{"$f":"VLOOKUP($B192,State3!$A$10:V$250,22,FALSE)","v":0},{"$f":"VLOOKUP($B192,State3!$A$10:W$250,23,FALSE)","v":0},1,0,{"$f":"VLOOKUP($B192,State3!$A$10:X$250,24,FALSE)","v":0},1,0,0,0,"",0]
[null,"State3: Example 160",{"$f":"VLOOKUP($B193,State3!$A$10:E$250,5,FALSE)","v":0},{"$f":"VLOOKUP($B193,State3!$A$10:F$250,6,FALSE)","v":0},{"$f":"MAX(VLOOKUP($B193,State3!$A$10:O$250,15,FALSE),VLOOKUP($B193,State3!$A$10:P$250,16,FALSE))","v":0},{"$f":"VLOOKUP($B193,State3!$A$10:Q$250,17,FALSE)","v":0},0.5,0,{"$f":"VLOOKUP($B193,State3!$A$10:R$250,18,FALSE)","v":0},0.5,0,0,"",0,null,{"$f":"VLOOKUP($B193,State3!$A$10:T$250,20,FALSE)","v":0},{"$f":"VLOOKUP($B193,State3!$A$10:U$250,21,FALSE)","v":0},{"$f":"VLOOKUP($B193,State3!$A$10:V$250,22,FALSE)","v":0},{"$f":"VLOOKUP($B193,State3!$A$10:W$250,23,FALSE)","v":0},1,0,{"$f":"VLOOKUP($B193,State3!$A$10:X$250,24,FALSE)","v":0},1,0,0,0,"",0]
[null,"State3: Example 161",{"$f":"VLOOKUP($B194,State3!$A$10:E$250,5,FALSE)","v":0},{"$f":"VLOOKUP($B194,State3!$A$10:F$250,6,FALSE)","v":0},{"$f":"MAX(VLOOKUP($B194,State3!$A$10:O$250,15,FALSE),VLOOKUP($B194,State3!$A$10:P$250,16,FALSE))","v":0},{"$f":"VLOOKUP($B194,State3!$A$10:Q$250,17,FALSE)","v":0},0.5,0,{"$f":"VLOOKUP($B194,State3!$A$10:R$250,18,FALSE)","v":0},0.5,0,0,"",0,null,{"$f":"VLOOKUP($B194,State3!$A$10:T$250,20,FALSE)","v":0},{"$f":"VLOOKUP($B194,State3!$A$10:U$250,21,FALSE)","v":0},{"$f":"VLOOKUP($B194,State3!$A$10:V$250,22,FALSE)","v":0},{"$f":"VLOOKUP($B194,State3!$A$10:W$250,23,FALSE)","v":0},1,0,{"$f":"VLOOKUP($B194,State3!$A$10:X$250,24,FALSE)","v":0},1,0,0,0,"",0]
[null,"State3: Example 162",{"$f":"VLOOKUP($B195,State3!$A$10:E$250,5,FALSE)","v":0},{"$f":"VLOOKUP($B195,State3!$A$10:F$250,6,FALSE)","v":0},{"$f":"MAX(VLOOKUP($B195,State3!$A$10:O$250,15,FALSE),VLOOKUP($B195,State3!$A$10:P$250,16,FALSE))","v":0},{"$f":"VLOOKUP($B195,State3!$A$10:Q$250,17,FALSE)","v":0},0.5,0,{"$f":"VLOOKUP($B195,State3!$A$10:R$250,18,FALSE)","v":0},0.5,0,0,"",0,null,{"$f":"VLOOKUP($B195,State3!$A$10:T$250,20,FALSE)","v":0},{"$f":"VLOOKUP($B195,State3!$A$10:U$250,21,FALSE)","v":0},{"$f":"VLOOKUP($B195,State3!$A$10:V$250,22,FALSE)","v":0},{"$f":"VLOOKUP($B195,State3!$A$10:W$250,23,FALSE)","v":0},1,0,{"$f":"VLOOKUP($B195,State3!$A$10:X$250,24,FALSE)","v":0},1,0,0,0,"",0]
[null,"State3: Example 163",{"$f":"VLOOKUP($B196,State3!$A$10:E$250,5,FALSE)","v":0},{"$f":"VLOOKUP($B196,State3!$A$10:F$250,6,FALSE)","v":0},{"$f":"MAX(VLOOKUP($B196,State3!$A$10:O$250,15,FALSE),VLOOKUP($B196,State3!$A$10:P$250,16,FALSE))","v":0},{"$f":"VLOOKUP($B196,State3!$A$10:Q$250,17,FALSE)","v":0},0.5,0,{"$f":"VLOOKUP($B196,State3!$A$10:R$250,18,FALSE)","v":0},0.5,0,0,"",0,null,{"$f":"VLOOKUP($B196,State3!$A$10:T$250,20,FALSE)","v":0},{"$f":"VLOOKUP($B196,State3!$A$10:U$250,21,FALSE)","v":0},{"$f":"VLOOKUP($B196,State3!$A$10:V$250,22,FALSE)","v":0},{"$f":"VLOOKUP($B196,State3!$A$10:W$250,23,FALSE)","v":0},1,0,{"$f":"VLOOKUP($B196,State3!$A$10:X$250,24,FALSE)","v":0},1,0,0,0,"",0]
[null,"State3: Example 164",{"$f":"VLOOKUP($B197,State3!$A$10:E$250,5,FALSE)","v":0},{"$f":"VLOOKUP($B197,State3!$A$10:F$250,6,FALSE)","v":0},{"$f":"MAX(VLOOKUP($B197,State3!$A$10:O$250,15,FALSE),VLOOKUP($B197,State3!$A$10:P$250,16,FALSE))","v":0},{"$f":"VLOOKUP($B197,State3!$A$10:Q$250,17,FALSE)","v":0},0.5,0,{"$f":"VLOOKUP($B197,State3!$A$10:R$250,18,FALSE)","v":0},0.5,0,0,"",0,null,{"$f":"VLOOKUP($B197,State3!$A$10:T$250,20,FALSE)","v":0},{"$f":"VLOOKUP($B197,State3!$A$10:U$250,21,FALSE)","v":0},{"$f":"VLOOKUP($B197,State3!$A$10:V$250,22,FALSE)","v":0},{"$f":"VLOOKUP($B197,State3!$A$10:W$250,23,FALSE)","v":0},1,0,{"$f":"VLOOKUP($B197,State3!$A$10:X$250,24,FALSE)","v":0},1,0,0,0,"",0]
[null,"State3: Example 165",{"$f":"VLOOKUP($B198,State3!$A$10:E$250,5,FALSE)","v":0},{"$f":"VLOOKUP($B198,State3!$A$10:F$250,6,FALSE)","v":0},{"$f":"MAX(VLOOKUP($B198,State3!$A$10:O$250,15,FALSE),VLOOKUP($B198,State3!$A$10:P$250,16,FALSE))","v":0},{"$f":"VLOOKUP($B198,State3!$A$10:Q$250,17,FALSE)","v":0},0.5,0,{"$f":"VLOOKUP($B198,State3!$A$10:R$250,18,FALSE)","v":0},0.5,0,0,"",0,null,{"$f":"VLOOKUP($B198,State3!$A$10:T$250,20,FALSE)","v":0},{"$f":"VLOOKUP($B198,State3!$A$10:U$250,21,FALSE)","v":0},{"$f":"VLOOKUP($B198,State3!$A$10:V$250,22,FALSE)","v":0},{"$f":"VLOOKUP($B198,State3!$A$10:W$250,23,FALSE)","v":0},1,0,{"$f":"VLOOKUP($B198,State3!$A$10:X$250,24,FALSE)","v":0},1,0,0,0,"",0]
[null,"State3: Example 166",{"$f":"VLOOKUP($B199,State3!$A$10:E$250,5,FALSE)","v":0},{"$f":"VLOOKUP($B199,State3!$A$10:F$250,6,FALSE)","v":0},{"$f":"MAX(VLOOKUP($B199,State3!$A$10:O$250,15,FALSE),VLOOKUP($B199,State3!$A$10:P$250,16,FALSE))","v":0},{"$f":"VLOOKUP($B199,State3!$A$10:Q$250,17,FALSE)","v":0},0.5,0,{"$f":"VLOOKUP($B199,State3!$A$10:R$250,18,FALSE)","v":0},0.5,0,0,"",0,null,{"$f":"VLOOKUP($B199,State3!$A$10:T$250,20,FALSE)","v":0},{"$f":"VLOOKUP($B199,State3!$A$10:U$250,21,FALSE)","v":0},{"$f":"VLOOKUP($B199,State3!$A$10:V$250,22,FALSE)","v":0},{"$f":"VLOOKUP($B199,State3!$A$10:W$250,23,FALSE)","v":0},1,0,{"$f":"VLOOKUP($B199,State3!$A$10:X$250,24,FALSE)","v":0},1,0,0,0,"",0]
[null,"State3: Example 167",{"$f":"VLOOKUP($B200,State3!$A$10:E$250,5,FALSE)","v":0},{"$f":"VLOOKUP($B200,State3!$A$10:F$250,6,FALSE)","v":0},{"$f":"MAX(VLOOKUP($B200,State3!$A$10:O$250,15,FALSE),VLOOKUP($B200,State3!$A$10:P$250,16,FALSE))","v":0},{"$f":"VLOOKUP($B200,State3!$A$10:Q$250,17,FALSE)","v":0},0.5,0,{"$f":"VLOOKUP($B200,State3!$A$10:R$250,18,FALSE)","v":0},0.5,0,0,"",0,null,{"$f":"VLOOKUP($B200,State3!$A$10:T$250,20,FALSE)","v":0},{"$f":"VLOOKUP($B200,State3!$A$10:U$250,21,FALSE)","v":0},{"$f":"VLOOKUP($B200,State3!$A$10:V$250,22,FALSE)","v":0},{"$f":"VLOOKUP($B200,State3!$A$10:W$250,23,FALSE)","v":0},1,0,{"$f":"VLOOKUP($B200,State3!$A$10:X$250,24,FALSE)","v":0},1,0,0,0,"",0]
[null,"State3: Example 168",{"$f":"VLOOKUP($B201,State3!$A$10:E$250,5,FALSE)","v":0},{"$f":"VLOOKUP($B201,State3!$A$10:F$250,6,FALSE)","v":0},{"$f":"MAX(VLOOKUP($B201,State3!$A$10:O$250,15,FALSE),VLOOKUP($B201,State3!$A$10:P$250,16,FALSE))","v":0},{"$f":"VLOOKUP($B201,State3!$A$10:Q$250,17,FALSE)","v":0},0.5,0,{"$f":"VLOOKUP($B201,State3!$A$10:R$250,18,FALSE)","v":0},0.5,0,0,"",0,null,{"$f":"VLOOKUP($B201,State3!$A$10:T$250,20,FALSE)","v":0},{"$f":"VLOOKUP($B201,State3!$A$10:U$250,21,FALSE)","v":0},{"$f":"VLOOKUP($B201,State3!$A$10:V$250,22,FALSE)","v":0},{"$f":"VLOOKUP($B201,State3!$A$10:W$250,23,FALSE)","v":0},1,0,{"$f":"VLOOKUP($B201,State3!$A$10:X$250,24,FALSE)","v":0},1,0,0,0,"",0]
[null,"State3: Example 169",{"$f":"VLOOKUP($B202,State3!$A$10:E$250,5,FALSE)","v":0},{"$f":"VLOOKUP($B202,State3!$A$10:F$250,6,FALSE)","v":0},{"$f":"MAX(VLOOKUP($B202,State3!$A$10:O$250,15,FALSE),VLOOKUP($B202,State3!$A$10:P$250,16,FALSE))","v":0},{"$f":"VLOOKUP($B202,State3!$A$10:Q$250,17,FALSE)","v":0},0.5,0,{"$f":"VLOOKUP($B202,State3!$A$10:R$250,18,FALSE)","v":0},0.5,0,0,"",0,null,{"$f":"VLOOKUP($B202,State3!$A$10:T$250,20,FALSE)","v":0},{"$f":"VLOOKUP($B202,State3!$A$10:U$250,21,FALSE)","v":0},{"$f":"VLOOKUP($B202,State3!$A$10:V$250,22,FALSE)","v":0},{"$f":"VLOOKUP($B202,State3!$A$10:W$250,23,FALSE)","v":0},1,0,{"$f":"VLOOKUP($B202,State3!$A$10:X$250,24,FALSE)","v":0},1,0,0,0,"",0]
[null,"State3: Example 170",{"$f":"VLOOKUP($B203,State3!$A$10:E$250,5,FALSE)","v":0},{"$f":"VLOOKUP($B203,State3!$A$10:F$250,6,FALSE)","v":0},{"$f":"MAX(VLOOKUP($B203,State3!$A$10:O$250,15,FALSE),VLOOKUP($B203,State3!$A$10:P$250,16,FALSE))","v":0},{"$f":"VLOOKUP($B203,State3!$A$10:Q$250,17,FALSE)","v":0},0.5,0,{"$f":"VLOOKUP($B203,State3!$A$10:R$250,18,FALSE)","v":0},0.5,0,0,"",0,null,{"$f":"VLOOKUP($B203,State3!$A$10:T$250,20,FALSE)","v":0},{"$f":"VLOOKUP($B203,State3!$A$10:U$250,21,FALSE)","v":0},{"$f":"VLOOKUP($B203,State3!$A$10:V$250,22,FALSE)","v":0},{"$f":"VLOOKUP($B203,State3!$A$10:W$250,23,FALSE)","v":0},1,0,{"$f":"VLOOKUP($B203,State3!$A$10:X$250,24,FALSE)","v":0},1,0,0,0,"",0]
[null,"State3: Example 171",{"$f":"VLOOKUP($B204,State3!$A$10:E$250,5,FALSE)","v":0},{"$f":"VLOOKUP($B204,State3!$A$10:F$250,6,FALSE)","v":0},{"$f":"MAX(VLOOKUP($B204,State3!$A$10:O$250,15,FALSE),VLOOKUP($B204,State3!$A$10:P$250,16,FALSE))","v":0},{"$f":"VLOOKUP($B204,State3!$A$10:Q$250,17,FALSE)","v":0},0.5,0,{"$f":"VLOOKUP($B204,State3!$A$10:R$250,18,FALSE)","v":0},0.5,0,0,"",0,null,{"$f":"VLOOKUP($B204,State3!$A$10:T$250,20,FALSE)","v":0},{"$f":"VLOOKUP($B204,State3!$A$10:U$250,21,FALSE)","v":0},{"$f":"VLOOKUP($B204,State3!$A$10:V$250,22,FALSE)","v":0},{"$f":"VLOOKUP($B204,State3!$A$10:W$250,23,FALSE)","v":0},1,0,{"$f":"VLOOKUP($B204,State3!$A$10:X$250,24,FALSE)","v":0},1,0,0,0,"",0]
[null,"State3: Example 172",{"$f":"VLOOKUP($B205,State3!$A$10:E$250,5,FALSE)","v":0},{"$f":"VLOOKUP($B205,State3!$A$10:F$250,6,FALSE)","v":0},{"$f":"MAX(VLOOKUP($B205,State3!$A$10:O$250,15,FALSE),VLOOKUP($B205,State3!$A$10:P$250,16,FALSE))","v":0},{"$f":"VLOOKUP($B205,State3!$A$10:Q$250,17,FALSE)","v":0},0.5,0,{"$f":"VLOOKUP($B205,State3!$A$10:R$250,18,FALSE)","v":0},0.5,0,0,"",0,null,{"$f":"VLOOKUP($B205,State3!$A$10:T$250,20,FALSE)","v":0},{"$f":"VLOOKUP($B205,State3!$A$10:U$250,21,FALSE)","v":0},{"$f":"VLOOKUP($B205,State3!$A$10:V$250,22,FALSE)","v":0},{"$f":"VLOOKUP($B205,State3!$A$10:W$250,23,FALSE)","v":0},1,0,{"$f":"VLOOKUP($B205,State3!$A$10:X$250,24,FALSE)","v":0},1,0,0,0,"",0]
[null,"State3: Example 173",{"$f":"VLOOKUP($B206,State3!$A$10:E$250,5,FALSE)","v":0},{"$f":"VLOOKUP($B206,State3!$A$10:F$250,6,FALSE)","v":0},{"$f":"MAX(VLOOKUP($B206,State3!$A$10:O$250,15,FALSE),VLOOKUP($B206,State3!$A$10:P$250,16,FALSE))","v":0},{"$f":"VLOOKUP($B206,State3!$A$10:Q$250,17,FALSE)","v":0},0.5,0,{"$f":"VLOOKUP($B206,State3!$A$10:R$250,18,FALSE)","v":0},0.5,0,0,"",0,null,{"$f":"VLOOKUP($B206,State3!$A$10:T$250,20,FALSE)","v":0},{"$f":"VLOOKUP($B206,State3!$A$10:U$250,21,FALSE)","v":0},{"$f":"VLOOKUP($B206,State3!$A$10:V$250,22,FALSE)","v":0},{"$f":"VLOOKUP($B206,State3!$A$10:W$250,23,FALSE)","v":0},1,0,{"$f":"VLOOKUP($B206,State3!$A$10:X$250,24,FALSE)","v":0},1,0,0,0,"",0]
[null,"State3: Example 176",{"$f":"VLOOKUP($B207,State3!$A$10:E$250,5,FALSE)","v":0},{"$f":"VLOOKUP($B207,State3!$A$10:F$250,6,FALSE)","v":0},{"$f":"MAX(VLOOKUP($B207,State3!$A$10:O$250,15,FALSE),VLOOKUP($B207,State3!$A$10:P$250,16,FALSE))","v":0},{"$f":"VLOOKUP($B207,State3!$A$10:Q$250,17,FALSE)","v":0},0.5,0,{"$f":"VLOOKUP($B207,State3!$A$10:R$250,18,FALSE)","v":0},0.5,0,0,"",0,null,{"$f":"VLOOKUP($B207,State3!$A$10:T$250,20,FALSE)","v":0},{"$f":"VLOOKUP($B207,State3!$A$10:U$250,21,FALSE)","v":0},{"$f":"VLOOKUP($B207,State3!$A$10:V$250,22,FALSE)","v":0},{"$f":"VLOOKUP($B207,State3!$A$10:W$250,23,FALSE)","v":0},1,0,{"$f":"VLOOKUP($B207,State3!$A$10:X$250,24,FALSE)","v":0},1,0,0,0,"",0]
[null,"State3: Example 177",{"$f":"VLOOKUP($B208,State3!$A$10:E$250,5,FALSE)","v":0},{"$f":"VLOOKUP($B208,State3!$A$10:F$250,6,FALSE)","v":0},{"$f":"MAX(VLOOKUP($B208,State3!$A$10:O$250,15,FALSE),VLOOKUP($B208,State3!$A$10:P$250,16,FALSE))","v":0},{"$f":"VLOOKUP($B208,State3!$A$10:Q$250,17,FALSE)","v":0},0.5,0,{"$f":"VLOOKUP($B208,State3!$A$10:R$250,18,FALSE)","v":0},0.5,0,0,"",0,null,{"$f":"VLOOKUP($B208,State3!$A$10:T$250,20,FALSE)","v":0},{"$f":"VLOOKUP($B208,State3!$A$10:U$250,21,FALSE)","v":0},{"$f":"VLOOKUP($B208,State3!$A$10:V$250,22,FALSE)","v":0},{"$f":"VLOOKUP($B208,State3!$A$10:W$250,23,FALSE)","v":0},1,0,{"$f":"VLOOKUP($B208,State3!$A$10:X$250,24,FALSE)","v":0},1,0,0,0,"",0]
[null,"State3: Example 178",{"$f":"VLOOKUP($B209,State3!$A$10:E$250,5,FALSE)","v":0},{"$f":"VLOOKUP($B209,State3!$A$10:F$250,6,FALSE)","v":0},{"$f":"MAX(VLOOKUP($B209,State3!$A$10:O$250,15,FALSE),VLOOKUP($B209,State3!$A$10:P$250,16,FALSE))","v":0},{"$f":"VLOOKUP($B209,State3!$A$10:Q$250,17,FALSE)","v":0},0.5,0,{"$f":"VLOOKUP($B209,State3!$A$10:R$250,18,FALSE)","v":0},0.5,0,0,"",0,null,{"$f":"VLOOKUP($B209,State3!$A$10:T$250,20,FALSE)","v":0},{"$f":"VLOOKUP($B209,State3!$A$10:U$250,21,FALSE)","v":0},{"$f":"VLOOKUP($B209,State3!$A$10:V$250,22,FALSE)","v":0},{"$f":"VLOOKUP($B209,State3!$A$10:W$250,23,FALSE)","v":0},1,0,{"$f":"VLOOKUP($B209,State3!$A$10:X$250,24,FALSE)","v":0},1,0,0,0,"",0]
[null,"State3: Example 179",{"$f":"VLOOKUP($B210,State3!$A$10:E$250,5,FALSE)","v":0},{"$f":"VLOOKUP($B210,State3!$A$10:F$250,6,FALSE)","v":0},{"$f":"MAX(VLOOKUP($B210,State3!$A$10:O$250,15,FALSE),VLOOKUP($B210,State3!$A$10:P$250,16,FALSE))","v":0},{"$f":"VLOOKUP($B210,State3!$A$10:Q$250,17,FALSE)","v":0},0.5,0,{"$f":"VLOOKUP($B210,State3!$A$10:R$250,18,FALSE)","v":0},0.5,0,0,"",0,null,{"$f":"VLOOKUP($B210,State3!$A$10:T$250,20,FALSE)","v":0},{"$f":"VLOOKUP($B210,State3!$A$10:U$250,21,FALSE)","v":0},{"$f":"VLOOKUP($B210,State3!$A$10:V$250,22,FALSE)","v":0},{"$f":"VLOOKUP($B210,State3!$A$10:W$250,23,FALSE)","v":0},1,0,{"$f":"VLOOKUP($B210,State3!$A$10:X$250,24,FALSE)","v":0},1,0,0,0,"",0]
[null,"State3: Example 180",{"$f":"VLOOKUP($B211,State3!$A$10:E$250,5,FALSE)","v":0},{"$f":"VLOOKUP($B211,State3!$A$10:F$250,6,FALSE)","v":0},{"$f":"MAX(VLOOKUP($B211,State3!$A$10:O$250,15,FALSE),VLOOKUP($B211,State3!$A$10:P$250,16,FALSE))","v":0},{"$f":"VLOOKUP($B211,State3!$A$10:Q$250,17,FALSE)","v":0},0.5,0,{"$f":"VLOOKUP($B211,State3!$A$10:R$250,18,FALSE)","v":0},0.5,0,0,"",0,null,{"$f":"VLOOKUP($B211,State3!$A$10:T$250,20,FALSE)","v":0},{"$f":"VLOOKUP($B211,State3!$A$10:U$250,21,FALSE)","v":0},{"$f":"VLOOKUP($B211,State3!$A$10:V$250,22,FALSE)","v":0},{"$f":"VLOOKUP($B211,State3!$A$10:W$250,23,FALSE)","v":0},1,0,{"$f":"VLOOKUP($B211,State3!$A$10:X$250,24,FALSE)","v":0},1,0,0,0,"",0]
[null,"State3: Example 181",{"$f":"VLOOKUP($B212,State3!$A$10:E$250,5,FALSE)","v":0},{"$f":"VLOOKUP($B212,State3!$A$10:F$250,6,FALSE)","v":0},{"$f":"MAX(VLOOKUP($B212,State3!$A$10:O$250,15,FALSE),VLOOKUP($B212,State3!$A$10:P$250,16,FALSE))","v":0},{"$f":"VLOOKUP($B212,State3!$A$10:Q$250,17,FALSE)","v":0},0.5,0,{"$f":"VLOOKUP($B212,State3!$A$10:R$250,18,FALSE)","v":0},0.5,0,0,"",0,null,{"$f":"VLOOKUP($B212,State3!$A$10:T$250,20,FALSE)","v":0},{"$f":"VLOOKUP($B212,State3!$A$10:U$250,21,FALSE)","v":0},{"$f":"VLOOKUP($B212,State3!$A$10:V$250,22,FALSE)","v":0},{"$f":"VLOOKUP($B212,State3!$A$10:W$250,23,FALSE)","v":0},1,0,{"$f":"VLOOKUP($B212,State3!$A$10:X$250,24,FALSE)","v":0},1,0,0,0,"",0]
[null,"State3: Example 182",{"$f":"VLOOKUP($B213,State3!$A$10:E$250,5,FALSE)","v":0},{"$f":"VLOOKUP($B213,State3!$A$10:F$250,6,FALSE)","v":0},{"$f":"MAX(VLOOKUP($B213,State3!$A$10:O$250,15,FALSE),VLOOKUP($B213,State3!$A$10:P$250,16,FALSE))","v":0},{"$f":"VLOOKUP($B213,State3!$A$10:Q$250,17,FALSE)","v":0},0.5,0,{"$f":"VLOOKUP($B213,State3!$A$10:R$250,18,FALSE)","v":0},0.5,0,0,"",0,null,{"$f":"VLOOKUP($B213,State3!$A$10:T$250,20,FALSE)","v":0},{"$f":"VLOOKUP($B213,State3!$A$10:U$250,21,FALSE)","v":0},{"$f":"VLOOKUP($B213,State3!$A$10:V$250,22,FALSE)","v":0},{"$f":"VLOOKUP($B213,State3!$A$10:W$250,23,FALSE)","v":0},1,0,{"$f":"VLOOKUP($B213,State3!$A$10:X$250,24,FALSE)","v":0},1,0,0,0,"",0]
[null,"State3: Example 183",{"$f":"VLOOKUP($B214,State3!$A$10:E$250,5,FALSE)","v":0},{"$f":"VLOOKUP($B214,State3!$A$10:F$250,6,FALSE)","v":0},{"$f":"MAX(VLOOKUP($B214,State3!$A$10:O$250,15,FALSE),VLOOKUP($B214,State3!$A$10:P$250,16,FALSE))","v":0},{"$f":"VLOOKUP($B214,State3!$A$10:Q$250,17,FALSE)","v":0},0.5,0,{"$f":"VLOOKUP($B214,State3!$A$10:R$250,18,FALSE)","v":0},0.5,0,0,"",0,null,{"$f":"VLOOKUP($B214,State3!$A$10:T$250,20,FALSE)","v":0},{"$f":"VLOOKUP($B214,State3!$A$10:U$250,21,FALSE)","v":0},{"$f":"VLOOKUP($B214,State3!$A$10:V$250,22,FALSE)","v":0},{"$f":"VLOOKUP($B214,State3!$A$10:W$250,23,FALSE)","v":0},1,0,{"$f":"VLOOKUP($B214,State3!$A$10:X$250,24,FALSE)","v":0},1,0,0,0,"",0]
[null,"State3: Example 184",{"$f":"VLOOKUP($B215,State3!$A$10:E$250,5,FALSE)","v":0},{"$f":"VLOOKUP($B215,State3!$A$10:F$250,6,FALSE)","v":0},{"$f":"MAX(VLOOKUP($B215,State3!$A$10:O$250,15,FALSE),VLOOKUP($B215,State3!$A$10:P$250,16,FALSE))","v":0},{"$f":"VLOOKUP($B215,State3!$A$10:Q$250,17,FALSE)","v":0},0.5,0,{"$f":"VLOOKUP($B215,State3!$A$10:R$250,18,FALSE)","v":0},0.5,0,0,"",0,null,{"$f":"VLOOKUP($B215,State3!$A$10:T$250,20,FALSE)","v":0},{"$f":"VLOOKUP($B215,State3!$A$10:U$250,21,FALSE)","v":0},{"$f":"VLOOKUP($B215,State3!$A$10:V$250,22,FALSE)","v":0},{"$f":"VLOOKUP($B215,State3!$A$10:W$250,23,FALSE)","v":0},1,0,{"$f":"VLOOKUP($B215,State3!$A$10:X$250,24,FALSE)","v":0},1,0,0,0,"",0]
[null,"State3: Example 185",{"$f":"VLOOKUP($B216,State3!$A$10:E$250,5,FALSE)","v":0},{"$f":"VLOOKUP($B216,State3!$A$10:F$250,6,FALSE)","v":0},{"$f":"MAX(VLOOKUP($B216,State3!$A$10:O$250,15,FALSE),VLOOKUP($B216,State3!$A$10:P$250,16,FALSE))","v":0},{"$f":"VLOOKUP($B216,State3!$A$10:Q$250,17,FALSE)","v":0},0.5,0,{"$f":"VLOOKUP($B216,State3!$A$10:R$250,18,FALSE)","v":0},0.5,0,0,"",0,null,{"$f":"VLOOKUP($B216,State3!$A$10:T$250,20,FALSE)","v":0},{"$f":"VLOOKUP($B216,State3!$A$10:U$250,21,FALSE)","v":0},{"$f":"VLOOKUP($B216,State3!$A$10:V$250,22,FALSE)","v":0},{"$f":"VLOOKUP($B216,State3!$A$10:W$250,23,FALSE)","v":0},1,0,{"$f":"VLOOKUP($B216,State3!$A$10:X$250,24,FALSE)","v":0},1,0,0,0,"",0]
[null,"State3: Example 186",{"$f":"VLOOKUP($B217,State3!$A$10:E$250,5,FALSE)","v":0},{"$f":"VLOOKUP($B217,State3!$A$10:F$250,6,FALSE)","v":0},{"$f":"MAX(VLOOKUP($B217,State3!$A$10:O$250,15,FALSE),VLOOKUP($B217,State3!$A$10:P$250,16,FALSE))","v":0},{"$f":"VLOOKUP($B217,State3!$A$10:Q$250,17,FALSE)","v":0},0.5,0,{"$f":"VLOOKUP($B217,State3!$A$10:R$250,18,FALSE)","v":0},0.5,0,0,"",0,null,{"$f":"VLOOKUP($B217,State3!$A$10:T$250,20,FALSE)","v":0},{"$f":"VLOOKUP($B217,State3!$A$10:U$250,21,FALSE)","v":0},{"$f":"VLOOKUP($B217,State3!$A$10:V$250,22,FALSE)","v":0},{"$f":"VLOOKUP($B217,State3!$A$10:W$250,23,FALSE)","v":0},1,0,{"$f":"VLOOKUP($B217,State3!$A$10:X$250,24,FALSE)","v":0},1,0,0,0,"",0]
[null,"State3: Example 187",{"$f":"VLOOKUP($B218,State3!$A$10:E$250,5,FALSE)","v":0},{"$f":"VLOOKUP($B218,State3!$A$10:F$250,6,FALSE)","v":0},{"$f":"MAX(VLOOKUP($B218,State3!$A$10:O$250,15,FALSE),VLOOKUP($B218,State3!$A$10:P$250,16,FALSE))","v":0},{"$f":"VLOOKUP($B218,State3!$A$10:Q$250,17,FALSE)","v":0},0.5,0,{"$f":"VLOOKUP($B218,State3!$A$10:R$250,18,FALSE)","v":0},0.5,0,0,"",0,null,{"$f":"VLOOKUP($B218,State3!$A$10:T$250,20,FALSE)","v":0},{"$f":"VLOOKUP($B218,State3!$A$10:U$250,21,FALSE)","v":0},{"$f":"VLOOKUP($B218,State3!$A$10:V$250,22,FALSE)","v":0},{"$f":"VLOOKUP($B218,State3!$A$10:W$250,23,FALSE)","v":0},1,0,{"$f":"VLOOKUP($B218,State3!$A$10:X$250,24,FALSE)","v":0},1,0,0,0,"",0]
[null,"State3: Example 188",{"$f":"VLOOKUP($B219,State3!$A$10:E$250,5,FALSE)","v":0},{"$f":"VLOOKUP($B219,State3!$A$10:F$250,6,FALSE)","v":0},{"$f":"MAX(VLOOKUP($B219,State3!$A$10:O$250,15,FALSE),VLOOKUP($B219,State3!$A$10:P$250,16,FALSE))","v":0},{"$f":"VLOOKUP($B219,State3!$A$10:Q$250,17,FALSE)","v":0},0.5,0,{"$f":"VLOOKUP($B219,State3!$A$10:R$250,18,FALSE)","v":0},0.5,0,0,"",0,null,{"$f":"VLOOKUP($B219,State3!$A$10:T$250,20,FALSE)","v":0},{"$f":"VLOOKUP($B219,State3!$A$10:U$250,21,FALSE)","v":0},{"$f":"VLOOKUP($B219,State3!$A$10:V$250,22,FALSE)","v":0},{"$f":"VLOOKUP($B219,State3!$A$10:W$250,23,FALSE)","v":0},1,0,{"$f":"VLOOKUP($B219,State3!$A$10:X$250,24,FALSE)","v":0},1,0,0,0,"",0]
[null,"State3: Example 189",{"$f":"VLOOKUP($B220,State3!$A$10:E$250,5,FALSE)","v":0},{"$f":"VLOOKUP($B220,State3!$A$10:F$250,6,FALSE)","v":0},{"$f":"MAX(VLOOKUP($B220,State3!$A$10:O$250,15,FALSE),VLOOKUP($B220,State3!$A$10:P$250,16,FALSE))","v":0},{"$f":"VLOOKUP($B220,State3!$A$10:Q$250,17,FALSE)","v":0},0.5,0,{"$f":"VLOOKUP($B220,State3!$A$10:R$250,18,FALSE)","v":0},0.5,0,0,"",0,null,{"$f":"VLOOKUP($B220,State3!$A$10:T$250,20,FALSE)","v":0},{"$f":"VLOOKUP($B220,State3!$A$10:U$250,21,FALSE)","v":0},{"$f":"VLOOKUP($B220,State3!$A$10:V$250,22,FALSE)","v":0},{"$f":"VLOOKUP($B220,State3!$A$10:W$250,23,FALSE)","v":0},1,0,{"$f":"VLOOKUP($B220,State3!$A$10:X$250,24,FALSE)","v":0},1,0,0,0,"",0]
[null,"State3: Example 192",{"$f":"VLOOKUP($B221,State3!$A$10:E$250,5,FALSE)","v":0},{"$f":"VLOOKUP($B221,State3!$A$10:F$250,6,FALSE)","v":0},{"$f":"MAX(VLOOKUP($B221,State3!$A$10:O$250,15,FALSE),VLOOKUP($B221,State3!$A$10:P$250,16,FALSE))","v":0},{"$f":"VLOOKUP($B221,State3!$A$10:Q$250,17,FALSE)","v":0},0.5,0,{"$f":"VLOOKUP($B221,State3!$A$10:R$250,18,FALSE)","v":0},0.5,0,0,"",0,null,{"$f":"VLOOKUP($B221,State3!$A$10:T$250,20,FALSE)","v":0},{"$f":"VLOOKUP($B221,State3!$A$10:U$250,21,FALSE)","v":0},{"$f":"VLOOKUP($B221,State3!$A$10:V$250,22,FALSE)","v":0},{"$f":"VLOOKUP($B221,State3!$A$10:W$250,23,FALSE)","v":0},1,0,{"$f":"VLOOKUP($B221,State3!$A$10:X$250,24,FALSE)","v":0},1,0,0,0,"",0]
[null,"State3: Example 193",{"$f":"VLOOKUP($B222,State3!$A$10:E$250,5,FALSE)","v":0},{"$f":"VLOOKUP($B222,State3!$A$10:F$250,6,FALSE)","v":0},{"$f":"MAX(VLOOKUP($B222,State3!$A$10:O$250,15,FALSE),VLOOKUP($B222,State3!$A$10:P$250,16,FALSE))","v":0},{"$f":"VLOOKUP($B222,State3!$A$10:Q$250,17,FALSE)","v":0},0.5,0,{"$f":"VLOOKUP($B222,State3!$A$10:R$250,18,FALSE)","v":0},0.5,0,0,"",0,null,{"$f":"VLOOKUP($B222,State3!$A$10:T$250,20,FALSE)","v":0},{"$f":"VLOOKUP($B222,State3!$A$10:U$250,21,FALSE)","v":0},{"$f":"VLOOKUP($B222,State3!$A$10:V$250,22,FALSE)","v":0},{"$f":"VLOOKUP($B222,State3!$A$10:W$250,23,FALSE)","v":0},1,0,{"$f":"VLOOKUP($B222,State3!$A$10:X$250,24,FALSE)","v":0},1,0,0,0,"",0]
[null,"State3: Example 196",{"$f":"VLOOKUP($B223,State3!$A$10:E$250,5,FALSE)","v":0},{"$f":"VLOOKUP($B223,State3!$A$10:F$250,6,FALSE)","v":0},{"$f":"MAX(VLOOKUP($B223,State3!$A$10:O$250,15,FALSE),VLOOKUP($B223,State3!$A$10:P$250,16,FALSE))","v":0},{"$f":"VLOOKUP($B223,State3!$A$10:Q$250,17,FALSE)","v":0},0.5,0,{"$f":"VLOOKUP($B223,State3!$A$10:R$250,18,FALSE)","v":0},0.5,0,0,"",0,null,{"$f":"VLOOKUP($B223,State3!$A$10:T$250,20,FALSE)","v":0},{"$f":"VLOOKUP($B223,State3!$A$10:U$250,21,FALSE)","v":0},{"$f":"VLOOKUP($B223,State3!$A$10:V$250,22,FALSE)","v":0},{"$f":"VLOOKUP($B223,State3!$A$10:W$250,23,FALSE)","v":0},1,0,{"$f":"VLOOKUP($B223,State3!$A$10:X$250,24,FALSE)","v":0},1,0,0,0,"",0]
[null,"State3: Example 199",{"$f":"VLOOKUP($B224,State3!$A$10:E$250,5,FALSE)","v":0},{"$f":"VLOOKUP($B224,State3!$A$10:F$250,6,FALSE)","v":0},{"$f":"MAX(VLOOKUP($B224,State3!$A$10:O$250,15,FALSE),VLOOKUP($B224,State3!$A$10:P$250,16,FALSE))","v":0},{"$f":"VLOOKUP($B224,State3!$A$10:Q$250,17,FALSE)","v":0},0.5,0,{"$f":"VLOOKUP($B224,State3!$A$10:R$250,18,FALSE)","v":0},0.5,0,0,"",0,null,{"$f":"VLOOKUP($B224,State3!$A$10:T$250,20,FALSE)","v":0},{"$f":"VLOOKUP($B224,State3!$A$10:U$250,21,FALSE)","v":0},{"$f":"VLOOKUP($B224,State3!$A$10:V$250,22,FALSE)","v":0},{"$f":"VLOOKUP($B224,State3!$A$10:W$250,23,FALSE)","v":0},1,0,{"$f":"VLOOKUP($B224,State3!$A$10:X$250,24,FALSE)","v":0},1,0,0,0,"",0]
[null,"State3: Example 202",{"$f":"VLOOKUP($B225,State3!$A$10:E$250,5,FALSE)","v":0},{"$f":"VLOOKUP($B225,State3!$A$10:F$250,6,FALSE)","v":0},{"$f":"MAX(VLOOKUP($B225,State3!$A$10:O$250,15,FALSE),VLOOKUP($B225,State3!$A$10:P$250,16,FALSE))","v":0},{"$f":"VLOOKUP($B225,State3!$A$10:Q$250,17,FALSE)","v":0},0.5,0,{"$f":"VLOOKUP($B225,State3!$A$10:R$250,18,FALSE)","v":0},0.5,0,0,"",0,null,{"$f":"VLOOKUP($B225,State3!$A$10:T$250,20,FALSE)","v":0},{"$f":"VLOOKUP($B225,State3!$A$10:U$250,21,FALSE)","v":0},{"$f":"VLOOKUP($B225,State3!$A$10:V$250,22,FALSE)","v":0},{"$f":"VLOOKUP($B225,State3!$A$10:W$250,23,FALSE)","v":0},1,0,{"$f":"VLOOKUP($B225,State3!$A$10:X$250,24,FALSE)","v":0},1,0,0,0,"",0]
[null,"State3: Example 203",{"$f":"VLOOKUP($B226,State3!$A$10:E$250,5,FALSE)","v":0},{"$f":"VLOOKUP($B226,State3!$A$10:F$250,6,FALSE)","v":0},{"$f":"MAX(VLOOKUP($B226,State3!$A$10:O$250,15,FALSE),VLOOKUP($B226,State3!$A$10:P$250,16,FALSE))","v":0},{"$f":"VLOOKUP($B226,State3!$A$10:Q$250,17,FALSE)","v":0},0.5,0,{"$f":"VLOOKUP($B226,State3!$A$10:R$250,18,FALSE)","v":0},0.5,0,0,"",0,null,{"$f":"VLOOKUP($B226,State3!$A$10:T$250,20,FALSE)","v":0},{"$f":"VLOOKUP($B226,State3!$A$10:U$250,21,FALSE)","v":0},{"$f":"VLOOKUP($B226,State3!$A$10:V$250,22,FALSE)","v":0},{"$f":"VLOOKUP($B226,State3!$A$10:W$250,23,FALSE)","v":0},1,0,{"$f":"VLOOKUP($B226,State3!$A$10:X$250,24,FALSE)","v":0},1,0,0,0,"",0]
[null,"State3: Example 204",{"$f":"VLOOKUP($B227,State3!$A$10:E$250,5,FALSE)","v":0},{"$f":"VLOOKUP($B227,State3!$A$10:F$250,6,FALSE)","v":0},{"$f":"MAX(VLOOKUP($B227,State3!$A$10:O$250,15,FALSE),VLOOKUP($B227,State3!$A$10:P$250,16,FALSE))","v":0},{"$f":"VLOOKUP($B227,State3!$A$10:Q$250,17,FALSE)","v":0},0.5,0,{"$f":"VLOOKUP($B227,State3!$A$10:R$250,18,FALSE)","v":0},0.5,0,0,"",0,null,{"$f":"VLOOKUP($B227,State3!$A$10:T$250,20,FALSE)","v":0},{"$f":"VLOOKUP($B227,State3!$A$10:U$250,21,FALSE)","v":0},{"$f":"VLOOKUP($B227,State3!$A$10:V$250,22,FALSE)","v":0},{"$f":"VLOOKUP($B227,State3!$A$10:W$250,23,FALSE)","v":0},1,0,{"$f":"VLOOKUP($B227,State3!$A$10:X$250,24,FALSE)","v":0},1,0,0,0,"",0]
[null,"State3: Example 205",{"$f":"VLOOKUP($B228,State3!$A$10:E$250,5,FALSE)","v":0},{"$f":"VLOOKUP($B228,State3!$A$10:F$250,6,FALSE)","v":0},{"$f":"MAX(VLOOKUP($B228,State3!$A$10:O$250,15,FALSE),VLOOKUP($B228,State3!$A$10:P$250,16,FALSE))","v":0},{"$f":"VLOOKUP($B228,State3!$A$10:Q$250,17,FALSE)","v":0},0.5,0,{"$f":"VLOOKUP($B228,State3!$A$10:R$250,18,FALSE)","v":0},0.5,0,0,"",0,null,{"$f":"VLOOKUP($B228,State3!$A$10:T$250,20,FALSE)","v":0},{"$f":"VLOOKUP($B228,State3!$A$10:U$250,21,FALSE)","v":0},{"$f":"VLOOKUP($B228,State3!$A$10:V$250,22,FALSE)","v":0},{"$f":"VLOOKUP($B228,State3!$A$10:W$250,23,FALSE)","v":0},1,0,{"$f":"VLOOKUP($B228,State3!$A$10:X$250,24,FALSE)","v":0},1,0,0,0,"",0]
[null,"State3: Example 206",{"$f":"VLOOKUP($B229,State3!$A$10:E$250,5,FALSE)","v":0},{"$f":"VLOOKUP($B229,State3!$A$10:F$250,6,FALSE)","v":0},{"$f":"MAX(VLOOKUP($B229,State3!$A$10:O$250,15,FALSE),VLOOKUP($B229,State3!$A$10:P$250,16,FALSE))","v":0},{"$f":"VLOOKUP($B229,State3!$A$10:Q$250,17,FALSE)","v":0},0.5,0,{"$f":"VLOOKUP($B229,State3!$A$10:R$250,18,FALSE)","v":0},0.5,0,0,"",0,null,{"$f":"VLOOKUP($B229,State3!$A$10:T$250,20,FALSE)","v":0},{"$f":"VLOOKUP($B229,State3!$A$10:U$250,21,FALSE)","v":0},{"$f":"VLOOKUP($B229,State3!$A$10:V$250,22,FALSE)","v":0},{"$f":"VLOOKUP($B229,State3!$A$10:W$250,23,FALSE)","v":0},1,0,{"$f":"VLOOKUP($B229,State3!$A$10:X$250,24,FALSE)","v":0},1,0,0,0,"",0]
[null,"State3: Example 209",{"$f":"VLOOKUP($B230,State3!$A$10:E$250,5,FALSE)","v":0},{"$f":"VLOOKUP($B230,State3!$A$10:F$250,6,FALSE)","v":0},{"$f":"MAX(VLOOKUP($B230,State3!$A$10:O$250,15,FALSE),VLOOKUP($B230,State3!$A$10:P$250,16,FALSE))","v":0},{"$f":"VLOOKUP($B230,State3!$A$10:Q$250,17,FALSE)","v":0},0.5,0,{"$f":"VLOOKUP($B230,State3!$A$10:R$250,18,FALSE)","v":0},0.5,0,0,"",0,null,{"$f":"VLOOKUP($B230,State3!$A$10:T$250,20,FALSE)","v":0},{"$f":"VLOOKUP($B230,State3!$A$10:U$250,21,FALSE)","v":0},{"$f":"VLOOKUP($B230,State3!$A$10:V$250,22,FALSE)","v":0},{"$f":"VLOOKUP($B230,State3!$A$10:W$250,23,FALSE)","v":0},1,0,{"$f":"VLOOKUP($B230,State3!$A$10:X$250,24,FALSE)","v":0},1,0,0,0,"",0]
[null,"State3: Example 210",{"$f":"VLOOKUP($B231,State3!$A$10:E$250,5,FALSE)","v":0},{"$f":"VLOOKUP($B231,State3!$A$10:F$250,6,FALSE)","v":0},{"$f":"MAX(VLOOKUP($B231,State3!$A$10:O$250,15,FALSE),VLOOKUP($B231,State3!$A$10:P$250,16,FALSE))","v":0},{"$f":"VLOOKUP($B231,State3!$A$10:Q$250,17,FALSE)","v":0},0.5,0,{"$f":"VLOOKUP($B231,State3!$A$10:R$250,18,FALSE)","v":0},0.5,0,0,"",0,null,{"$f":"VLOOKUP($B231,State3!$A$10:T$250,20,FALSE)","v":0},{"$f":"VLOOKUP($B231,State3!$A$10:U$250,21,FALSE)","v":0},{"$f":"VLOOKUP($B231,State3!$A$10:V$250,22,FALSE)","v":0},{"$f":"VLOOKUP($B231,State3!$A$10:W$250,23,FALSE)","v":0},1,0,{"$f":"VLOOKUP($B231,State3!$A$10:X$250,24,FALSE)","v":0},1,0,0,0,"",0]
[null,"State3: Example 211",{"$f":"VLOOKUP($B232,State3!$A$10:E$250,5,FALSE)","v":0},{"$f":"VLOOKUP($B232,State3!$A$10:F$250,6,FALSE)","v":0},{"$f":"MAX(VLOOKUP($B232,State3!$A$10:O$250,15,FALSE),VLOOKUP($B232,State3!$A$10:P$250,16,FALSE))","v":0},{"$f":"VLOOKUP($B232,State3!$A$10:Q$250,17,FALSE)","v":0},0.5,0,{"$f":"VLOOKUP($B232,State3!$A$10:R$250,18,FALSE)","v":0},0.5,0,0,"",0,null,{"$f":"VLOOKUP($B232,State3!$A$10:T$250,20,FALSE)","v":0},{"$f":"VLOOKUP($B232,State3!$A$10:U$250,21,FALSE)","v":0},{"$f":"VLOOKUP($B232,State3!$A$10:V$250,22,FALSE)","v":0},{"$f":"VLOOKUP($B232,State3!$A$10:W$250,23,FALSE)","v":0},1,0,{"$f":"VLOOKUP($B232,State3!$A$10:X$250,24,FALSE)","v":0},1,0,0,0,"",0]
[null,"State3: Example 212",{"$f":"VLOOKUP($B233,State3!$A$10:E$250,5,FALSE)","v":0},{"$f":"VLOOKUP($B233,State3!$A$10:F$250,6,FALSE)","v":0},{"$f":"MAX(VLOOKUP($B233,State3!$A$10:O$250,15,FALSE),VLOOKUP($B233,State3!$A$10:P$250,16,FALSE))","v":0},{"$f":"VLOOKUP($B233,State3!$A$10:Q$250,17,FALSE)","v":0},0.5,0,{"$f":"VLOOKUP($B233,State3!$A$10:R$250,18,FALSE)","v":0},0.5,0,0,"",0,null,{"$f":"VLOOKUP($B233,State3!$A$10:T$250,20,FALSE)","v":0},{"$f":"VLOOKUP($B233,State3!$A$10:U$250,21,FALSE)","v":0},{"$f":"VLOOKUP($B233,State3!$A$10:V$250,22,FALSE)","v":0},{"$f":"VLOOKUP($B233,State3!$A$10:W$250,23,FALSE)","v":0},1,0,{"$f":"VLOOKUP($B233,State3!$A$10:X$250,24,FALSE)","v":0},1,0,0,0,"",0]
[null,"State3: Example 213",{"$f":"VLOOKUP($B234,State3!$A$10:E$250,5,FALSE)","v":0},{"$f":"VLOOKUP($B234,State3!$A$10:F$250,6,FALSE)","v":0},{"$f":"MAX(VLOOKUP($B234,State3!$A$10:O$250,15,FALSE),VLOOKUP($B234,State3!$A$10:P$250,16,FALSE))","v":0},{"$f":"VLOOKUP($B234,State3!$A$10:Q$250,17,FALSE)","v":0},0.5,0,{"$f":"VLOOKUP($B234,State3!$A$10:R$250,18,FALSE)","v":0},0.5,0,0,"",0,null,{"$f":"VLOOKUP($B234,State3!$A$10:T$250,20,FALSE)","v":0},{"$f":"VLOOKUP($B234,State3!$A$10:U$250,21,FALSE)","v":0},{"$f":"VLOOKUP($B234,State3!$A$10:V$250,22,FALSE)","v":0},{"$f":"VLOOKUP($B234,State3!$A$10:W$250,23,FALSE)","v":0},1,0,{"$f":"VLOOKUP($B234,State3!$A$10:X$250,24,FALSE)","v":0},1,0,0,0,"",0]
[null,"State3: Example 214",{"$f":"VLOOKUP($B235,State3!$A$10:E$250,5,FALSE)","v":0},{"$f":"VLOOKUP($B235,State3!$A$10:F$250,6,FALSE)","v":0},{"$f":"MAX(VLOOKUP($B235,State3!$A$10:O$250,15,FALSE),VLOOKUP($B235,State3!$A$10:P$250,16,FALSE))","v":0},{"$f":"VLOOKUP($B235,State3!$A$10:Q$250,17,FALSE)","v":0},0.5,0,{"$f":"VLOOKUP($B235,State3!$A$10:R$250,18,FALSE)","v":0},0.5,0,0,"",0,null,{"$f":"VLOOKUP($B235,State3!$A$10:T$250,20,FALSE)","v":0},{"$f":"VLOOKUP($B235,State3!$A$10:U$250,21,FALSE)","v":0},{"$f":"VLOOKUP($B235,State3!$A$10:V$250,22,FALSE)","v":0},{"$f":"VLOOKUP($B235,State3!$A$10:W$250,23,FALSE)","v":0},1,0,{"$f":"VLOOKUP($B235,State3!$A$10:X$250,24,FALSE)","v":0},1,0,0,0,"",0]
[null,"State3: Example 215",{"$f":"VLOOKUP($B236,State3!$A$10:E$250,5,FALSE)","v":0},{"$f":"VLOOKUP($B236,State3!$A$10:F$250,6,FALSE)","v":0},{"$f":"MAX(VLOOKUP($B236,State3!$A$10:O$250,15,FALSE),VLOOKUP($B236,State3!$A$10:P$250,16,FALSE))","v":0},{"$f":"VLOOKUP($B236,State3!$A$10:Q$250,17,FALSE)","v":0},0.5,0,{"$f":"VLOOKUP($B236,State3!$A$10:R$250,18,FALSE)","v":0},0.5,0,0,"",0,null,{"$f":"VLOOKUP($B236,State3!$A$10:T$250,20,FALSE)","v":0},{"$f":"VLOOKUP($B236,State3!$A$10:U$250,21,FALSE)","v":0},{"$f":"VLOOKUP($B236,State3!$A$10:V$250,22,FALSE)","v":0},{"$f":"VLOOKUP($B236,State3!$A$10:W$250,23,FALSE)","v":0},1,0,{"$f":"VLOOKUP($B236,State3!$A$10:X$250,24,FALSE)","v":0},1,0,0,0,"",0]
[null,"State3: Example 216",{"$f":"VLOOKUP($B237,State3!$A$10:E$250,5,FALSE)","v":0},{"$f":"VLOOKUP($B237,State3!$A$10:F$250,6,FALSE)","v":0},{"$f":"MAX(VLOOKUP($B237,State3!$A$10:O$250,15,FALSE),VLOOKUP($B237,State3!$A$10:P$250,16,FALSE))","v":0},{"$f":"VLOOKUP($B237,State3!$A$10:Q$250,17,FALSE)","v":0},0.5,0,{"$f":"VLOOKUP($B237,State3!$A$10:R$250,18,FALSE)","v":0},0.5,0,0,"",0,null,{"$f":"VLOOKUP($B237,State3!$A$10:T$250,20,FALSE)","v":0},{"$f":"VLOOKUP($B237,State3!$A$10:U$250,21,FALSE)","v":0},{"$f":"VLOOKUP($B237,State3!$A$10:V$250,22,FALSE)","v":0},{"$f":"VLOOKUP($B237,State3!$A$10:W$250,23,FALSE)","v":0},1,0,{"$f":"VLOOKUP($B237,State3!$A$10:X$250,24,FALSE)","v":0},1,0,0,0,"",0]
[null,"State3: Example 217",{"$f":"VLOOKUP($B238,State3!$A$10:E$250,5,FALSE)","v":0},{"$f":"VLOOKUP($B238,State3!$A$10:F$250,6,FALSE)","v":0},{"$f":"MAX(VLOOKUP($B238,State3!$A$10:O$250,15,FALSE),VLOOKUP($B238,State3!$A$10:P$250,16,FALSE))","v":0},{"$f":"VLOOKUP($B238,State3!$A$10:Q$250,17,FALSE)","v":0},0.5,0,{"$f":"VLOOKUP($B238,State3!$A$10:R$250,18,FALSE)","v":0},0.5,0,0,"",0,null,{"$f":"VLOOKUP($B238,State3!$A$10:T$250,20,FALSE)","v":0},{"$f":"VLOOKUP($B238,State3!$A$10:U$250,21,FALSE)","v":0},{"$f":"VLOOKUP($B238,State3!$A$10:V$250,22,FALSE)","v":0},{"$f":"VLOOKUP($B238,State3!$A$10:W$250,23,FALSE)","v":0},1,0,{"$f":"VLOOKUP($B238,State3!$A$10:X$250,24,FALSE)","v":0},1,0,0,0,"",0]
[null,"State3: Example 218",{"$f":"VLOOKUP($B239,State3!$A$10:E$250,5,FALSE)","v":0},{"$f":"VLOOKUP($B239,State3!$A$10:F$250,6,FALSE)","v":0},{"$f":"MAX(VLOOKUP($B239,State3!$A$10:O$250,15,FALSE),VLOOKUP($B239,State3!$A$10:P$250,16,FALSE))","v":0},{"$f":"VLOOKUP($B239,State3!$A$10:Q$250,17,FALSE)","v":0},0.5,0,{"$f":"VLOOKUP($B239,State3!$A$10:R$250,18,FALSE)","v":0},0.5,0,0,"",0,null,{"$f":"VLOOKUP($B239,State3!$A$10:T$250,20,FALSE)","v":0},{"$f":"VLOOKUP($B239,State3!$A$10:U$250,21,FALSE)","v":0},{"$f":"VLOOKUP($B239,State3!$A$10:V$250,22,FALSE)","v":0},{"$f":"VLOOKUP($B239,State3!$A$10:W$250,23,FALSE)","v":0},1,0,{"$f":"VLOOKUP($B239,State3!$A$10:X$250,24,FALSE)","v":0},1,0,0,0,"",0]
[null,"State3: Example 219",{"$f":"VLOOKUP($B240,State3!$A$10:E$250,5,FALSE)","v":0},{"$f":"VLOOKUP($B240,State3!$A$10:F$250,6,FALSE)","v":0},{"$f":"MAX(VLOOKUP($B240,State3!$A$10:O$250,15,FALSE),VLOOKUP($B240,State3!$A$10:P$250,16,FALSE))","v":0},{"$f":"VLOOKUP($B240,State3!$A$10:Q$250,17,FALSE)","v":0},{"$f":"IF(($D$13-$E240)<0,0,MIN($D$13-$E240,F240+$D$17,$D$15))","v":0.5},0,{"$f":"VLOOKUP($B240,State3!$A$10:R$250,18,FALSE)","v":0},{"$f":"MIN(I240+$D$17,$D$15)","v":0.5},0,{"$f":"IF(C240>0,E240+H240,0)","v":0},{"$f":"IF(C240>0,IF(L240<=$D$13,\"YES\",\"NO\"),\"\")","v":""},{"$f":"C240*H240+D240*K240","v":0},null,{"$f":"VLOOKUP($B240,State3!$A$10:T$250,20,FALSE)","v":0},{"$f":"VLOOKUP($B240,State3!$A$10:U$250,21,FALSE)","v":0},{"$f":"VLOOKUP($B240,State3!$A$10:V$250,22,FALSE)","v":0},{"$f":"VLOOKUP($B240,State3!$A$10:W$250,23,FALSE)","v":0},{"$f":"MIN($D$14-$R240,S240+$D$18,$D$16)","v":1},0,{"$f":"VLOOKUP($B240,State3!$A$10:X$250,24,FALSE)","v":0},{"$f":"MIN($D$14-$R240,V240+$D$18,$D$16)","v":1},0,{"$f":"IF(P240>0,R240+U240,0)","v":0},{"$f":"IF(Q240>0,R240+X240,0)","v":0},{"$f":"IF(OR(U240>0,X240>0),IF(AND(Y240<=$D$14,Z240<=$D$14),\"YES\",\"NO\"),\"\")","v":""},{"$f":"P240*U240+Q240*X240","v":0}]
[null,"State3: Example 220",{"$f":"VLOOKUP($B241,State3!$A$10:E$250,5,FALSE)","v":0},{"$f":"VLOOKUP($B241,State3!$A$10:F$250,6,FALSE)","v":0},{"$f":"MAX(VLOOKUP($B241,State3!$A$10:O$250,15,FALSE),VLOOKUP($B241,State3!$A$10:P$250,16,FALSE))","v":0},{"$f":"VLOOKUP($B241,State3!$A$10:Q$250,17,FALSE)","v":0},0.5,0,{"$f":"VLOOKUP($B241,State3!$A$10:R$250,18,FALSE)","v":0},0.5,0,0,"",0,null,{"$f":"VLOOKUP($B241,State3!$A$10:T$250,20,FALSE)","v":0},{"$f":"VLOOKUP($B241,State3!$A$10:U$250,21,FALSE)","v":0},{"$f":"VLOOKUP($B241,State3!$A$10:V$250,22,FALSE)","v":0},{"$f":"VLOOKUP($B241,State3!$A$10:W$250,23,FALSE)","v":0},1,0,{"$f":"VLOOKUP($B241,State3!$A$10:X$250,24,FALSE)","v":0},1,0,0,0,"",0]
[null,"State3: Example 221",{"$f":"VLOOKUP($B242,State3!$A$10:E$250,5,FALSE)","v":0},{"$f":"VLOOKUP($B242,State3!$A$10:F$250,6,FALSE)","v":0},{"$f":"MAX(VLOOKUP($B242,State3!$A$10:O$250,15,FALSE),VLOOKUP($B242,State3!$A$10:P$250,16,FALSE))","v":0},{"$f":"VLOOKUP($B242,State3!$A$10:Q$250,17,FALSE)","v":0},0.5,0,{"$f":"VLOOKUP($B242,State3!$A$10:R$250,18,FALSE)","v":0},0.5,0,0,"",0,null,{"$f":"VLOOKUP($B242,State3!$A$10:T$250,20,FALSE)","v":0},{"$f":"VLOOKUP($B242,State3!$A$10:U$250,21,FALSE)","v":0},{"$f":"VLOOKUP($B242,State3!$A$10:V$250,22,FALSE)","v":0},{"$f":"VLOOKUP($B242,State3!$A$10:W$250,23,FALSE)","v":0},1,0,{"$f":"VLOOKUP($B242,State3!$A$10:X$250,24,FALSE)","v":0},1,0,0,0,"",0]
[null,"State3: Example 222",{"$f":"VLOOKUP($B243,State3!$A$10:E$250,5,FALSE)","v":0},{"$f":"VLOOKUP($B243,State3!$A$10:F$250,6,FALSE)","v":0},{"$f":"MAX(VLOOKUP($B243,State3!$A$10:O$250,15,FALSE),VLOOKUP($B243,State3!$A$10:P$250,16,FALSE))","v":0},{"$f":"VLOOKUP($B243,State3!$A$10:Q$250,17,FALSE)","v":0},0.5,0,{"$f":"VLOOKUP($B243,State3!$A$10:R$250,18,FALSE)","v":0},0.5,0,0,"",0,null,{"$f":"VLOOKUP($B243,State3!$A$10:T$250,20,FALSE)","v":0},{"$f":"VLOOKUP($B243,State3!$A$10:U$250,21,FALSE)","v":0},{"$f":"VLOOKUP($B243,State3!$A$10:V$250,22,FALSE)","v":0},{"$f":"VLOOKUP($B243,State3!$A$10:W$250,23,FALSE)","v":0},1,0,{"$f":"VLOOKUP($B243,State3!$A$10:X$250,24,FALSE)","v":0},1,0,0,0,"",0]
[null,"State3: Example 223",{"$f":"VLOOKUP($B244,State3!$A$10:E$250,5,FALSE)","v":0},{"$f":"VLOOKUP($B244,State3!$A$10:F$250,6,FALSE)","v":0},{"$f":"MAX(VLOOKUP($B244,State3!$A$10:O$250,15,FALSE),VLOOKUP($B244,State3!$A$10:P$250,16,FALSE))","v":0},{"$f":"VLOOKUP($B244,State3!$A$10:Q$250,17,FALSE)","v":0},0.5,0,{"$f":"VLOOKUP($B244,State3!$A$10:R$250,18,FALSE)","v":0},0.5,0,0,"",0,null,{"$f":"VLOOKUP($B244,State3!$A$10:T$250,20,FALSE)","v":0},{"$f":"VLOOKUP($B244,State3!$A$10:U$250,21,FALSE)","v":0},{"$f":"VLOOKUP($B244,State3!$A$10:V$250,22,FALSE)","v":0},{"$f":"VLOOKUP($B244,State3!$A$10:W$250,23,FALSE)","v":0},1,0,{"$f":"VLOOKUP($B244,State3!$A$10:X$250,24,FALSE)","v":0},1,0,0,0,"",0]
[null,"State3: Example 224",{"$f":"VLOOKUP($B245,State3!$A$10:E$250,5,FALSE)","v":0},{"$f":"VLOOKUP($B245,State3!$A$10:F$250,6,FALSE)","v":0},{"$f":"MAX(VLOOKUP($B245,State3!$A$10:O$250,15,FALSE),VLOOKUP($B245,State3!$A$10:P$250,16,FALSE))","v":0},{"$f":"VLOOKUP($B245,State3!$A$10:Q$250,17,FALSE)","v":0},0.5,0,{"$f":"VLOOKUP($B245,State3!$A$10:R$250,18,FALSE)","v":0},0.5,0,0,"",0,null,{"$f":"VLOOKUP($B245,State3!$A$10:T$250,20,FALSE)","v":0},{"$f":"VLOOKUP($B245,State3!$A$10:U$250,21,FALSE)","v":0},{"$f":"VLOOKUP($B245,State3!$A$10:V$250,22,FALSE)","v":0},{"$f":"VLOOKUP($B245,State3!$A$10:W$250,23,FALSE)","v":0},1,0,{"$f":"VLOOKUP($B245,State3!$A$10:X$250,24,FALSE)","v":0},1,0,0,0,"",0]
[null,"State3: Example 225",{"$f":"VLOOKUP($B246,State3!$A$10:E$250,5,FALSE)","v":0},{"$f":"VLOOKUP($B246,State3!$A$10:F$250,6,FALSE)","v":0},{"$f":"MAX(VLOOKUP($B246,State3!$A$10:O$250,15,FALSE),VLOOKUP($B246,State3!$A$10:P$250,16,FALSE))","v":0},{"$f":"VLOOKUP($B246,State3!$A$10:Q$250,17,FALSE)","v":0},0.5,0,{"$f":"VLOOKUP($B246,State3!$A$10:R$250,18,FALSE)","v":0},0.5,0,0,"",0,null,{"$f":"VLOOKUP($B246,State3!$A$10:T$250,20,FALSE)","v":0},{"$f":"VLOOKUP($B246,State3!$A$10:U$250,21,FALSE)","v":0},{"$f":"VLOOKUP($B246,State3!$A$10:V$250,22,FALSE)","v":0},{"$f":"VLOOKUP($B246,State3!$A$10:W$250,23,FALSE)","v":0},1,0,{"$f":"VLOOKUP($B246,State3!$A$10:X$250,24,FALSE)","v":0},1,0,0,0,"",0]
[null,"State3: Example 226",{"$f":"VLOOKUP($B247,State3!$A$10:E$250,5,FALSE)","v":0},{"$f":"VLOOKUP($B247,State3!$A$10:F$250,6,FALSE)","v":0},{"$f":"MAX(VLOOKUP($B247,State3!$A$10:O$250,15,FALSE),VLOOKUP($B247,State3!$A$10:P$250,16,FALSE))","v":0},{"$f":"VLOOKUP($B247,State3!$A$10:Q$250,17,FALSE)","v":0},0.5,0,{"$f":"VLOOKUP($B247,State3!$A$10:R$250,18,FALSE)","v":0},0.5,0,0,"",0,null,{"$f":"VLOOKUP($B247,State3!$A$10:T$250,20,FALSE)","v":0},{"$f":"VLOOKUP($B247,State3!$A$10:U$250,21,FALSE)","v":0},{"$f":"VLOOKUP($B247,State3!$A$10:V$250,22,FALSE)","v":0},{"$f":"VLOOKUP($B247,State3!$A$10:W$250,23,FALSE)","v":0},1,0,{"$f":"VLOOKUP($B247,State3!$A$10:X$250,24,FALSE)","v":0},1,0,0,0,"",0]
[null,"State3: Example 227",{"$f":"VLOOKUP($B248,State3!$A$10:E$250,5,FALSE)","v":0},{"$f":"VLOOKUP($B248,State3!$A$10:F$250,6,FALSE)","v":0},{"$f":"MAX(VLOOKUP($B248,State3!$A$10:O$250,15,FALSE),VLOOKUP($B248,State3!$A$10:P$250,16,FALSE))","v":0},{"$f":"VLOOKUP($B248,State3!$A$10:Q$250,17,FALSE)","v":0},0.5,0,{"$f":"VLOOKUP($B248,State3!$A$10:R$250,18,FALSE)","v":0},0.5,0,0,"",0,null,{"$f":"VLOOKUP($B248,State3!$A$10:T$250,20,FALSE)","v":0},{"$f":"VLOOKUP($B248,State3!$A$10:U$250,21,FALSE)","v":0},{"$f":"VLOOKUP($B248,State3!$A$10:V$250,22,FALSE)","v":0},{"$f":"VLOOKUP($B248,State3!$A$10:W$250,23,FALSE)","v":0},1,0,{"$f":"VLOOKUP($B248,State3!$A$10:X$250,24,FALSE)","v":0},1,0,0,0,"",0]
[null,"State3: Example 228",{"$f":"VLOOKUP($B249,State3!$A$10:E$250,5,FALSE)","v":0},{"$f":"VLOOKUP($B249,State3!$A$10:F$250,6,FALSE)","v":0},{"$f":"MAX(VLOOKUP($B249,State3!$A$10:O$250,15,FALSE),VLOOKUP($B249,State3!$A$10:P$250,16,FALSE))","v":0},{"$f":"VLOOKUP($B249,State3!$A$10:Q$250,17,FALSE)","v":0},0.5,0,{"$f":"VLOOKUP($B249,State3!$A$10:R$250,18,FALSE)","v":0},0.5,0,0,"",0,null,{"$f":"VLOOKUP($B249,State3!$A$10:T$250,20,FALSE)","v":0},{"$f":"VLOOKUP($B249,State3!$A$10:U$250,21,FALSE)","v":0},{"$f":"VLOOKUP($B249,State3!$A$10:V$250,22,FALSE)","v":0},{"$f":"VLOOKUP($B249,State3!$A$10:W$250,23,FALSE)","v":0},1,0,{"$f":"VLOOKUP($B249,State3!$A$10:X$250,24,FALSE)","v":0},1,0,0,0,"",0]
[null,"State3: Example 229",{"$f":"VLOOKUP($B250,State3!$A$10:E$250,5,FALSE)","v":0},{"$f":"VLOOKUP($B250,State3!$A$10:F$250,6,FALSE)","v":0},{"$f":"MAX(VLOOKUP($B250,State3!$A$10:O$250,15,FALSE),VLOOKUP($B250,State3!$A$10:P$250,16,FALSE))","v":0},{"$f":"VLOOKUP($B250,State3!$A$10:Q$250,17,FALSE)","v":0},0.5,0,{"$f":"VLOOKUP($B250,State3!$A$10:R$250,18,FALSE)","v":0},0.5,0,0,"",0,null,{"$f":"VLOOKUP($B250,State3!$A$10:T$250,20,FALSE)","v":0},{"$f":"VLOOKUP($B250,State3!$A$10:U$250,21,FALSE)","v":0},{"$f":"VLOOKUP($B250,State3!$A$10:V$250,22,FALSE)","v":0},{"$f":"VLOOKUP($B250,State3!$A$10:W$250,23,FALSE)","v":0},1,0,{"$f":"VLOOKUP($B250,State3!$A$10:X$250,24,FALSE)","v":0},1,0,0,0,"",0]
[null,"State3: Example 230",{"$f":"VLOOKUP($B251,State3!$A$10:E$250,5,FALSE)","v":0},{"$f":"VLOOKUP($B251,State3!$A$10:F$250,6,FALSE)","v":0},{"$f":"MAX(VLOOKUP($B251,State3!$A$10:O$250,15,FALSE),VLOOKUP($B251,State3!$A$10:P$250,16,FALSE))","v":0},{"$f":"VLOOKUP($B251,State3!$A$10:Q$250,17,FALSE)","v":0},0.5,0,{"$f":"VLOOKUP($B251,State3!$A$10:R$250,18,FALSE)","v":0},0.5,0,0,"",0,null,{"$f":"VLOOKUP($B251,State3!$A$10:T$250,20,FALSE)","v":0},{"$f":"VLOOKUP($B251,State3!$A$10:U$250,21,FALSE)","v":0},{"$f":"VLOOKUP($B251,State3!$A$10:V$250,22,FALSE)","v":0},{"$f":"VLOOKUP($B251,State3!$A$10:W$250,23,FALSE)","v":0},1,0,{"$f":"VLOOKUP($B251,State3!$A$10:X$250,24,FALSE)","v":0},1,0,0,0,"",0]
[null,"State3: Example 231",{"$f":"VLOOKUP($B252,State3!$A$10:E$250,5,FALSE)","v":0},{"$f":"VLOOKUP($B252,State3!$A$10:F$250,6,FALSE)","v":0},{"$f":"MAX(VLOOKUP($B252,State3!$A$10:O$250,15,FALSE),VLOOKUP($B252,State3!$A$10:P$250,16,FALSE))","v":0},{"$f":"VLOOKUP($B252,State3!$A$10:Q$250,17,FALSE)","v":0},0.5,0,{"$f":"VLOOKUP($B252,State3!$A$10:R$250,18,FALSE)","v":0},0.5,0,0,"",0,null,{"$f":"VLOOKUP($B252,State3!$A$10:T$250,20,FALSE)","v":0},{"$f":"VLOOKUP($B252,State3!$A$10:U$250,21,FALSE)","v":0},{"$f":"VLOOKUP($B252,State3!$A$10:V$250,22,FALSE)","v":0},{"$f":"VLOOKUP($B252,State3!$A$10:W$250,23,FALSE)","v":0},1,0,{"$f":"VLOOKUP($B252,State3!$A$10:X$250,24,FALSE)","v":0},1,0,0,0,"",0]
[null,"State3: Example 232",{"$f":"VLOOKUP($B253,State3!$A$10:E$250,5,FALSE)","v":0},{"$f":"VLOOKUP($B253,State3!$A$10:F$250,6,FALSE)","v":0},{"$f":"MAX(VLOOKUP($B253,State3!$A$10:O$250,15,FALSE),VLOOKUP($B253,State3!$A$10:P$250,16,FALSE))","v":0},{"$f":"VLOOKUP($B253,State3!$A$10:Q$250,17,FALSE)","v":0},0.5,0,{"$f":"VLOOKUP($B253,State3!$A$10:R$250,18,FALSE)","v":0},0.5,0,0,"",0,null,{"$f":"VLOOKUP($B253,State3!$A$10:T$250,20,FALSE)","v":0},{"$f":"VLOOKUP($B253,State3!$A$10:U$250,21,FALSE)","v":0},{"$f":"VLOOKUP($B253,State3!$A$10:V$250,22,FALSE)","v":0},{"$f":"VLOOKUP($B253,State3!$A$10:W$250,23,FALSE)","v":0},1,0,{"$f":"VLOOKUP($B253,State3!$A$10:X$250,24,FALSE)","v":0},1,0,0,0,"",0]
[null,"State3: Totals",{"$f":"SUM(C47:C253)","v":0},{"$f":"SUM(D47:D253)","v":0},null,null,null,null,null,null,null,null,null,{"$f":"SUM(N47:N253)","v":0},null,{"$f":"SUM(P47:P253)","v":0},{"$f":"SUM(Q47:Q253)","v":0},null,null,null,null,null,null,null,null,null,null,{"$f":"SUM(AB47:AB253)","v":0}]
[]
["State4"]
[null,"State4: Exchange 1",{"$f":"VLOOKUP($B257,State4!$A$10:E$14,5,FALSE)","v":0},{"$f":"VLOOKUP($B257,State4!$A$10:F$14,6,FALSE)","v":0},{"$f":"MAX(VLOOKUP($B257,State4!$A$10:O$14,15,FALSE),VLOOKUP($B257,State4!$A$10:P$14,16,FALSE))","v":0},{"$f":"VLOOKUP($B257,State4!$A$10:Q$14,17,FALSE)","v":0},{"$f":"IF(($D$13-$E257)<0,0,MIN($D$13-$E257,F257+$D$17,$D$15))","v":0.5},0,{"$f":"VLOOKUP($B257,State4!$A$10:R$14,18,FALSE)","v":0},{"$f":"MIN(I257+$D$17,$D$15)","v":0.5},0,{"$f":"IF(C257>0,E257+H257,0)","v":0},{"$f":"IF(C257>0,IF(L257<=$D$13,\"YES\",\"NO\"),\"\")","v":""},{"$f":"C257*H257+D257*K257","v":0},null,{"$f":"VLOOKUP($B257,State4!$A$10:T$14,20,FALSE)","v":0},{"$f":"VLOOKUP($B257,State4!$A$10:U$14,21,FALSE)","v":0},{"$f":"VLOOKUP($B257,State4!$A$10:V$14,22,FALSE)","v":0},{"$f":"VLOOKUP($B257,State4!$A$10:W$14,23,FALSE)","v":0},{"$f":"MIN($D$14-$R257,S257+$D$18,$D$16)","v":1},0,{"$f":"VLOOKUP($B257,State4!$A$10:X$14,24,FALSE)","v":0},{"$f":"MIN($D$14-$R257,V257+$D$18,$D$16)","v":1},0,{"$f":"IF(P257>0,R257+U257,0)","v":0},{"$f":"IF(Q257>0,R257+X257,0)","v":0},{"$f":"IF(OR(U257>0,X257>0),IF(AND(Y257<=$D$14,Z257<=$D$14),\"YES\",\"NO\"),\"\")","v":""},{"$f":"P257*U257+Q257*X257","v":0}]
[null,"State4: Exchange 2",{"$f":"VLOOKUP($B258,State4!$A$10:E$14,5,FALSE)","v":0},{"$f":"VLOOKUP($B258,State4!$A$10:F$14,6,FALSE)","v":0},{"$f":"MAX(VLOOKUP($B258,State4!$A$10:O$14,15,FALSE),VLOOKUP($B258,State4!$A$10:P$14,16,FALSE))","v":0},{"$f":"VLOOKUP($B258,State4!$A$10:Q$14,17,FALSE)","v":0},{"$f":"IF(($D$13-$E258)<0,0,MIN($D$13-$E258,F258+$D$17,$D$15))","v":0.5},0,{"$f":"VLOOKUP($B258,State4!$A$10:R$14,18,FALSE)","v":0},{"$f":"MIN(I258+$D$17,$D$15)","v":0.5},0,{"$f":"IF(C258>0,E258+H258,0)","v":0},{"$f":"IF(C258>0,IF(L258<=$D$13,\"YES\",\"NO\"),\"\")","v":""},{"$f":"C258*H258+D258*K258","v":0},null,{"$f":"VLOOKUP($B258,State4!$A$10:T$14,20,FALSE)","v":0},{"$f":"VLOOKUP($B258,State4!$A$10:U$14,21,FALSE)","v":0},{"$f":"VLOOKUP($B258,State4!$A$10:V$14,22,FALSE)","v":0},{"$f":"VLOOKUP($B258,State4!$A$10:W$14,23,FALSE)","v":0},{"$f":"MIN($D$14-$R258,S258+$D$18,$D$16)","v":1},0,{"$f":"VLOOKUP($B258,State4!$A$10:X$14,24,FALSE)","v":0},{"$f":"MIN($D$14-$R258,V258+$D$18,$D$16)","v":1},0,{"$f":"IF(P258>0,R258+U258,0)","v":0},{"$f":"IF(Q258>0,R258+X258,0)","v":0},{"$f":"IF(OR(U258>0,X258>0),IF(AND(Y258<=$D$14,Z258<=$D$14),\"YES\",\"NO\"),\"\")","v":""},{"$f":"P258*U258+Q258*X258","v":0}]
[null,"State4: Exchange 3",{"$f":"VLOOKUP($B259,State4!$A$10:E$14,5,FALSE)","v":0},{"$f":"VLOOKUP($B259,State4!$A$10:F$14,6,FALSE)","v":0},{"$f":"MAX(VLOOKUP($B259,State4!$A$10:O$14,15,FALSE),VLOOKUP($B259,State4!$A$10:P$14,16,FALSE))","v":0},{"$f":"VLOOKUP($B259,State4!$A$10:Q$14,17,FALSE)","v":0},{"$f":"IF(($D$13-$E259)<0,0,MIN($D$13-$E259,F259+$D$17,$D$15))","v":0.5},0,{"$f":"VLOOKUP($B259,State4!$A$10:R$14,18,FALSE)","v":0},{"$f":"MIN(I259+$D$17,$D$15)","v":0.5},0,{"$f":"IF(C259>0,E259+H259,0)","v":0},{"$f":"IF(C259>0,IF(L259<=$D$13,\"YES\",\"NO\"),\"\")","v":""},{"$f":"C259*H259+D259*K259","v":0},null,{"$f":"VLOOKUP($B259,State4!$A$10:T$14,20,FALSE)","v":0},{"$f":"VLOOKUP($B259,State4!$A$10:U$14,21,FALSE)","v":0},{"$f":"VLOOKUP($B259,State4!$A$10:V$14,22,FALSE)","v":0},{"$f":"VLOOKUP($B259,State4!$A$10:W$14,23,FALSE)","v":0},{"$f":"MIN($D$14-$R259,S259+$D$18,$D$16)","v":1},0,{"$f":"VLOOKUP($B259,State4!$A$10:X$14,24,FALSE)","v":0},{"$f":"MIN($D$14-$R259,V259+$D$18,$D$16)","v":1},0,{"$f":"IF(P259>0,R259+U259,0)","v":0},{"$f":"IF(Q259>0,R259+X259,0)","v":0},{"$f":"IF(OR(U259>0,X259>0),IF(AND(Y259<=$D$14,Z259<=$D$14),\"YES\",\"NO\"),\"\")","v":""},{"$f":"P259*U259+Q259*X259","v":0}]
[null,"State4: Totals",{"$f":"SUM(C256:C259)","v":0},{"$f":"SUM(D256:D259)","v":0},null,null,null,null,null,null,null,null,null,{"$f":"SUM(N256:N259)","v":0},null,{"$f":"SUM(P256:P259)","v":0},{"$f":"SUM(Q256:Q259)","v":0},null,null,null,null,null,null,null,null,null,null,{"$f":"SUM(AB256:AB259)","v":0}]

{"sheet":"CAF Calc","index":6,"n_rows":19,"n_cols":16,"rows_kept":19,"cut":false,"hidden":true,"merged":[[4,9,8,9],[4,7,8,7],[14,6,14,8],[14,0,15,0],[4,8,8,8],[9,7,10,7],[9,8,10,8],[9,9,10,9],[14,14,15,14],[14,15,15,15],[14,1,15,1],[14,2,14,3],[14,9,15,9],[14,10,15,10],[14,13,15,13],[14,4,14,5],[14,12,15,12],[14,11,15,11]]}
["Filing Date:","2014-06-16"]
["Holding Company:"]
["Filing Name:"]
[]
[null,null,null,null,null,null,null,"Holding Company Eligible Recovery","Holding Company Maximum ARC Revenues","Maximum CAF ICC Support"]
["Residential Rate Ceiling: ( 51.915(b)(12) )",{"$f":"'Max. ARC Revenue Calc'!B13","v":30}]
["Maximum MLB SLC+ARC ( 51.915(e)(5)(iv) )",{"$f":"'Max. ARC Revenue Calc'!B14","v":12.2}]
["Max ARC for current year:  Res/SLB",{"$f":"'Max. ARC Revenue Calc'!B15","v":2}]
["Max ARC for current year:  MLB",{"$f":"'Max. ARC Revenue Calc'!B16","v":4}]
["Max ARC increase per year:  Res/SLB",{"$f":"'Max. ARC Revenue Calc'!B17","v":0.5},null,null,null,null,null,{"$f":"'Max. ARC Revenue Calc'!B6","v":{"$error":"#REF!"}},{"$f":"'Max. ARC Revenue Calc'!B10","v":0},{"$f":"IF(I10>H10,0,(H10-I10))","v":{"$error":"#REF!"}}]
["Max ARC increase per year:  MLB",{"$f":"'Max. ARC Revenue Calc'!B18","v":1}]
[]
[]
[]
["Study Area Names","Study Areas","Primary/Non Primary Residential/BRI",null,"SLB",null,"MLB",null,null,"Total ARC Eligible Projected Line Demand","Maximum Residential ARC Revenue Opportunity (from eligible lines)","Maximum SLB ARC Revenue Opportunity","Maximum MLB ARC Revenue Opportunity","Total Maximum ARC Revenue Opportunity ","Eligible Recovery","Maximum ARC Revenue Shortfall"]
[null,null,"All Tariff Period Projected Lines","ARC Eligible Tariff Period Projected Lines","All Tariff Period Projected Lines","ARC Eligible Tariff Period Projected Lines","All Tariff Period Projected Lines","ARC Eligible Tariff Period  Non-Centrex Projected Lines","ARC Eligible Tariff Period  Centrex Projected Lines"]
[]
[]
["Total",null,{"$f":"SUM(C17:C18)","v":0},0,0,0,0,0,0,0,0,0,0,0,0]

{"sheet":"Footnotes","index":7,"n_rows":5,"n_cols":3,"rows_kept":5,"cut":false,"hidden":false,"merged":[[4,0,4,9]]}
["Filing Date:",null,"2022-06-16"]
["Holding Company:"]
["Filing Name:"]
[]
["FOOTNOTES:"]